Workbook
Name _Diplom: Resultatmappe!$A$28:$ACN$57
Name _M_BS_1: Resultatmappe!$HB$28:$HB$57
Name _M_BS_2: Resultatmappe!$OQ$28:$OQ$57
Name _M_BS_3: Resultatmappe!$RJ$28:$RJ$57
Name _M_BS_4: Resultatmappe!$XL$28:$XL$57
Name _Spaltenindizes: Resultatmappe!$G$13:$ACN$13
Name _Stufe_Acht: Resultatmappe!$S$25
Name _Stufe_Aero: Resultatmappe!$QB$25
Name _Stufe_Ball: Resultatmappe!$CA$25
Name _Stufe_Bask: Resultatmappe!$RN$25
Name _Stufe_Bewe: Resultatmappe!$AAR$25
Name _Stufe_Bode: Resultatmappe!$HY$25
Name _Stufe_Fuss: Resultatmappe!$RZ$25
Name _Stufe_Glei: Resultatmappe!$ZK$25
Name _Stufe_Hand: Resultatmappe!$SL$25
Name _Stufe_Hoch: Resultatmappe!$BC$25
Name _Stufe_Kond: Resultatmappe!$ACB$25
Name _Stufe_Kuge: Resultatmappe!$CM$25
Name _Stufe_Para: Resultatmappe!$IQ$25
Name _Stufe_Park: Resultatmappe!$NG$25
Name _Stufe_Reck: Resultatmappe!$HP$25
Name _Stufe_Rope: Resultatmappe!$PO$25
Name _Stufe_Rump: Resultatmappe!$ABD$25
Name _Stufe_Scha: Resultatmappe!$IZ$25
Name _Stufe_Schw: Resultatmappe!$ZM$25
Name _Stufe_Sech: Resultatmappe!$G$25
Name _Stufe_Spee: Resultatmappe!$CY$25
Name _Stufe_Spru: Resultatmappe!$JI$25
Name _Stufe_Stuf: Resultatmappe!$IH$25
Name _Stufe_Tanz: Resultatmappe!$PC$25
Name _Stufe_Unih: Resultatmappe!$SX$25
Name _Stufe_Voll: Resultatmappe!$TJ$25
Name _Stufe_Weit: Resultatmappe!$BO$25
Name _Stufe_ZwölF: Resultatmappe!$AQ$25
Name _Stufe_ZwölH: Resultatmappe!$AE$25
Name _SuS: INDIRECT(Stammdaten!$BR$29)
Name BS_1_Med: INDIRECT("Diplom_BilderMed!A"&Diplom!$H$19)
Name BS_2_Med: INDIRECT("Diplom_BilderMed!A"&Diplom!$H$29)
Name BS_3_Med: INDIRECT("Diplom_BilderMed!A"&Diplom!$H$39)
Name BS_4_Med: INDIRECT("Diplom_BilderMed!A"&Diplom!$H$49)
Name FormatBeurt: INDIRECT("Diplom_BilderPok!A"&Diplom!$H$60)
Name Kanton: INDIRECT("Diplom_Kantone!A"&Diplom!$H$2)
Name Unterschrift: Diplom_Unterschrift!$A$1

Sheet Resultatmappe
A1: =Stammdaten!$B$4 -> StdJahr[StdJahrText] | C1: =Stammdaten!$E$17 -> Schulgemeinden[Schulgemeinde] | E1: =Stammdaten!$D$4 -> StdGeschlecht[StdGeschlecht] | G1: 1 | K1: {=INDEX(INDIRECT($E$4),G$3)} -> SechzigmLaufResultat[@[Eingabe]] | W1: {=INDEX(INDIRECT($E$4),S$3)} -> AchtzigmLaufResultat[@[Eingabe]] | AI1: {=INDEX(INDIRECT($E$4),AE$3)} -> ZwölfMinLaufHalleResultat[@[Eingabe]] | AU1: {=INDEX(INDIRECT($E$4),AQ$3)} -> ZwölfMinLaufimFreienResultat[@[Eingabe]] | BG1: {=INDEX(INDIRECT($E$4),BC$3)} -> HochsprungResultat[@[Eingabe]] | BS1: {=INDEX(INDIRECT($E$4),BO$3)} -> WeitsprungResultat[@[Eingabe]] | CE1: {=INDEX(INDIRECT($E$4),CA$3)} -> BallwurfResultat[@[Eingabe]] | CQ1: {=INDEX(INDIRECT($E$4),CM$3)} -> KugelstossenResultat[@[Eingabe]] | DC1: {=INDEX(INDIRECT($E$4),CY$3)} -> SpeerwurfResultat[@[Eingabe]] | DS1: =Stammdaten!$BV$4 -> StdGruppe[AnzGeforderteDiszGruppe] | EN1: =Stammdaten!$BV$4 -> StdGruppe[AnzGeforderteDiszGruppe] | FI1: =Stammdaten!$BV$4 -> StdGruppe[AnzGeforderteDiszGruppe] | GF1: =Stammdaten!$BV$4 -> StdGruppe[AnzGeforderteDiszGruppe] | GZ1: =Stammdaten!$BQ$4 -> StdBS[AnzGeforderteDiszBS] | HA1: =Stammdaten!$BS$4 -> StdBS[RundungDurchschnitt] | HB1: =Diplom_Werte!$H$3 -> AuswDipl1[Position] | HP1: 2 | JR1: =Stammdaten!$X$4 -> StdDisziplinen[StdTabResRes] | JS1: =Stammdaten!$X$4 -> StdDisziplinen[StdTabResRes] | JT1: =Stammdaten!$X$4 -> StdDisziplinen[StdTabResRes] | JU1: =Stammdaten!$X$4 -> StdDisziplinen[StdTabResRes] | JV1: =Stammdaten!$X$4 -> StdDisziplinen[StdTabResRes] | JW1: =Stammdaten!$X$4 -> StdDisziplinen[StdTabResRes] | KP1: =Stammdaten!$W$4 -> StdDisziplinen[StdTabResEin] | KQ1: =Stammdaten!$W$4 -> StdDisziplinen[StdTabResEin] | KR1: =Stammdaten!$W$4 -> StdDisziplinen[StdTabResEin] | KS1: =Stammdaten!$W$4 -> StdDisziplinen[StdTabResEin] | KT1: =Stammdaten!$W$4 -> StdDisziplinen[StdTabResEin] | KU1: =Stammdaten!$W$4 -> StdDisziplinen[StdTabResEin] | KV1: =Stammdaten!$X$4 -> StdDisziplinen[StdTabResRes] | KW1: =Stammdaten!$X$4 -> StdDisziplinen[StdTabResRes] | KX1: =Stammdaten!$X$4 -> StdDisziplinen[StdTabResRes] | KY1: =Stammdaten!$X$4 -> StdDisziplinen[StdTabResRes] | KZ1: =Stammdaten!$X$4 -> StdDisziplinen[StdTabResRes] | LA1: =Stammdaten!$X$4 -> StdDisziplinen[StdTabResRes] | MV1: =Stammdaten!$BV$4 -> StdGruppe[AnzGeforderteDiszGruppe] | NL1: {=INDEX(INDIRECT($E$4),NG$3)} -> ParkourResultat[@[Eingabe]] | OO1: =Stammdaten!$BQ$4 -> StdBS[AnzGeforderteDiszBS] | OP1: =Stammdaten!$BS$4 -> StdBS[RundungDurchschnitt] | OQ1: =Diplom_Werte!$M$3 -> AuswDipl2[Position] | PC1: 3 | PG1: {=INDEX(INDIRECT($E$4),PC$3)} -> TanzenResultat[@[Eingabe]] | PT1: {=INDEX(INDIRECT($E$4),PO$3)} -> RopeSkippingResultat[@[Eingabe]] | QF1: {=INDEX(INDIRECT($E$4),QB$3)} -> AerobicResultat[@[Eingabe]] | QW1: =Stammdaten!$BV$4 -> StdGruppe[AnzGeforderteDiszGruppe] | RJ1: =Diplom_Werte!$R$3 -> AuswDipl3[Position] | RN1: 4 | RR1: {=INDEX(INDIRECT($E$4),RN$3)} -> BasketballResultat[@[Eingabe]] | SD1: {=INDEX(INDIRECT($E$4),RZ$3)} -> FussballResultat[@[Eingabe]] | SP1: {=INDEX(INDIRECT($E$4),SL$3)} -> HandballResultat[@[Eingabe]] | TB1: {=INDEX(INDIRECT($E$4),SX$3)} -> UnihockeyResultat[@[Eingabe]] | TO1: {=INDEX(INDIRECT($E$4),TJ$3)} -> VolleyballResultat[@[Eingabe]] | TW1: =Stammdaten!$AD$4 -> StdDisziplinen[TabÜberschriftDurchschnitt] | TX1: =Stammdaten!$AD$4 -> StdDisziplinen[TabÜberschriftDurchschnitt] | TY1: =Stammdaten!$AD$4 -> StdDisziplinen[TabÜberschriftDurchschnitt] | TZ1: =Stammdaten!$AD$4 -> StdDisziplinen[TabÜberschriftDurchschnitt] | UA1: =Stammdaten!$AD$4 -> StdDisziplinen[TabÜberschriftDurchschnitt] | UT1: =Stammdaten!$W$4 -> StdDisziplinen[StdTabResEin] | UU1: =Stammdaten!$W$4 -> StdDisziplinen[StdTabResEin] | UV1: =Stammdaten!$W$4 -> StdDisziplinen[StdTabResEin] | UW1: =Stammdaten!$W$4 -> StdDisziplinen[StdTabResEin] | UX1: =Stammdaten!$W$4 -> StdDisziplinen[StdTabResEin] | UY1: =Stammdaten!$X$4 -> StdDisziplinen[StdTabResRes] | UZ1: =Stammdaten!$X$4 -> StdDisziplinen[StdTabResRes] | VA1: =Stammdaten!$X$4 -> StdDisziplinen[StdTabResRes] | VB1: =Stammdaten!$X$4 -> StdDisziplinen[StdTabResRes] | VC1: =Stammdaten!$X$4 -> StdDisziplinen[StdTabResRes] | XJ1: =Stammdaten!$BQ$4 -> StdBS[AnzGeforderteDiszBS] | XK1: =Stammdaten!$BS$4 -> StdBS[RundungDurchschnitt] | XL1: =Diplom_Werte!$W$3 -> AuswDipl4[Position] | YF1: =Stammdaten!$BQ$4 -> StdBS[AnzGeforderteDiszBS] | ZH1: 5 | ZJ1: =Stammdaten!$BZ$5 -> Disziplin | ZM1: 6 | ZW1: {=INDEX(INDIRECT($E$4),ZM$3)} -> SchwimmenResultatMin[@[Min]] | ZX1: =REPLACE($ZW$1,FIND("@",$ZW$1,1)-4,3,"Sek") -> SchwimmenResultatSek[@[Min]] | AAF1: 1 | AAW1: {=INDEX(INDIRECT($E$4),AAR$3)} -> BeweglichkeitResultat[@[Eingabe]] | ABI1: {=INDEX(INDIRECT($E$4),ABD$3)} -> RumpfkraftResultat[@[Eingabe]] | ACG1: {=INDEX(INDIRECT($E$4),ACB$3)} -> KonditionsparcoursResultat[@[Eingabe]]
A2: =Stammdaten!$BZ$2 -> D | B2: =Stammdaten!$BC$4 -> StdDisziplinen[BedRes] | C2: =Stammdaten!$AO$4 -> StdDisziplinen[Rundung_Stellen] | E2: =Stammdaten!$AP$4 -> StdDisziplinen[Rundung_Aufrunden] | G2: 1 | K2: {=INDEX(INDIRECT($E$5),G$3)} -> SechzigmLaufResultat[@[Resultat]] | W2: {=INDEX(INDIRECT($E$5),S$3)} -> AchtzigmLaufResultat[@[Resultat]] | AE2: 2 | AI2: {=INDEX(INDIRECT($E$5),AE$3)} -> ZwölfMinLaufHalleResultat[@[Resultat]] | AU2: {=INDEX(INDIRECT($E$5),AQ$3)} -> ZwölfMinLaufimFreienResultat[@[Resultat]] | BC2: 3 | BG2: {=INDEX(INDIRECT($E$5),BC$3)} -> HochsprungResultat[@[Resultat]] | BS2: {=INDEX(INDIRECT($E$5),BO$3)} -> WeitsprungResultat[@[Resultat]] | CA2: 4 | CE2: {=INDEX(INDIRECT($E$5),CA$3)} -> BallwurfResultat[@[Resultat]] | CQ2: {=INDEX(INDIRECT($E$5),CM$3)} -> KugelstossenResultat[@[Resultat]] | DC2: {=INDEX(INDIRECT($E$5),CY$3)} -> SpeerwurfResultat[@[Resultat]] | DK2: =G$2 -> 1 | EF2: =AE$2 -> 2 | FA2: =BC$2 -> 3 | FV2: =CA$2 -> 4 | HB2: =Diplom_Werte!$F$3 -> AuswDipl1[BS_11] | HP2: 5 | JR2: =Stammdaten!$R$4 -> StdDisziplinen[StdDisziplin] | JS2: =Stammdaten!$R$4 -> StdDisziplinen[StdDisziplin] | JT2: =Stammdaten!$R$4 -> StdDisziplinen[StdDisziplin] | JU2: =Stammdaten!$R$4 -> StdDisziplinen[StdDisziplin] | JV2: =Stammdaten!$R$4 -> StdDisziplinen[StdDisziplin] | JW2: =Stammdaten!$R$4 -> StdDisziplinen[StdDisziplin] | KP2: =$HP$3 -> 10 | KQ2: =$HY$3 -> 11 | KR2: =$IH$3 -> 12 | KS2: =$IQ$3 -> 13 | KT2: =$IZ$3 -> 14 | KU2: =$JI$3 -> 15 | KV2: =$HP$3 -> 10 | KW2: =$HY$3 -> 11 | KX2: =$IH$3 -> 12 | KY2: =$IQ$3 -> 13 | KZ2: =$IZ$3 -> 14 | LA2: =$JI$3 -> 15 | NL2: {=INDEX(INDIRECT($E$5),NG$3)} -> ParkourResultat[@[Resultat]] | NT2: =$HP$1 -> 2 | OQ2: =Diplom_Werte!$K$3 -> AuswDipl2[BS_21] | PG2: {=INDEX(INDIRECT($E$5),PC$3)} -> TanzenResultat[@[Resultat]] | PT2: {=INDEX(INDIRECT($E$5),PO$3)} -> RopeSkippingResultat[@[Resultat]] | QF2: {=INDEX(INDIRECT($E$5),QB$3)} -> AerobicResultat[@[Resultat]] | QN2: =$PC$1 -> 3 | RJ2: =Diplom_Werte!$P$3 -> AuswDipl3[BS_31] | RR2: {=INDEX(INDIRECT($E$5),RN$3)} -> BasketballResultat[@[Resultat]] | SD2: {=INDEX(INDIRECT($E$5),RZ$3)} -> FussballResultat[@[Resultat]] | SP2: {=INDEX(INDIRECT($E$5),SL$3)} -> HandballResultat[@[Resultat]] | TB2: {=INDEX(INDIRECT($E$5),SX$3)} -> UnihockeyResultat[@[Resultat]] | TO2: {=INDEX(INDIRECT($E$5),TJ$3)} -> VolleyballResultat[@[Resultat]] | TW2: =Stammdaten!$R$4 -> StdDisziplinen[StdDisziplin] | TX2: =Stammdaten!$R$4 -> StdDisziplinen[StdDisziplin] | TY2: =Stammdaten!$R$4 -> StdDisziplinen[StdDisziplin] | TZ2: =Stammdaten!$R$4 -> StdDisziplinen[StdDisziplin] | UA2: =Stammdaten!$R$4 -> StdDisziplinen[StdDisziplin] | UT2: =$RN$3 -> 20 | UU2: =$RZ$3 -> 21 | UV2: =$SL$3 -> 22 | UW2: =$SX$3 -> 23 | UX2: =$TJ$3 -> 24 | UY2: =$RN$3 -> 20 | UZ2: =$RZ$3 -> 21 | VA2: =$SL$3 -> 22 | VB2: =$SX$3 -> 23 | VC2: =$TJ$3 -> 24 | WT2: =$RN$1 -> 4 | XL2: =Diplom_Werte!$U$3 -> AuswDipl4[BS_41] | ZW2: {=INDEX(INDIRECT($E$5),ZM$3)} -> SchwimmenResultatMin[@[Resultat]] | ZX2: =REPLACE($ZW$2,FIND("@",$ZW$2,1)-4,3,"Sek") -> SchwimmenResultatSek[@[Resultat]] | AAF2: 3 | AAR2: 27 | AAW2: {=INDEX(INDIRECT($E$5),AAR$3)} -> BeweglichkeitResultat[@[Resultat]] | ABD2: 28 | ABI2: {=INDEX(INDIRECT($E$5),ABD$3)} -> RumpfkraftResultat[@[Resultat]] | ABP2: 1 | ACG2: {=INDEX(INDIRECT($E$5),ACB$3)} -> KonditionsparcoursResultat[@[Resultat]]
A3: =Stammdaten!$BZ$3 -> Dispensiert | B3: =Stammdaten!$AR$4 -> StdDisziplinen[StufeMax] | C3: =Stammdaten!$AM$4 -> StdDisziplinen[Maximalwert_Text] | E3: =Stammdaten!$AK$4 -> StdDisziplinen[Maximalwert_OS1] | G3: 1 | K3: {=INDEX(INDIRECT(Stammdaten!$Z$4),G$3)} -> SechzigmLaufGerundet[@[Rundung]] | Q3: {=INDEX(INDIRECT($B$3),G$3)} -> _Stufe_Sech | S3: 2 | W3: {=INDEX(INDIRECT(Stammdaten!$Z$4),S$3)} -> AchtzigmLaufGerundet[@[Rundung]] | AC3: {=INDEX(INDIRECT($B$3),S$3)} -> _Stufe_Acht | AE3: 3 | AI3: {=INDEX(INDIRECT(Stammdaten!$Z$4),AE$3)} -> ZwölfMinLaufHalleGerundet[@[Rundung]] | AO3: {=INDEX(INDIRECT($B$3),AE$3)} -> _Stufe_ZwölH | AQ3: 4 | AU3: {=INDEX(INDIRECT(Stammdaten!$Z$4),AQ$3)} -> ZwölfMinLaufimFreienGerundet[@[Rundung]] | BA3: {=INDEX(INDIRECT($B$3),AQ$3)} -> _Stufe_ZwölF | BC3: 5 | BG3: {=INDEX(INDIRECT(Stammdaten!$Z$4),BC$3)} -> HochsprungGerundet[@[Rundung]] | BM3: {=INDEX(INDIRECT($B$3),BC$3)} -> _Stufe_Hoch | BO3: 6 | BS3: {=INDEX(INDIRECT(Stammdaten!$Z$4),BO$3)} -> WeitsprungGerundet[@[Rundung]] | BY3: {=INDEX(INDIRECT($B$3),BO$3)} -> _Stufe_Weit | CA3: 7 | CE3: {=INDEX(INDIRECT(Stammdaten!$Z$4),CA$3)} -> BallwurfGerundet[@[Rundung]] | CK3: {=INDEX(INDIRECT($B$3),CA$3)} -> _Stufe_Ball | CM3: 8 | CQ3: {=INDEX(INDIRECT(Stammdaten!$Z$4),CM$3)} -> KugelstossenGerundet[@[Rundung]] | CW3: {=INDEX(INDIRECT($B$3),CM$3)} -> _Stufe_Kuge | CY3: 9 | DC3: {=INDEX(INDIRECT(Stammdaten!$Z$4),CY$3)} -> SpeerwurfGerundet[@[Rundung]] | DI3: {=INDEX(INDIRECT($B$3),CY$3)} -> _Stufe_Spee | HP3: 10 | HW3: {=INDEX(INDIRECT($B$3),HP$3)} -> _Stufe_Reck | HY3: 11 | IF3: {=INDEX(INDIRECT($B$3),HY$3)} -> _Stufe_Bode | IH3: 12 | IO3: {=INDEX(INDIRECT($B$3),IH$3)} -> _Stufe_Stuf | IQ3: 13 | IX3: {=INDEX(INDIRECT($B$3),IQ$3)} -> _Stufe_Para | IZ3: 14 | JG3: {=INDEX(INDIRECT($B$3),IZ$3)} -> _Stufe_Scha | JI3: 15 | JP3: {=INDEX(INDIRECT($B$3),JI$3)} -> _Stufe_Spru | JR3: {=INDEX(INDIRECT(JR$1),JR$4)} -> ReckResultat[@[Resultat]] | JS3: {=INDEX(INDIRECT(JS$1),JS$4)} -> BodenResultat[@[Resultat]] | JT3: {=INDEX(INDIRECT(JT$1),JT$4)} -> StufenbarrenResultat[@[Resultat]] | JU3: {=INDEX(INDIRECT(JU$1),JU$4)} -> ParallelbarrenResultat[@[Resultat]] | JV3: {=INDEX(INDIRECT(JV$1),JV$4)} -> SchaukelringeResultat[@[Resultat]] | JW3: {=INDEX(INDIRECT(JW$1),JW$4)} -> SprungResultat[@[Resultat]] | KP3: {=INDEX(INDIRECT(KP$1),KP$2)} -> ReckResultat[@[Eingabe]] | KQ3: {=INDEX(INDIRECT(KQ$1),KQ$2)} -> BodenResultat[@[Eingabe]] | KR3: {=INDEX(INDIRECT(KR$1),KR$2)} -> StufenbarrenResultat[@[Eingabe]] | KS3: {=INDEX(INDIRECT(KS$1),KS$2)} -> ParallelbarrenResultat[@[Eingabe]] | KT3: {=INDEX(INDIRECT(KT$1),KT$2)} -> SchaukelringeResultat[@[Eingabe]] | KU3: {=INDEX(INDIRECT(KU$1),KU$2)} -> SprungResultat[@[Eingabe]] | KV3: {=INDEX(INDIRECT(KV$1),KV$2)} -> ReckResultat[@[Resultat]] | KW3: {=INDEX(INDIRECT(KW$1),KW$2)} -> BodenResultat[@[Resultat]] | ... LA3: {=INDEX(INDIRECT(LA$1),LA$2)} -> SprungResultat[@[Resultat]] | MW3: =Stammdaten!$L$41 -> 36 | MY3: {=INDEX(INDIRECT(Stammdaten!$Z$4),MW$3)} -> GeräteturnenGerundet[@[Rundung]] | NG3: 16 | NL3: {=INDEX(INDIRECT(Stammdaten!$Z$4),NG$3)} -> ParkourGerundet[@[Rundung]] | NR3: {=INDEX(INDIRECT($B$3),NG$3)} -> _Stufe_Park | PC3: 17 | PG3: {=INDEX(INDIRECT(Stammdaten!$Z$4),PC$3)} -> TanzenGerundet[@[Rundung]] | PM3: {=INDEX(INDIRECT($B$3),PC$3)} -> _Stufe_Tanz | PO3: 18 | PT3: {=INDEX(INDIRECT(Stammdaten!$Z$4),PO$3)} -> RopeSkippingGerundet[@[Rundung]] | PZ3: {=INDEX(INDIRECT($B$3),PO$3)} -> _Stufe_Rope | QB3: 19 | QF3: {=INDEX(INDIRECT(Stammdaten!$Z$4),QB$3)} -> AerobicGerundet[@[Rundung]] | QL3: {=INDEX(INDIRECT($B$3),QB$3)} -> _Stufe_Aero | RN3: 20 | RR3: {=INDEX(INDIRECT(Stammdaten!$Z$4),RN$3)} -> BasketballGerundet[@[Rundung]] | RX3: {=INDEX(INDIRECT($B$3),RN$3)} -> _Stufe_Bask | RZ3: 21 | SD3: {=INDEX(INDIRECT(Stammdaten!$Z$4),RZ$3)} -> FussballGerundet[@[Rundung]] | SJ3: {=INDEX(INDIRECT($B$3),RZ$3)} -> _Stufe_Fuss | SL3: 22 | SP3: {=INDEX(INDIRECT(Stammdaten!$Z$4),SL$3)} -> HandballGerundet[@[Rundung]] | SV3: {=INDEX(INDIRECT($B$3),SL$3)} -> _Stufe_Hand | SX3: 23 | TB3: {=INDEX(INDIRECT(Stammdaten!$Z$4),SX$3)} -> UnihockeyGerundet[@[Rundung]] | TH3: {=INDEX(INDIRECT($B$3),SX$3)} -> _Stufe_Unih | TJ3: 24 | TO3: {=INDEX(INDIRECT(Stammdaten!$Z$4),TJ$3)} -> VolleyballGerundet[@[Rundung]] | TU3: {=INDEX(INDIRECT($B$3),TJ$3)} -> _Stufe_Voll | TW3: {=INDEX(INDIRECT(TW$1),TW$4)} -> BasketballNote[@[Note]] | TX3: {=INDEX(INDIRECT(TX$1),TX$4)} -> FussballNote[@[Note]] | TY3: {=INDEX(INDIRECT(TY$1),TY$4)} -> HandballNote[@[Note]] | TZ3: {=INDEX(INDIRECT(TZ$1),TZ$4)} -> UnihockeyNote[@[Note]] | UA3: {=INDEX(INDIRECT(UA$1),UA$4)} -> VolleyballNote[@[Note]] | UT3: {=INDEX(INDIRECT(UT$1),UT$2)} -> BasketballResultat[@[Eingabe]] | UU3: {=INDEX(INDIRECT(UU$1),UU$2)} -> FussballResultat[@[Eingabe]] | UV3: {=INDEX(INDIRECT(UV$1),UV$2)} -> HandballResultat[@[Eingabe]] | UW3: {=INDEX(INDIRECT(UW$1),UW$2)} -> UnihockeyResultat[@[Eingabe]] | UX3: {=INDEX(INDIRECT(UX$1),UX$2)} -> VolleyballResultat[@[Eingabe]] | UY3: {=INDEX(INDIRECT(UY$1),UY$2)} -> BasketballResultat[@[Resultat]] | UZ3: {=INDEX(INDIRECT(UZ$1),UZ$2)} -> FussballResultat[@[Resultat]] | VA3: {=INDEX(INDIRECT(VA$1),VA$2)} -> HandballResultat[@[Resultat]] | ... VC3: {=INDEX(INDIRECT(VC$1),VC$2)} -> VolleyballResultat[@[Resultat]] | ZH3: 25 | ZM3: 26 | ZW3: {=INDEX(INDIRECT(Stammdaten!$Z$4),ZM$3)} -> SchwimmenUmgerechnet[@[Umrechnung]] | AAF3: 3 | AAL3: 4 | AAR3: =AAR2 -> 27 | AAW3: {=INDEX(INDIRECT(Stammdaten!$Z$4),AAR$3)} -> BeweglichkeitGerundet[@[Rundung]] | ABB3: {=INDEX(INDIRECT($B$3),AAR$3)} -> _Stufe_Bewe | ABD3: 28 | ABI3: {=INDEX(INDIRECT(Stammdaten!$Z$4),ABD$3)} -> RumpfkraftGerundet[@[Rundung]] | ABP3: 1 | ABV3: 2 | ACB3: 29 | ACG3: {=INDEX(INDIRECT(Stammdaten!$Z$4),ACB$3)} -> KonditionsparcoursGerundet[@[Rundung]] | ACM3: {=INDEX(INDIRECT($B$3),ACB$3)} -> _Stufe_Kond | ACN3: =ACB3+1 -> 30
B4: =Stammdaten!$R$4 -> StdDisziplinen[StdDisziplin] | C4: =Stammdaten!$AD$4 -> StdDisziplinen[TabÜberschriftDurchschnitt] | E4: =Stammdaten!$W$4 -> StdDisziplinen[StdTabResEin] | K4: {=INDEX(INDIRECT(Stammdaten!$AA$4),G$3)} -> SechzigmLauf_X[Resultat] | Q4: {=LEFT(INDIRECT(Q$3),1)} -> 2 | W4: {=INDEX(INDIRECT(Stammdaten!$AA$4),S$3)} -> AchtzigmLauf_X[Resultat] | AC4: {=LEFT(INDIRECT(AC$3),1)} -> 2 | AI4: {=INDEX(INDIRECT(Stammdaten!$AA$4),AE$3)} -> ZwölfMinLaufHalle_X[Resultat] | AO4: {=LEFT(INDIRECT(AO$3),1)} -> 2 | AU4: {=INDEX(INDIRECT(Stammdaten!$AA$4),AQ$3)} -> ZwölfMinLaufimFreien_X[Resultat] | BA4: {=LEFT(INDIRECT(BA$3),1)} -> 2 | BG4: {=INDEX(INDIRECT(Stammdaten!$AA$4),BC$3)} -> Hochsprung_X[Resultat] | BM4: {=LEFT(INDIRECT(BM$3),1)} -> 2 | BS4: {=INDEX(INDIRECT(Stammdaten!$AA$4),BO$3)} -> Weitsprung_X[Resultat] | BY4: {=LEFT(INDIRECT(BY$3),1)} -> 2 | CE4: {=INDEX(INDIRECT(Stammdaten!$AA$4),CA$3)} -> Ballwurf_X[Resultat] | CK4: {=LEFT(INDIRECT(CK$3),1)} -> 2 | CQ4: {=INDEX(INDIRECT(Stammdaten!$AA$4),CM$3)} -> Kugelstossen_X[Resultat] | CW4: {=LEFT(INDIRECT(CW$3),1)} -> 2 | DC4: {=INDEX(INDIRECT(Stammdaten!$AA$4),CY$3)} -> Speerwurf_X[Resultat] | DI4: {=LEFT(INDIRECT(DI$3),1)} -> 2 | DK4: =G$3 -> 1 | DL4: =S$3 -> 2 | DM4: =DK$4 -> 1 | DN4: =DL$4 -> 2 | DO4: =DK$17&Stammdaten!$BZ$4 -> Sprintdisziplinen nicht durchgeführt | DU4: =$B$4 -> StdDisziplinen[StdDisziplin] | DV4: =$B$4 -> StdDisziplinen[StdDisziplin] | DW4: =$B$4 -> StdDisziplinen[StdDisziplin] | DZ4: =$B$4 -> StdDisziplinen[StdDisziplin] | EB4: =$B$4 -> StdDisziplinen[StdDisziplin] | EF4: =AE$3 -> 3 | EG4: =AQ$3 -> 4 | EH4: =EF$4 -> 3 | EI4: =EG$4 -> 4 | EJ4: =EF$17&Stammdaten!$BZ$4 -> Ausdauerdisziplinen nicht durchgeführt | EP4: =$B$4 -> StdDisziplinen[StdDisziplin] | EQ4: =$B$4 -> StdDisziplinen[StdDisziplin] | ER4: =$B$4 -> StdDisziplinen[StdDisziplin] | EU4: =$B$4 -> StdDisziplinen[StdDisziplin] | EW4: =$B$4 -> StdDisziplinen[StdDisziplin] | FA4: =BC$3 -> 5 | FB4: =BO$3 -> 6 | FC4: =FA$4 -> 5 | FD4: =FB$4 -> 6 | FE4: =FA$17&Stammdaten!$BZ$4 -> Sprungdisziplinen nicht durchgeführt | FK4: =$B$4 -> StdDisziplinen[StdDisziplin] | FL4: =$B$4 -> StdDisziplinen[StdDisziplin] | FM4: =$B$4 -> StdDisziplinen[StdDisziplin] | FP4: =$B$4 -> StdDisziplinen[StdDisziplin] | FR4: =$B$4 -> StdDisziplinen[StdDisziplin] | FV4: =CA$3 -> 7 | FW4: =CM$3 -> 8 | FX4: =CY$3 -> 9 | FY4: =FV$4 -> 7 | FZ4: =FW$4 -> 8 | GA4: =FX$4 -> 9 | GB4: =FV$17&Stammdaten!$BZ$4 -> Wurfdisziplinen nicht durchgeführt | GH4: =$B$4 -> StdDisziplinen[StdDisziplin] | GI4: =$B$4 -> StdDisziplinen[StdDisziplin] | GJ4: =$B$4 -> StdDisziplinen[StdDisziplin] | GM4: =$B$4 -> StdDisziplinen[StdDisziplin] | GO4: =$B$4 -> StdDisziplinen[StdDisziplin] | HW4: {=LEFT(INDIRECT(HW$3),1)} -> 2 | IF4: {=LEFT(INDIRECT(IF$3),1)} -> 2 | IO4: {=LEFT(INDIRECT(IO$3),1)} -> 2 | IX4: {=LEFT(INDIRECT(IX$3),1)} -> 2 | JG4: {=LEFT(INDIRECT(JG$3),1)} -> 2 | JP4: {=LEFT(INDIRECT(JP$3),1)} -> 2 | JR4: =$HP$3 -> 10 | JS4: =$HY$3 -> 11 | JT4: =$IH$3 -> 12 | JU4: =$IQ$3 -> 13 | JV4: =$IZ$3 -> 14 | JW4: =$JI$3 -> 15 | KP4: =Stammdaten!$R$4 -> StdDisziplinen[StdDisziplin] | KQ4: =Stammdaten!$R$4 -> StdDisziplinen[StdDisziplin] | KR4: =Stammdaten!$R$4 -> StdDisziplinen[StdDisziplin] | KS4: =Stammdaten!$R$4 -> StdDisziplinen[StdDisziplin] | KT4: =Stammdaten!$R$4 -> StdDisziplinen[StdDisziplin] | KU4: =Stammdaten!$R$4 -> StdDisziplinen[StdDisziplin] | KV4: =Stammdaten!$R$4 -> StdDisziplinen[StdDisziplin] | KW4: =Stammdaten!$R$4 -> StdDisziplinen[StdDisziplin] | ... LA4: =Stammdaten!$R$4 -> StdDisziplinen[StdDisziplin] | LI4: =$B$4 -> StdDisziplinen[StdDisziplin] | LJ4: =$B$4 -> StdDisziplinen[StdDisziplin] | LK4: =$B$4 -> StdDisziplinen[StdDisziplin] | LN4: =$B$4 -> StdDisziplinen[StdDisziplin] | LP4: =$B$4 -> StdDisziplinen[StdDisziplin] | LU4: =$B$4 -> StdDisziplinen[StdDisziplin] | LV4: =$B$4 -> StdDisziplinen[StdDisziplin] | LW4: =$B$4 -> StdDisziplinen[StdDisziplin] | LZ4: =$B$4 -> StdDisziplinen[StdDisziplin] | MB4: =$B$4 -> StdDisziplinen[StdDisziplin] | MG4: =$B$4 -> StdDisziplinen[StdDisziplin] | MH4: =$B$4 -> StdDisziplinen[StdDisziplin] | MI4: =$B$4 -> StdDisziplinen[StdDisziplin] | ML4: =$B$4 -> StdDisziplinen[StdDisziplin] | MN4: =$B$4 -> StdDisziplinen[StdDisziplin] | MY4: {=INDEX(INDIRECT(Stammdaten!$AA$4),MW$3)} -> Geräteturnen_X[Resultat] | NL4: {=INDEX(INDIRECT(Stammdaten!$AA$4),NG$3)} -> Parkour_X[Resultat] | NR4: {=LEFT(INDIRECT(NR$3),1)} -> 2 | NT4: =MW$3 -> 36 | NU4: =NG$3 -> 16 | NV4: =NT$4 -> 36 | NW4: =NU$4 -> 16 | NX4: =$NX$17&Stammdaten!$BZ$4 -> Parkour nicht durchgeführt | NY4: =$B$4 -> StdDisziplinen[StdDisziplin] | NZ4: =$B$4 -> StdDisziplinen[StdDisziplin] | OA4: =$B$4 -> StdDisziplinen[StdDisziplin] | OD4: =$B$4 -> StdDisziplinen[StdDisziplin] | OF4: =$B$4 -> StdDisziplinen[StdDisziplin] | PG4: {=INDEX(INDIRECT(Stammdaten!$AA$4),PC$3)} -> Tanzen_X[Resultat] | PM4: {=LEFT(INDIRECT(PM$3),1)} -> 2 | PT4: {=INDEX(INDIRECT(Stammdaten!$AA$4),PO$3)} -> RopeSkipping_X[Resultat] | PZ4: {=LEFT(INDIRECT(PZ$3),1)} -> 2 | QF4: {=INDEX(INDIRECT(Stammdaten!$AA$4),QB$3)} -> Aerobic_X[Resultat] | QL4: {=LEFT(INDIRECT(QL$3),1)} -> 2 | QN4: =PC$3 -> 17 | QO4: =PO$3 -> 18 | QP4: =QB$3 -> 19 | QQ4: =QN$4 -> 17 | QR4: =QO$4 -> 18 | QS4: =QP$4 -> 19 | QT4: =QN$17&Stammdaten!$BZ$4 -> Darstellen und Tanzen nicht durchgeführt | QY4: =$B$4 -> StdDisziplinen[StdDisziplin] | QZ4: =$B$4 -> StdDisziplinen[StdDisziplin] | RA4: =$B$4 -> StdDisziplinen[StdDisziplin] | RD4: =$B$4 -> StdDisziplinen[StdDisziplin] | RF4: =$B$4 -> StdDisziplinen[StdDisziplin] | RR4: {=INDEX(INDIRECT(Stammdaten!$AA$4),RN$3)} -> Basketball_X[Resultat] | RX4: {=LEFT(INDIRECT(RX$3),1)} -> 2 | SD4: {=INDEX(INDIRECT(Stammdaten!$AA$4),RZ$3)} -> Fussball_X[Resultat] | SJ4: {=LEFT(INDIRECT(SJ$3),1)} -> 2 | SP4: {=INDEX(INDIRECT(Stammdaten!$AA$4),SL$3)} -> Handball_X[Resultat] | SV4: {=LEFT(INDIRECT(SV$3),1)} -> 2 | TB4: {=INDEX(INDIRECT(Stammdaten!$AA$4),SX$3)} -> Unihockey_X[Resultat] | TH4: {=LEFT(INDIRECT(TH$3),1)} -> 2 | TO4: {=INDEX(INDIRECT(Stammdaten!$AA$4),TJ$3)} -> Volleyball_X[Resultat] | TU4: {=LEFT(INDIRECT(TU$3),1)} -> 2 | TW4: =$RN$3 -> 20 | TX4: =$RZ$3 -> 21 | TY4: =$SL$3 -> 22 | TZ4: =$SX$3 -> 23 | UA4: =$TJ$3 -> 24 | UT4: =Stammdaten!$R$4 -> StdDisziplinen[StdDisziplin] | UU4: =Stammdaten!$R$4 -> StdDisziplinen[StdDisziplin] | UV4: =Stammdaten!$R$4 -> StdDisziplinen[StdDisziplin] | UW4: =Stammdaten!$R$4 -> StdDisziplinen[StdDisziplin] | UX4: =Stammdaten!$R$4 -> StdDisziplinen[StdDisziplin] | UY4: =Stammdaten!$R$4 -> StdDisziplinen[StdDisziplin] | UZ4: =Stammdaten!$R$4 -> StdDisziplinen[StdDisziplin] | VA4: =Stammdaten!$R$4 -> StdDisziplinen[StdDisziplin] | ... VC4: =Stammdaten!$R$4 -> StdDisziplinen[StdDisziplin] | VK4: =$B$4 -> StdDisziplinen[StdDisziplin] | VL4: =$B$4 -> StdDisziplinen[StdDisziplin] | VM4: =$B$4 -> StdDisziplinen[StdDisziplin] | VP4: =$B$4 -> StdDisziplinen[StdDisziplin] | VR4: =$B$4 -> StdDisziplinen[StdDisziplin] | VW4: =$B$4 -> StdDisziplinen[StdDisziplin] | VX4: =$B$4 -> StdDisziplinen[StdDisziplin] | VY4: =$B$4 -> StdDisziplinen[StdDisziplin] | WB4: =$B$4 -> StdDisziplinen[StdDisziplin] | WD4: =$B$4 -> StdDisziplinen[StdDisziplin] | WI4: =$B$4 -> StdDisziplinen[StdDisziplin] | WJ4: =$B$4 -> StdDisziplinen[StdDisziplin] | WK4: =$B$4 -> StdDisziplinen[StdDisziplin] | WN4: =$B$4 -> StdDisziplinen[StdDisziplin] | WP4: =$B$4 -> StdDisziplinen[StdDisziplin] | WT4: =RN$3 -> 20 | WU4: =RZ$3 -> 21 | WV4: =SL$3 -> 22 | WW4: =SX$3 -> 23 | WX4: =TJ$3 -> 24 | WY4: =WT$4 -> 20 | WZ4: =WU$4 -> 21 | XA4: =WV$4 -> 22 | XB4: =WW$4 -> 23 | XC4: =WX$4 -> 24 | ZJ4: =$ZH$27 -> Disziplin | ZW4: {=INDEX(INDIRECT(Stammdaten!$AA$4),ZM$3)} -> Schwimmen_X[Resultat] | AAW4: {=INDEX(INDIRECT(Stammdaten!$AA$4),AAR$3)} -> Beweglichkeit_X[Resultat] | ABB4: {=LEFT(INDIRECT(ABB$3),1)} -> 2 | ABI4: {=INDEX(INDIRECT(Stammdaten!$AA$4),ABD$3)} -> Rumpfkraft_X[Resultat] | ACG4: {=INDEX(INDIRECT(Stammdaten!$AA$4),ACB$3)} -> Konditionsparcours_X[Resultat] | ACM4: {=LEFT(INDIRECT(ACM$3),1)} -> 2
B5: =Stammdaten!$AZ$4 -> StdDisziplinen[R-A_Code] | C5: =Stammdaten!$AH$4 -> StdDisziplinen[Bewertung2] | E5: =Stammdaten!$X$4 -> StdDisziplinen[StdTabResRes] | K5: {=INDEX(INDIRECT($E$6),G$3)} -> SechzigmLaufSkalawert[@[Skala-Wert]] | W5: {=INDEX(INDIRECT($E$6),S$3)} -> AchtzigmLaufSkalawert[@[Skala-Wert]] | AI5: {=INDEX(INDIRECT($E$6),AE$3)} -> ZwölfMinLaufHalleSkalawert[@[Skala-Wert]] | AU5: {=INDEX(INDIRECT($E$6),AQ$3)} -> ZwölfMinLaufimFreienSkalawert[@[Skala-Wert]] | BG5: {=INDEX(INDIRECT($E$6),BC$3)} -> HochsprungSkalawert[@[Skala-Wert]] | BS5: {=INDEX(INDIRECT($E$6),BO$3)} -> WeitsprungSkalawert[@[Skala-Wert]] | CE5: {=INDEX(INDIRECT($E$6),CA$3)} -> BallwurfSkalawert[@[Skala-Wert]] | CQ5: {=INDEX(INDIRECT($E$6),CM$3)} -> KugelstossenSkalawert[@[Skala-Wert]] | DC5: {=INDEX(INDIRECT($E$6),CY$3)} -> SpeerwurfSkalawert[@[Skala-Wert]] | DK5: {=INDEX(INDIRECT($E$6),DK$4)} -> SechzigmLaufSkalawert[@[Skala-Wert]] | DL5: {=INDEX(INDIRECT($E$6),DL$4)} -> AchtzigmLaufSkalawert[@[Skala-Wert]] | DM5: {=INDEX(INDIRECT($C$4),DK$4)} -> SechzigmLaufNote[@[Note]] | DN5: {=INDEX(INDIRECT($C$4),DL$4)} -> AchtzigmLaufNote[@[Note]] | DO5: =DK$17&Stammdaten!$CB$3 -> Sprintdisziplinen dispensiert | DU5: =$C$5 -> StdDisziplinen[Bewertung2] | DV5: =$C$6 -> StdDisziplinen[StdTabGerRun] | DW5: =$B$5 -> StdDisziplinen[R-A_Code] | DZ5: =Stammdaten!$AR$4 -> StdDisziplinen[StufeMax] | EB5: =Stammdaten!$AS$4 -> StdDisziplinen[MaxTextSt1] | EF5: {=INDEX(INDIRECT($E$6),EF$4)} -> ZwölfMinLaufHalleSkalawert[@[Skala-Wert]] | EG5: {=INDEX(INDIRECT($E$6),EG$4)} -> ZwölfMinLaufimFreienSkalawert[@[Skala-Wert]] | EH5: {=INDEX(INDIRECT($C$4),EF$4)} -> ZwölfMinLaufHalleNote[@[Note]] | EI5: {=INDEX(INDIRECT($C$4),EG$4)} -> ZwölfMinLaufimFreienNote[@[Note]] | EJ5: =EF$17&Stammdaten!$CB$3 -> Ausdauerdisziplinen dispensiert | EP5: =$C$5 -> StdDisziplinen[Bewertung2] | EQ5: =$C$6 -> StdDisziplinen[StdTabGerRun] | ER5: =$B$5 -> StdDisziplinen[R-A_Code] | EU5: =Stammdaten!$AR$4 -> StdDisziplinen[StufeMax] | EW5: =Stammdaten!$AS$4 -> StdDisziplinen[MaxTextSt1] | FA5: {=INDEX(INDIRECT($E$6),FA$4)} -> HochsprungSkalawert[@[Skala-Wert]] | FB5: {=INDEX(INDIRECT($E$6),FB$4)} -> WeitsprungSkalawert[@[Skala-Wert]] | FC5: {=INDEX(INDIRECT($C$4),FA$4)} -> HochsprungNote[@[Note]] | FD5: {=INDEX(INDIRECT($C$4),FB$4)} -> WeitsprungNote[@[Note]] | FE5: =FA$17&Stammdaten!$CB$3 -> Sprungdisziplinen dispensiert | FK5: =$C$5 -> StdDisziplinen[Bewertung2] | FL5: =$C$6 -> StdDisziplinen[StdTabGerRun] | FM5: =$B$5 -> StdDisziplinen[R-A_Code] | FP5: =Stammdaten!$AR$4 -> StdDisziplinen[StufeMax] | FR5: =Stammdaten!$AS$4 -> StdDisziplinen[MaxTextSt1] | FV5: {=INDEX(INDIRECT($E$6),FV$4)} -> BallwurfSkalawert[@[Skala-Wert]] | FW5: {=INDEX(INDIRECT($E$6),FW$4)} -> KugelstossenSkalawert[@[Skala-Wert]] | FX5: {=INDEX(INDIRECT($E$6),FX$4)} -> SpeerwurfSkalawert[@[Skala-Wert]] | FY5: {=INDEX(INDIRECT($C$4),FV$4)} -> BallwurfNote[@[Note]] | FZ5: {=INDEX(INDIRECT($C$4),FW$4)} -> KugelstossenNote[@[Note]] | GA5: {=INDEX(INDIRECT($C$4),FX$4)} -> SpeerwurfNote[@[Note]] | GB5: =FV$17&Stammdaten!$CB$3 -> Wurfdisziplinen dispensiert | GH5: =$C$5 -> StdDisziplinen[Bewertung2] | GI5: =$C$6 -> StdDisziplinen[StdTabGerRun] | GJ5: =$B$5 -> StdDisziplinen[R-A_Code] | GM5: =Stammdaten!$AR$4 -> StdDisziplinen[StufeMax] | GO5: =Stammdaten!$AS$4 -> StdDisziplinen[MaxTextSt1] | HW5: =LEFT($E$3,LEN($E$3)-2)&HW$4&"]" -> StdDisziplinen[Maximalwert_OS2] | IF5: =LEFT($E$3,LEN($E$3)-2)&IF$4&"]" -> StdDisziplinen[Maximalwert_OS2] | IO5: =LEFT($E$3,LEN($E$3)-2)&IO$4&"]" -> StdDisziplinen[Maximalwert_OS2] | IX5: =LEFT($E$3,LEN($E$3)-2)&IX$4&"]" -> StdDisziplinen[Maximalwert_OS2] | JG5: =LEFT($E$3,LEN($E$3)-2)&JG$4&"]" -> StdDisziplinen[Maximalwert_OS2] | JP5: =LEFT($E$3,LEN($E$3)-2)&JP$4&"]" -> StdDisziplinen[Maximalwert_OS2] | JR5: {=INDEX(INDIRECT(JR$2),JR$4)} -> Reck | JS5: {=INDEX(INDIRECT(JS$2),JS$4)} -> Boden | JT5: {=INDEX(INDIRECT(JT$2),JT$4)} -> Stufenbarren | JU5: {=INDEX(INDIRECT(JU$2),JU$4)} -> Parallelbarren | JV5: {=INDEX(INDIRECT(JV$2),JV$4)} -> Schaukelringe | JW5: {=INDEX(INDIRECT(JW$2),JW$4)} -> Sprung | KP5: {=INDEX(INDIRECT(KP$4),KP$2)} -> Reck | KQ5: {=INDEX(INDIRECT(KQ$4),KQ$2)} -> Boden | KR5: {=INDEX(INDIRECT(KR$4),KR$2)} -> Stufenbarren | KS5: {=INDEX(INDIRECT(KS$4),KS$2)} -> Parallelbarren | KT5: {=INDEX(INDIRECT(KT$4),KT$2)} -> Schaukelringe | KU5: {=INDEX(INDIRECT(KU$4),KU$2)} -> Sprung | KV5: {=INDEX(INDIRECT(KV$4),KV$2)} -> Reck | KW5: {=INDEX(INDIRECT(KW$4),KW$2)} -> Boden | ... LA5: {=INDEX(INDIRECT(LA$4),LA$2)} -> Sprung | LI5: =$C$5 -> StdDisziplinen[Bewertung2] | LJ5: =$E$5 -> StdDisziplinen[StdTabResRes] | LK5: =$B$5 -> StdDisziplinen[R-A_Code] | LN5: =Stammdaten!$AR$4 -> StdDisziplinen[StufeMax] | LP5: =Stammdaten!$AS$4 -> StdDisziplinen[MaxTextSt1] | LU5: =$C$5 -> StdDisziplinen[Bewertung2] | LV5: =$E$5 -> StdDisziplinen[StdTabResRes] | LW5: =$B$5 -> StdDisziplinen[R-A_Code] | LZ5: =Stammdaten!$AR$4 -> StdDisziplinen[StufeMax] | MB5: =Stammdaten!$AS$4 -> StdDisziplinen[MaxTextSt1] | MG5: =$C$5 -> StdDisziplinen[Bewertung2] | MH5: =$E$5 -> StdDisziplinen[StdTabResRes] | MI5: =$B$5 -> StdDisziplinen[R-A_Code] | ML5: =Stammdaten!$AR$4 -> StdDisziplinen[StufeMax] | MN5: =Stammdaten!$AS$4 -> StdDisziplinen[MaxTextSt1] | MY5: {=INDEX(INDIRECT($E$6),MW$3)} -> GeräteturnenSkalawert[@[Skala-Wert]] | NL5: {=INDEX(INDIRECT($E$6),NG$3)} -> ParkourSkalawert[@[Skala-Wert]] | NR5: =LEFT($E$3,LEN($E$3)-2)&NR$4&"]" -> StdDisziplinen[Maximalwert_OS2] | NT5: {=INDEX(INDIRECT($E$6),NT$4)} -> GeräteturnenSkalawert[@[Skala-Wert]] | NU5: {=INDEX(INDIRECT($E$6),NU$4)} -> ParkourSkalawert[@[Skala-Wert]] | NV5: {=INDEX(INDIRECT($C$4),NT$4)} -> GeräteturnenNote[@[Note]] | NW5: {=INDEX(INDIRECT($C$4),NU$4)} -> ParkourNote[@[Note]] | NX5: =$NX$17&Stammdaten!$CB$3 -> Parkour dispensiert | NY5: =$C$5 -> StdDisziplinen[Bewertung2] | NZ5: =$C$6 -> StdDisziplinen[StdTabGerRun] | OA5: =$ER$5 -> StdDisziplinen[R-A_Code] | OD5: =Stammdaten!$AR$4 -> StdDisziplinen[StufeMax] | OF5: =Stammdaten!$AS$4 -> StdDisziplinen[MaxTextSt1] | PG5: {=INDEX(INDIRECT($E$6),PC$3)} -> TanzenSkalawert[@[Skala-Wert]] | PM5: =LEFT($E$3,LEN($E$3)-2)&PM$4&"]" -> StdDisziplinen[Maximalwert_OS2] | PT5: {=INDEX(INDIRECT($E$6),PO$3)} -> RopeSkippingSkalawert[@[Skala-Wert]] | PZ5: =LEFT($E$3,LEN($E$3)-2)&PZ$4&"]" -> StdDisziplinen[Maximalwert_OS2] | QF5: {=INDEX(INDIRECT($E$6),QB$3)} -> AerobicSkalawert[@[Skala-Wert]] | QL5: =LEFT($E$3,LEN($E$3)-2)&QL$4&"]" -> StdDisziplinen[Maximalwert_OS2] | QN5: {=INDEX(INDIRECT($E$6),QN$4)} -> TanzenSkalawert[@[Skala-Wert]] | QO5: {=INDEX(INDIRECT($E$6),QO$4)} -> RopeSkippingSkalawert[@[Skala-Wert]] | QP5: {=INDEX(INDIRECT($E$6),QP$4)} -> AerobicSkalawert[@[Skala-Wert]] | QQ5: {=INDEX(INDIRECT($C$4),QN$4)} -> TanzenNote[@[Note]] | QR5: {=INDEX(INDIRECT($C$4),QO$4)} -> RopeSkippingNote[@[Note]] | QS5: {=INDEX(INDIRECT($C$4),QP$4)} -> AerobicNote[@[Note]] | QT5: =QN$17&Stammdaten!$CB$3 -> Darstellen und Tanzen dispensiert | QY5: =$C$5 -> StdDisziplinen[Bewertung2] | QZ5: =$C$6 -> StdDisziplinen[StdTabGerRun] | RA5: =$B$5 -> StdDisziplinen[R-A_Code] | RD5: =Stammdaten!$AR$4 -> StdDisziplinen[StufeMax] | RF5: =Stammdaten!$AS$4 -> StdDisziplinen[MaxTextSt1] | RR5: {=INDEX(INDIRECT($E$6),RN$3)} -> BasketballSkalawert[@[Skala-Wert]] | SD5: {=INDEX(INDIRECT($E$6),RZ$3)} -> FussballSkalawert[@[Skala-Wert]] | SP5: {=INDEX(INDIRECT($E$6),SL$3)} -> HandballSkalawert[@[Skala-Wert]] | TB5: {=INDEX(INDIRECT($E$6),SX$3)} -> UnihockeySkalawert[@[Skala-Wert]] | TO5: {=INDEX(INDIRECT($E$6),TJ$3)} -> VolleyballSkalawert[@[Skala-Wert]] | TU5: =LEFT($E$3,LEN($E$3)-2)&TU$4&"]" -> StdDisziplinen[Maximalwert_OS2] | TW5: {=INDEX(INDIRECT(TW$2),TW$4)} -> Basketball | TX5: {=INDEX(INDIRECT(TX$2),TX$4)} -> Fussball | TY5: {=INDEX(INDIRECT(TY$2),TY$4)} -> Handball | TZ5: {=INDEX(INDIRECT(TZ$2),TZ$4)} -> Unihockey | UA5: {=INDEX(INDIRECT(UA$2),UA$4)} -> Volleyball | UT5: {=INDEX(INDIRECT(UT$4),UT$2)} -> Basketball | UU5: {=INDEX(INDIRECT(UU$4),UU$2)} -> Fussball | UV5: {=INDEX(INDIRECT(UV$4),UV$2)} -> Handball | UW5: {=INDEX(INDIRECT(UW$4),UW$2)} -> Unihockey | UX5: {=INDEX(INDIRECT(UX$4),UX$2)} -> Volleyball | UY5: {=INDEX(INDIRECT(UY$4),UY$2)} -> Basketball | UZ5: {=INDEX(INDIRECT(UZ$4),UZ$2)} -> Fussball | VA5: {=INDEX(INDIRECT(VA$4),VA$2)} -> Handball | ... VC5: {=INDEX(INDIRECT(VC$4),VC$2)} -> Volleyball | VK5: =$C$5 -> StdDisziplinen[Bewertung2] | VL5: =$C$6 -> StdDisziplinen[StdTabGerRun] | VM5: =$B$5 -> StdDisziplinen[R-A_Code] | VP5: =Stammdaten!$AR$4 -> StdDisziplinen[StufeMax] | VR5: =Stammdaten!$AS$4 -> StdDisziplinen[MaxTextSt1] | VW5: =$C$5 -> StdDisziplinen[Bewertung2] | VX5: =$C$6 -> StdDisziplinen[StdTabGerRun] | VY5: =$B$5 -> StdDisziplinen[R-A_Code] | WB5: =Stammdaten!$AR$4 -> StdDisziplinen[StufeMax] | WD5: =Stammdaten!$AS$4 -> StdDisziplinen[MaxTextSt1] | WI5: =$C$5 -> StdDisziplinen[Bewertung2] | WJ5: =$C$6 -> StdDisziplinen[StdTabGerRun] | WK5: =$B$5 -> StdDisziplinen[R-A_Code] | WN5: =Stammdaten!$AR$4 -> StdDisziplinen[StufeMax] | WP5: =Stammdaten!$AS$4 -> StdDisziplinen[MaxTextSt1] | WT5: {=INDEX(INDIRECT($E$6),WT$4)} -> BasketballSkalawert[@[Skala-Wert]] | WU5: {=INDEX(INDIRECT($E$6),WU$4)} -> FussballSkalawert[@[Skala-Wert]] | WV5: {=INDEX(INDIRECT($E$6),WV$4)} -> HandballSkalawert[@[Skala-Wert]] | WW5: {=INDEX(INDIRECT($E$6),WW$4)} -> UnihockeySkalawert[@[Skala-Wert]] | WX5: {=INDEX(INDIRECT($E$6),WX$4)} -> VolleyballSkalawert[@[Skala-Wert]] | WY5: {=INDEX(INDIRECT($C$4),WY$4)} -> BasketballNote[@[Note]] | WZ5: {=INDEX(INDIRECT($C$4),WZ$4)} -> FussballNote[@[Note]] | XA5: {=INDEX(INDIRECT($C$4),XA$4)} -> HandballNote[@[Note]] | XB5: {=INDEX(INDIRECT($C$4),XB$4)} -> UnihockeyNote[@[Note]] | XC5: {=INDEX(INDIRECT($C$4),XC$4)} -> VolleyballNote[@[Note]] | ZW5: {=INDEX(INDIRECT($E$6),ZM$3)} -> SchwimmenSkalawert[@[Skala-Wert]] | ZX5: =REPLACE($ZW$5,FIND("]",$ZW$5,1),0,"0") -> SchwimmenSkalawert[@[Skala-Wert0]] | AAW5: {=INDEX(INDIRECT($E$6),AAR$3)} -> BeweglichkeitSkalawert[@[Skala-Wert]] | ABB5: =LEFT($E$3,LEN($E$3)-2)&ABB$4&"]" -> StdDisziplinen[Maximalwert_OS2] | ABI5: {=INDEX(INDIRECT($E$6),ABD$3)} -> RumpfkraftSkalawert[@[Skala-Wert]] | ACG5: {=INDEX(INDIRECT($E$6),ACB$3)} -> KonditionsparcoursSkalawert[@[Skala-Wert]]
B6: =Stammdaten!$AN$4 -> StdDisziplinen[Vergleichstyp] | C6: =Stammdaten!$Z$4 -> StdDisziplinen[StdTabGerRun] | E6: =Stammdaten!$AB$4 -> StdDisziplinen[TabÜberschriftSkala] | K6: {=INDEX(INDIRECT(Stammdaten!$AC$4),G$3)} -> SechzigmLauf_X[Note] | L6: {=INDEX(INDIRECT(Stammdaten!$U$4),G$3)} -> 14 | W6: {=INDEX(INDIRECT(Stammdaten!$AC$4),S$3)} -> AchtzigmLauf_X[Note] | X6: {=INDEX(INDIRECT(Stammdaten!$U$4),S$3)} -> 14 | AI6: {=INDEX(INDIRECT(Stammdaten!$AC$4),AE$3)} -> ZwölfMinLaufHalle_X[Note] | AJ6: {=INDEX(INDIRECT(Stammdaten!$U$4),AE$3)} -> 19 | AU6: {=INDEX(INDIRECT(Stammdaten!$AC$4),AQ$3)} -> ZwölfMinLaufimFreien_X[Note] | AV6: {=INDEX(INDIRECT(Stammdaten!$U$4),AQ$3)} -> 22 | BG6: {=INDEX(INDIRECT(Stammdaten!$AC$4),BC$3)} -> Hochsprung_X[Note] | BH6: {=INDEX(INDIRECT(Stammdaten!$U$4),BC$3)} -> 12 | BS6: {=INDEX(INDIRECT(Stammdaten!$AC$4),BO$3)} -> Weitsprung_X[Note] | BT6: {=INDEX(INDIRECT(Stammdaten!$U$4),BO$3)} -> 12 | CE6: {=INDEX(INDIRECT(Stammdaten!$AC$4),CA$3)} -> Ballwurf_X[Note] | CF6: {=INDEX(INDIRECT(Stammdaten!$U$4),CA$3)} -> 10 | CQ6: {=INDEX(INDIRECT(Stammdaten!$AC$4),CM$3)} -> Kugelstossen_X[Note] | CR6: {=INDEX(INDIRECT(Stammdaten!$U$4),CM$3)} -> 14 | DC6: {=INDEX(INDIRECT(Stammdaten!$AC$4),CY$3)} -> Speerwurf_X[Note] | DD6: {=INDEX(INDIRECT(Stammdaten!$U$4),CY$3)} -> 11 | DV6: =$E$4 -> StdDisziplinen[StdTabResEin] | EQ6: =$E$4 -> StdDisziplinen[StdTabResEin] | FL6: =$E$4 -> StdDisziplinen[StdTabResEin] | GI6: =$E$4 -> StdDisziplinen[StdTabResEin] | LJ6: =$E$4 -> StdDisziplinen[StdTabResEin] | LV6: =$E$4 -> StdDisziplinen[StdTabResEin] | MH6: =$E$4 -> StdDisziplinen[StdTabResEin] | MY6: {=INDEX(INDIRECT(Stammdaten!$AC$4),MW$3)} -> Geräteturnen_X[Note] | MZ6: {=INDEX(INDIRECT(Stammdaten!$U$4),MW$3)} -> 14 | NL6: {=INDEX(INDIRECT(Stammdaten!$AC$4),NG$3)} -> Parkour_X[Note] | NM6: {=INDEX(INDIRECT(Stammdaten!$U$4),NG$3)} -> 9 | NZ6: =$E$4 -> StdDisziplinen[StdTabResEin] | PG6: {=INDEX(INDIRECT(Stammdaten!$AC$4),PC$3)} -> Tanzen_X[Note] | PH6: {=INDEX(INDIRECT(Stammdaten!$U$4),PC$3)} -> 8 | PT6: {=INDEX(INDIRECT(Stammdaten!$AC$4),PO$3)} -> RopeSkipping_X[Note] | PU6: {=INDEX(INDIRECT(Stammdaten!$U$4),PO$3)} -> 14 | QF6: {=INDEX(INDIRECT(Stammdaten!$AC$4),QB$3)} -> Aerobic_X[Note] | QG6: {=INDEX(INDIRECT(Stammdaten!$U$4),QB$3)} -> 9 | QZ6: =$E$4 -> StdDisziplinen[StdTabResEin] | RR6: {=INDEX(INDIRECT(Stammdaten!$AC$4),RN$3)} -> Basketball_X[Note] | RS6: {=INDEX(INDIRECT(Stammdaten!$U$4),RN$3)} -> 12 | SD6: {=INDEX(INDIRECT(Stammdaten!$AC$4),RZ$3)} -> Fussball_X[Note] | SE6: {=INDEX(INDIRECT(Stammdaten!$U$4),RZ$3)} -> 10 | SP6: {=INDEX(INDIRECT(Stammdaten!$AC$4),SL$3)} -> Handball_X[Note] | SQ6: {=INDEX(INDIRECT(Stammdaten!$U$4),SL$3)} -> 10 | TB6: {=INDEX(INDIRECT(Stammdaten!$AC$4),SX$3)} -> Unihockey_X[Note] | TC6: {=INDEX(INDIRECT(Stammdaten!$U$4),SX$3)} -> 11 | TO6: {=INDEX(INDIRECT(Stammdaten!$AC$4),TJ$3)} -> Volleyball_X[Note] | TP6: {=INDEX(INDIRECT(Stammdaten!$U$4),TJ$3)} -> 12 | VL6: =$E$4 -> StdDisziplinen[StdTabResEin] | VX6: =$E$4 -> StdDisziplinen[StdTabResEin] | WJ6: =$E$4 -> StdDisziplinen[StdTabResEin] | ZW6: {=INDEX(INDIRECT(Stammdaten!$AC$4),ZM$3)} -> Schwimmen_X[Note] | ZX6: {=INDEX(INDIRECT(Stammdaten!$U$4),ZM$3)} -> 11 | AAW6: {=INDEX(INDIRECT(Stammdaten!$AC$4),AAR$3)} -> Beweglichkeit_X[Note] | AAX6: {=INDEX(INDIRECT(Stammdaten!$U$4),AAR$3)} -> 15 | ABI6: {=INDEX(INDIRECT(Stammdaten!$AC$4),ABD$3)} -> Rumpfkraft_X[Note] | ABJ6: {=INDEX(INDIRECT(Stammdaten!$U$4),ABD$3)} -> 12 | ACG6: {=INDEX(INDIRECT(Stammdaten!$AC$4),ACB$3)} -> Konditionsparcours_X[Note] | ACH6: {=INDEX(INDIRECT(Stammdaten!$U$4),ACB$3)} -> 20
A7: =Stammdaten!$CB$28 -> Bed. F. | B7: Typ Spalte | G7: =LEFT(G$27,3) -> Ein | H7: =LEFT(H$27,3) -> Res | I7: =LEFT(I$27,3) -> Bed | J7: =LEFT(J$27,3) | K7: =LEFT(K$27,3) -> Run | L7: =LEFT(L$27,3) | M7: =LEFT(M$27,3) | N7: =LEFT(N$27,3) -> Ska | ... RK7: =LEFT(RK$27,3) | RL7: Not | RM7: =LEFT(RM$27,3) | RN7: =LEFT(RN$27,3) -> Ein | RO7: =LEFT(RO$27,3) -> Res | RP7: =LEFT(RP$27,3) -> Bed | RQ7: =LEFT(RQ$27,3) | RR7: =LEFT(RR$27,3) -> Run | RS7: =LEFT(RS$27,3) | RT7: =LEFT(RT$27,3) | ... ACM7: =LEFT(ACM$27,3) -> Not
A8: =Stammdaten!$CB$28 -> Bed. F. | B8: =Stammdaten!$BZ$5 -> Disziplin | E8: =Stammdaten!$AU$4 -> StdDisziplinen[Spalte] | G8: =MATCH(VLOOKUP(COLUMN(),INDIRECT($E$8),1,TRUE),INDIRECT($E$8),0) -> 1 | H8: =MATCH(VLOOKUP(COLUMN(),INDIRECT($E$8),1,TRUE),INDIRECT($E$8),0) -> 1 | I8: =MATCH(VLOOKUP(COLUMN(),INDIRECT($E$8),1,TRUE),INDIRECT($E$8),0) -> 1 | J8: =MATCH(VLOOKUP(COLUMN(),INDIRECT($E$8),1,TRUE),INDIRECT($E$8),0) -> 1 | K8: =MATCH(VLOOKUP(COLUMN(),INDIRECT($E$8),1,TRUE),INDIRECT($E$8),0) -> 1 | L8: =MATCH(VLOOKUP(COLUMN(),INDIRECT($E$8),1,TRUE),INDIRECT($E$8),0) -> 1 | M8: =MATCH(VLOOKUP(COLUMN(),INDIRECT($E$8),1,TRUE),INDIRECT($E$8),0) -> 1 | N8: =MATCH(VLOOKUP(COLUMN(),INDIRECT($E$8),1,TRUE),INDIRECT($E$8),0) -> 1 | ... ACM8: =MATCH(VLOOKUP(COLUMN(),INDIRECT($E$8),1,TRUE),INDIRECT($E$8),0) -> 29
A9: =Stammdaten!$CB$28 -> Bed. F. | B9: =Stammdaten!$BZ$5&" +" -> Disziplin + | DK9: =$DK$4 -> 1 | DL9: =$DL$4 -> 2 | DM9: =$DM$4 -> 1 | DN9: =$DN$4 -> 2 | EF9: =$EF$4 -> 3 | EG9: =$EG$4 -> 4 | EH9: =$EH$4 -> 3 | EI9: =$EI$4 -> 4 | FA9: =$FA$4 -> 5 | FB9: =$FB$4 -> 6 | FC9: =$FC$4 -> 5 | FD9: =$FD$4 -> 6 | FV9: =$FV$4 -> 7 | FW9: =$FW$4 -> 8 | FX9: =$FX$4 -> 9 | FY9: =$FY$4 -> 7 | FZ9: =$FZ$4 -> 8 | GA9: =$GA$4 -> 9 | HA9: =Stammdaten!$BR$6 -> 31 | HB9: =Stammdaten!$BR$6 -> 31 | HC9: =Stammdaten!$BR$6 -> 31 | HD9: =Stammdaten!$BR$6 -> 31 | HE9: =Stammdaten!$BR$6 -> 31 | HF9: =Stammdaten!$BR$6 -> 31 | HN9: 31 | JR9: =$JR$4 -> 10 | JS9: =$JS$4 -> 11 | JT9: =$JT$4 -> 12 | JU9: =$JU$4 -> 13 | JV9: =$JV$4 -> 14 | JW9: =$JW$4 -> 15 | MY9: =$MW$3 -> 36 | NB9: =$MW$3 -> 36 | NE9: =$MW$3 -> 36 | NT9: =$NT$4 -> 36 | NU9: =$NU$4 -> 16 | NV9: =$NV$4 -> 36 | NW9: =$NW$4 -> 16 | OP9: =Stammdaten!$BR$7 -> 32 | OQ9: =Stammdaten!$BR$7 -> 32 | OR9: =Stammdaten!$L$41 -> 36 | OS9: =Stammdaten!$BR$7 -> 32 | PA9: 32 | QN9: =$QN$4 -> 17 | QO9: =$QO$4 -> 18 | QP9: =$QP$4 -> 19 | QQ9: =$QQ$4 -> 17 | QR9: =$QR$4 -> 18 | QS9: =$QS$4 -> 19 | RJ9: =Stammdaten!$BR$8 -> 33 | RL9: 33 | TW9: =$TW$4 -> 20 | TX9: =$TX$4 -> 21 | TY9: =$TY$4 -> 22 | TZ9: =$TZ$4 -> 23 | UA9: =$UA$4 -> 24 | WT9: =$WT$4 -> 20 | WU9: =$WU$4 -> 21 | WV9: =$WV$4 -> 22 | WW9: =$WW$4 -> 23 | WX9: =$WX$4 -> 24 | WY9: =$WY$4 -> 20 | WZ9: =$WZ$4 -> 21 | XA9: =$XA$4 -> 22 | XB9: =$XB$4 -> 23 | XC9: =$XC$4 -> 24 | XK9: =Stammdaten!$BR$9 -> 34 | XL9: =Stammdaten!$BR$9 -> 34 | XM9: =Stammdaten!$BR$9 -> 34 | XN9: =Stammdaten!$BR$9 -> 34 | XO9: =Stammdaten!$BR$9 -> 34 | XW9: 34 | YG9: =Stammdaten!$L$40 -> 35 | YH9: =Stammdaten!$BR$6 -> 31 | YI9: =Stammdaten!$BR$7 -> 32 | YJ9: =Stammdaten!$BR$8 -> 33 | YK9: =Stammdaten!$BR$9 -> 34 | AAF9: =$AAF$3 -> 3 | AAH9: =$AAF$3 -> 3 | AAJ9: =$AAF$3 -> 3 | AAL9: =$AAL$3 -> 4 | AAN9: =$AAL$3 -> 4 | AAP9: =$AAL$3 -> 4 | ABP9: =$ABP$3 -> 1 | ABR9: =$ABP$3 -> 1 | ABT9: =$ABP$3 -> 1 | ABV9: =$ABV$3 -> 2 | ABX9: =$ABV$3 -> 2 | ABZ9: =$ABV$3 -> 2
A10: =Stammdaten!$CB$28 -> Bed. F. | B10: =Stammdaten!$BZ$5&" konsolidiert" -> Disziplin konsolidiert | G10: =IF(G$9<>"",G$9,G$8) -> 1 | H10: =IF(H$9<>"",H$9,H$8) -> 1 | I10: =IF(I$9<>"",I$9,I$8) -> 1 | J10: =IF(J$9<>"",J$9,J$8) -> 1 | K10: =IF(K$9<>"",K$9,K$8) -> 1 | L10: =IF(L$9<>"",L$9,L$8) -> 1 | M10: =IF(M$9<>"",M$9,M$8) -> 1 | N10: =IF(N$9<>"",N$9,N$8) -> 1 | ... ACM10: =IF(ACM$9<>"",ACM$9,ACM$8) -> 29
A11: =Stammdaten!$CB$28 -> Bed. F. | B11: =Stammdaten!$BU$17&Stammdaten!$BZ$35 -> Anzahl Stellen | E11: =Stammdaten!$AV$4 -> StdDisziplinen[Res_Code] | G11: {=IFERROR(INDEX(INDIRECT(REPLACE($E$11,FIND("[",$E$11,1)+1,3,G$7)),G$10),"")} | H11: {=IFERROR(INDEX(INDIRECT(REPLACE($E$11,FIND("[",$E$11,1)+1,3,H$7)),H$10),"")} -> 2 | I11: {=IFERROR(INDEX(INDIRECT(REPLACE($E$11,FIND("[",$E$11,1)+1,3,I$7)),I$10),"")} | J11: {=IFERROR(INDEX(INDIRECT(REPLACE($E$11,FIND("[",$E$11,1)+1,3,J$7)),J$10),"")} | K11: {=IFERROR(INDEX(INDIRECT(REPLACE($E$11,FIND("[",$E$11,1)+1,3,K$7)),K$10),"")} -> 2 | L11: {=IFERROR(INDEX(INDIRECT(REPLACE($E$11,FIND("[",$E$11,1)+1,3,L$7)),L$10),"")} | M11: {=IFERROR(INDEX(INDIRECT(REPLACE($E$11,FIND("[",$E$11,1)+1,3,M$7)),M$10),"")} | N11: {=IFERROR(INDEX(INDIRECT(REPLACE($E$11,FIND("[",$E$11,1)+1,3,N$7)),N$10),"")} -> 2 | ... ACM11: {=IFERROR(INDEX(INDIRECT(REPLACE($E$11,FIND("[",$E$11,1)+1,3,ACM$7)),ACM$10),"")} -> 1
A12: =Stammdaten!$CB$28 -> Bed. F. | B12: =Stammdaten!$CA$28&" "&Stammdaten!$W$2&"/"&Stammdaten!$V$2 -> Zusatzformat Eingabe/Resultat | G12: =IF(G$7=Stammdaten!$W$1,LEFT(G$25,1)&G$7,IF(G$7=Stammdaten!$V$1,LEFT(F$25,1)&G$7,"")) -> 2Ein | H12: =IF(H$7=Stammdaten!$W$1,LEFT(H$25,1)&H$7,IF(H$7=Stammdaten!$V$1,LEFT(G$25,1)&H$7,"")) -> 2Res | I12: =IF(I$7=Stammdaten!$W$1,LEFT(I$25,1)&I$7,IF(I$7=Stammdaten!$V$1,LEFT(H$25,1)&I$7,"")) | J12: =IF(J$7=Stammdaten!$W$1,LEFT(J$25,1)&J$7,IF(J$7=Stammdaten!$V$1,LEFT(I$25,1)&J$7,"")) | K12: =IF(K$7=Stammdaten!$W$1,LEFT(K$25,1)&K$7,IF(K$7=Stammdaten!$V$1,LEFT(J$25,1)&K$7,"")) | L12: =IF(L$7=Stammdaten!$W$1,LEFT(L$25,1)&L$7,IF(L$7=Stammdaten!$V$1,LEFT(K$25,1)&L$7,"")) | M12: =IF(M$7=Stammdaten!$W$1,LEFT(M$25,1)&M$7,IF(M$7=Stammdaten!$V$1,LEFT(L$25,1)&M$7,"")) | N12: =IF(N$7=Stammdaten!$W$1,LEFT(N$25,1)&N$7,IF(N$7=Stammdaten!$V$1,LEFT(M$25,1)&N$7,"")) | ... ZJ12: =IF(ZJ$7=Stammdaten!$W$1,LEFT(ZJ$25,1)&ZJ$7,IF(ZJ$7=Stammdaten!$V$1,LEFT(ZI$25,1)&ZJ$7,"")) | ZK12: =LEFT(_Stufe_Glei,1)&"Ein" -> 2Ein | ZL12: =IF(ZL$7=Stammdaten!$W$1,LEFT(ZL$25,1)&ZL$7,IF(ZL$7=Stammdaten!$V$1,LEFT(ZK$25,1)&ZL$7,"")) | ZM12: =LEFT(_Stufe_Schw,1)&"Ein" -> 2Ein | ZN12: =IF(ZN$7=Stammdaten!$W$1,LEFT(ZN$25,1)&ZN$7,IF(ZN$7=Stammdaten!$V$1,LEFT(ZM$25,1)&ZN$7,"")) -> 2Res | ZO12: =IF(ZO$7=Stammdaten!$W$1,LEFT(#REF!,1)&ZO$7,IF(ZO$7=Stammdaten!$V$1,LEFT(ZN$25,1)&ZO$7,"")) | ZP12: =IF(ZP$7=Stammdaten!$W$1,LEFT(ZO$25,1)&ZP$7,IF(ZP$7=Stammdaten!$V$1,LEFT(#REF!,1)&ZP$7,"")) | ZQ12: =IF(ZQ$7=Stammdaten!$W$1,LEFT(ZQ$25,1)&ZQ$7,IF(ZQ$7=Stammdaten!$V$1,LEFT(ZO$25,1)&ZQ$7,"")) | ZR12: =LEFT(_Stufe_Schw,1)&"Ein" -> 2Ein | ZS12: =LEFT(_Stufe_Schw,1)&"Res" -> 2Res | ZT12: =IF(ZT$7=Stammdaten!$W$1,LEFT(ZT$25,1)&ZT$7,IF(ZT$7=Stammdaten!$V$1,LEFT(ZS$25,1)&ZT$7,"")) | ZU12: =IF(ZU$7=Stammdaten!$W$1,LEFT(ZU$25,1)&ZU$7,IF(ZU$7=Stammdaten!$V$1,LEFT(ZT$25,1)&ZU$7,"")) | ZV12: =IF(ZV$7=Stammdaten!$W$1,LEFT(ZV$25,1)&ZV$7,IF(ZV$7=Stammdaten!$V$1,LEFT(ZU$25,1)&ZV$7,"")) | ZW12: =IF(ZW$7=Stammdaten!$W$1,LEFT(ZW$25,1)&ZW$7,IF(ZW$7=Stammdaten!$V$1,LEFT(ZV$25,1)&ZW$7,"")) | ZX12: =IF(ZX$7=Stammdaten!$W$1,LEFT(ZX$25,1)&ZX$7,IF(ZX$7=Stammdaten!$V$1,LEFT(ZW$25,1)&ZX$7,"")) | ZY12: =IF(ZY$7=Stammdaten!$W$1,LEFT(ZY$25,1)&ZY$7,IF(ZY$7=Stammdaten!$V$1,LEFT(ZX$25,1)&ZY$7,"")) | ZZ12: =IF(ZZ$7=Stammdaten!$W$1,LEFT(ZZ$25,1)&ZZ$7,IF(ZZ$7=Stammdaten!$V$1,LEFT(ZY$25,1)&ZZ$7,"")) | AAA12: =IF(AAA$7=Stammdaten!$W$1,LEFT(AAA$25,1)&AAA$7,IF(AAA$7=Stammdaten!$V$1,LEFT(ZZ$25,1)&AAA$7,"")) | ... ACM12: =IF(ACM$7=Stammdaten!$W$1,LEFT(ACM$25,1)&ACM$7,IF(ACM$7=Stammdaten!$V$1,LEFT(ACL$25,1)&ACM$7,""))
A13: =Stammdaten!$CA$16&" (Spaltenindizes)" -> Diplomsteuerung (Spaltenindizes) | G13: =IF(ISERROR(FIND(Stammdaten!$BZ$26,G$20,1)),"",COLUMN()) | H13: =IF(ISERROR(FIND(Stammdaten!$BZ$26,H$20,1)),"",COLUMN()) | I13: =IF(ISERROR(FIND(Stammdaten!$BZ$26,I$20,1)),"",COLUMN()) | J13: =IF(ISERROR(FIND(Stammdaten!$BZ$26,J$20,1)),"",COLUMN()) | K13: =IF(ISERROR(FIND(Stammdaten!$BZ$26,K$20,1)),"",COLUMN()) | L13: =IF(ISERROR(FIND(Stammdaten!$BZ$26,L$20,1)),"",COLUMN()) | M13: =IF(ISERROR(FIND(Stammdaten!$BZ$26,M$20,1)),"",COLUMN()) | N13: =IF(ISERROR(FIND(Stammdaten!$BZ$26,N$20,1)),"",COLUMN()) | ... ACM13: =IF(ISERROR(FIND(Stammdaten!$BZ$26,ACM$20,1)),"",COLUMN())
B15: S C H U L S P O R T P R Ü F U N G NW OW SZ UR | ZH15: F A K U L T A T I V
C16: Name: | E16: Vorname: | G16: {=INDEX(StdBS[Titelanzeige],G$1)} -> BS.1 Laufen, Springen, Werfen | HP16: {=INDEX(StdBS[Titelanzeige],HP$1)} -> BS.2 Bewegen an Geräten | PC16: {=INDEX(StdBS[Titelanzeige],PC$1)} -> BS.3 Darstellen und Tanzen | RN16: {=INDEX(StdBS[Titelanzeige],RN$1)} -> BS.4 Spielen | XY16: =Stammdaten!$BM$6 -> BS.1 | XZ16: =Stammdaten!$BM$7 -> BS.2 | YA16: =Stammdaten!$BM$8 -> BS.3 | YB16: =Stammdaten!$BM$9 -> BS.4 | YC16: =Stammdaten!$CB$27 -> Gesamtauswertung | YV16: =Stammdaten!$CC$27 -> Gesamtnote | ZH16: {=INDEX(StdBS[Titelanzeige],ZH$1)} -> BS.5 Gleiten, Rollen, Fahren | ZM16: {=INDEX(StdBS[Titelanzeige],ZM$1)} -> BS.6 Bewegen im Wasser | AAF16: {=INDEX(StdDisziplinen[Fit0],AAF$1)&" "&INDEX(StdFit[StdFit2],$AAF$1)} -> FIT Allgemeine Fitness
B17: Lehrperson: | G17: {=INDEX(StdGruppe[StdGruppe],G$2)} -> Sprintdisziplinen | AE17: {=INDEX(StdGruppe[StdGruppe],AE$2)} -> Ausdauerdisziplinen | BC17: {=INDEX(StdGruppe[StdGruppe],BC$2)} -> Sprungdisziplinen | CA17: {=INDEX(StdGruppe[StdGruppe],CA$2)} -> Wurfdisziplinen | DK17: {=INDEX(StdGruppe[StdGruppe],DK$2)} -> Sprintdisziplinen | EF17: {=INDEX(StdGruppe[StdGruppe],EF$2)} -> Ausdauerdisziplinen | FA17: {=INDEX(StdGruppe[StdGruppe],FA$2)} -> Sprungdisziplinen | FV17: {=INDEX(StdGruppe[StdGruppe],FV$2)} -> Wurfdisziplinen | GS17: =Stammdaten!$BZ$21 -> Positionen | GW17: ∑ | HA17: =Stammdaten!$BZ$22 -> Durchschnitt | HC17: =Stammdaten!$CA$9 -> Erstellung Textanzeige | HH17: =Stammdaten!$CC$16 -> Durchschnitt-steuerung | HL17: =Stammdaten!$CC$22 -> In den Durchschnitt eingehende Noten | HP17: {=INDEX(StdGruppe[StdGruppe],HP$2)} -> Geräteturnen | NG17: {=INDEX(StdDisziplinen[StdDisziplin],NG$3)} -> Parkour | NT17: {=INDEX(INDIRECT(Stammdaten!$BN$4),NT$2)} -> Bewegen an Geräten | NX17: {=INDEX(INDIRECT(Stammdaten!$R$4),NU$4)} -> Parkour | OJ17: =Stammdaten!$BZ$21 -> Positionen | OL17: ∑ | OP17: =Stammdaten!$BZ$22 -> Durchschnitt | OR17: =Stammdaten!$CA$9 -> Erstellung Textanzeige | OU17: =Stammdaten!$CC$16 -> Durchschnitt-steuerung | OY17: =Stammdaten!$CC$22 -> In den Durchschnitt eingehende Noten | PC17: {=INDEX(StdDisziplinen[StdDisziplin],PC$3)} -> Tanzen | PO17: {=INDEX(StdDisziplinen[StdDisziplin],PO$3)} -> Rope-Skipping | QB17: {=INDEX(StdDisziplinen[StdDisziplin],QB$3)} -> Aerobic | QN17: {=INDEX(INDIRECT(Stammdaten!$BN$4),QN$2)} -> Darstellen und Tanzen | RN17: {=INDEX(StdDisziplinen[StdDisziplin],RN$3)} -> Basketball | RZ17: {=INDEX(StdDisziplinen[StdDisziplin],RZ$3)} -> Fussball | SL17: {=INDEX(StdDisziplinen[StdDisziplin],SL$3)} -> Handball | SX17: {=INDEX(StdDisziplinen[StdDisziplin],SX$3)} -> Unihockey | TJ17: {=INDEX(StdDisziplinen[StdDisziplin],TJ$3)} -> Volleyball | TW17: {=INDEX(INDIRECT(Stammdaten!$BN$4),WT$2)} -> Spielen | XK17: =Stammdaten!$BZ$22 -> Durchschnitt | XM17: =Stammdaten!$CA$9 -> Erstellung Textanzeige | XQ17: =Stammdaten!$CC$16 -> Durchschnitt-steuerung | XU17: =Stammdaten!$CC$22 -> In den Durchschnitt eingehende Noten | XY17: =Stammdaten!$BZ$21 -> Positionen | YC17: ∑ | YG17: =Stammdaten!$BZ$22 -> Durchschnitt | YH17: =Stammdaten!$CA$9 -> Erstellung Textanzeige | YM17: =Stammdaten!$CB$16 -> Ampel-steuerung | YQ17: =Stammdaten!$CC$16 -> Durchschnitt-steuerung | YV17: =Stammdaten!$BM$6 -> BS.1 | YX17: =Stammdaten!$BM$7 -> BS.2 | YZ17: =Stammdaten!$BM$8 -> BS.3 | ZB17: =Stammdaten!$BM$9 -> BS.4 | ZD17: =Stammdaten!$CC$22 -> In den Durchschnitt eingehende Noten | ZH17: – Wenn die ganze Klasse dieselbe Disziplin absolviert hat, Disziplin im obersten Feld eintragen: leere Zeile auswählen und Disziplin eintragen – Zeile je Schüler/-in: Disziplin auswählen oder leere Zeile auswählen und individuelle Disziplin eintragen | ZM17: {=INDEX(StdDisziplinen[StdDisziplin],ZM$3)} -> Schwimmen | AAF17: {=INDEX(StdDisziplinen[Fit1],$AAF$1)} -> Fit-Check | ACB17: {=INDEX(StdDisziplinen[StdDisziplin],ACB$3)} -> Konditionsparcours
B18: Schulgemeinde: | C18: Beckenried | E18: Bitte diese Resultatmappe | G18: {=INDEX(StdDisziplinen[StdDisziplin],G$3)} -> 60-m-Lauf | S18: {=INDEX(StdDisziplinen[StdDisziplin],S$3)} -> 80-m-Lauf | AE18: {=INDEX(StdDisziplinen[StdDisziplin],AE$3)} -> 12-Min.-Lauf (Halle) | AQ18: {=INDEX(StdDisziplinen[StdDisziplin],AQ$3)} -> 12-Min.-Lauf (im Freien) | BC18: {=INDEX(StdDisziplinen[StdDisziplin],BC$3)} -> Hochsprung | BO18: {=INDEX(StdDisziplinen[StdDisziplin],BO$3)} -> Weitsprung | CA18: {=INDEX(StdDisziplinen[StdDisziplin],CA$3)} -> Ballwurf | CM18: {=INDEX(StdDisziplinen[StdDisziplin],CM$3)} -> Kugelstossen | CY18: {=INDEX(StdDisziplinen[StdDisziplin],CY$3)} -> Speerwurf | DK18: =Stammdaten!$AB$2 -> Skalawert | DM18: =Stammdaten!$CA$13 -> Zwischenergebnis | DO18: =Stammdaten!$BZ$13&CHAR(10)&Stammdaten!$CA$14 -> Ergebnis (beste Note) | DQ18: =Stammdaten!$BZ$11 -> Anz. | DR18: =Stammdaten!$BZ$11 -> Anz. | DS18: =Stammdaten!$CA$11 -> Anz. ok | DT18: =Stammdaten!$CA$16 -> Diplomsteuerung | EF18: =Stammdaten!$AB$2 -> Skalawert | EH18: =Stammdaten!$CA$13 -> Zwischenergebnis | EJ18: =Stammdaten!$BZ$13&CHAR(10)&Stammdaten!$CA$14 -> Ergebnis (beste Note) | EL18: =Stammdaten!$BZ$11 -> Anz. | EM18: =Stammdaten!$BZ$11 -> Anz. | EN18: =Stammdaten!$CA$11 -> Anz. ok | EO18: =Stammdaten!$CA$16 -> Diplomsteuerung | FA18: =Stammdaten!$AB$2 -> Skalawert | FC18: =Stammdaten!$CA$13 -> Zwischenergebnis | FE18: =Stammdaten!$BZ$13&CHAR(10)&Stammdaten!$CA$14 -> Ergebnis (beste Note) | FG18: =Stammdaten!$BZ$11 -> Anz. | FH18: =Stammdaten!$BZ$11 -> Anz. | FI18: =Stammdaten!$CA$11 -> Anz. ok | FJ18: =Stammdaten!$CA$16 -> Diplomsteuerung | FV18: =Stammdaten!$AB$2 -> Skalawert | FY18: =Stammdaten!$CA$13 -> Zwischenergebnis | GB18: =Stammdaten!$BZ$13&CHAR(10)&Stammdaten!$CA$14 -> Ergebnis (beste Note) | GD18: =Stammdaten!$BZ$11 -> Anz. | GE18: =Stammdaten!$BZ$11 -> Anz. | GF18: =Stammdaten!$CA$11 -> Anz. ok | GG18: =Stammdaten!$CA$16 -> Diplomsteuerung | GX18: =Stammdaten!$BZ$11 -> Anz. | GY18: =Stammdaten!$BZ$11 -> Anz. | GZ18: =Stammdaten!$CA$11 -> Anz. ok | HB18: =Stammdaten!$BZ$22 -> Durchschnitt | HN18: Ø | HP18: {=INDEX(StdDisziplinen[StdDisziplin],HP$3)} -> Reck | HY18: {=INDEX(StdDisziplinen[StdDisziplin],HY$3)} -> Boden | IH18: {=INDEX(StdDisziplinen[StdDisziplin],IH$3)} -> Stufenbarren | IQ18: {=INDEX(StdDisziplinen[StdDisziplin],IQ$3)} -> Parallelbarren | IZ18: {=INDEX(StdDisziplinen[StdDisziplin],IZ$3)} -> Schaukelringe | JI18: {=INDEX(StdDisziplinen[StdDisziplin],JI$3)} -> Sprung | JR18: =Stammdaten!$CA$25 -> Punktwerte | JX18: =Stammdaten!$CB$23 -> Max. | KA18: =Stammdaten!$BZ$8 -> Bei Gleichheit | KM18: =Stammdaten!$CA$21 -> Fehlpositionen | KP18: =Stammdaten!$CA$3 -> Dispensationen | KV18: =Stammdaten!$CC$25 -> Nullwerte | LB18: =Stammdaten!$CB$24 -> Auswertung | LH18: =Stammdaten!$CA$16 -> Diplomsteuerung | LT18: =Stammdaten!$CA$16 -> Diplomsteuerung | MF18: =Stammdaten!$CA$16 -> Diplomsteuerung | MR18: =Stammdaten!$CB$23 -> Max. | MS18: =Stammdaten!$BZ$11 -> Anz. | MT18: =Stammdaten!$BZ$11 -> Anz. | MU18: =Stammdaten!$BZ$11 -> Anz. | MV18: =Stammdaten!$CA$11 -> Anz. ok | MW18: =Stammdaten!$CA$27&CHAR(10)&Stammdaten!$O$41&CHAR(10)&Stammdaten!$BZ$6 -> Gesamtpunkte Geräteturnen (gerundet) | MY18: =Stammdaten!$CB$24&CHAR(10)&Stammdaten!$O$41 -> Auswertung Geräteturnen | NT18: =Stammdaten!$AB$2 -> Skalawert | NV18: =Stammdaten!$CA$13 -> Zwischenergebnis | NX18: =Stammdaten!$CA$16 -> Diplomsteuerung | OM18: =Stammdaten!$BZ$11 -> Anz. | ON18: =Stammdaten!$BZ$11 -> Anz. | OO18: =Stammdaten!$CA$11 -> Anz. ok | OQ18: =Stammdaten!$BZ$22 -> Durchschnitt | PA18: Ø | QN18: =Stammdaten!$AB$2 -> Skalawert | QQ18: =Stammdaten!$CA$13 -> Zwischenergebnis | QT18: =Stammdaten!$BZ$13&CHAR(10)&Stammdaten!$CA$14 -> Ergebnis (beste Note) | QU18: =Stammdaten!$BZ$11 -> Anz. | QV18: =Stammdaten!$BZ$11 -> Anz. | QW18: =Stammdaten!$CA$11 -> Anz. ok | QX18: =Stammdaten!$CA$16 -> Diplomsteuerung | RJ18: =Stammdaten!$BZ$22 -> Durchschnitt | RL18: =Stammdaten!$CB$14 -> Beste Note | TW18: =Stammdaten!$CB$25 -> Notenwerte | UB18: =Stammdaten!$CB$23 -> Max. | UE18: =Stammdaten!$BZ$8 -> Bei Gleichheit | UQ18: =Stammdaten!$CA$21 -> Fehlpositionen | UT18: =Stammdaten!$CA$3 -> Dispensationen | UY18: =Stammdaten!$CC$25 -> Nullwerte | VD18: =Stammdaten!$CB$24 -> Auswertung | VJ18: =Stammdaten!$CA$16 -> Diplomsteuerung | VV18: =Stammdaten!$CA$16 -> Diplomsteuerung | WH18: =Stammdaten!$CA$16 -> Diplomsteuerung | WT18: =Stammdaten!$AB$2 -> Skalawert | WY18: =Stammdaten!$CA$13 -> Zwischenergebnis | XD18: 1 | XE18: 2 | XF18: 3 | XG18: =Stammdaten!$CB$23 -> Max. | XH18: =Stammdaten!$BZ$11 -> Anz. | XI18: =Stammdaten!$BZ$11 -> Anz. | XJ18: =Stammdaten!$CA$11 -> Anz. ok | XL18: =Stammdaten!$BZ$22 -> Durchschnitt | XW18: Ø | YD18: =Stammdaten!$BZ$11 -> Anz. | YE18: =Stammdaten!$BZ$11 -> Anz. | YF18: =Stammdaten!$CA$11 -> Anz. ok | ZF18: =Stammdaten!$BZ$22 -> Durchschnitt | AAF18: {=INDEX(StdDisziplinen[Fähigkeit],AAF$2)} -> Ausdauer | AAR18: {=INDEX(StdDisziplinen[Fähigkeit],AAR$2)} -> Beweglichkeit | ABD18: {=INDEX(StdDisziplinen[Fähigkeit],ABD$2)} -> Rumpfkraft | ABP18: {=INDEX(StdDisziplinen[Fähigkeit],ABP$2)} -> Schnelligkeit
B19: Schulhaus: | E19: bis Ende der 2. Oberstufe | DQ19: # | DR19: =$A$2 -> D | DS19: =Stammdaten!$BZ$7 -> Teiler | DT19: =Stammdaten!$BZ$5 -> Disziplin | DU19: =Stammdaten!$CA$24 -> Bewertung | DV19: =Stammdaten!$CA$15 -> Resultatspalte | DW19: =Stammdaten!$V$2 -> Resultat | DX19: =Stammdaten!$BZ$15 -> Erreichtes Resultat | DY19: =Stammdaten!$V$2 -> Resultat | DZ19: =Stammdaten!$CA$23 -> Maximalwert | EC19: =Stammdaten!$CB$10 -> Diplomausgabe | EL19: # | EM19: =$A$2 -> D | EN19: =Stammdaten!$BZ$7 -> Teiler | EO19: =Stammdaten!$BZ$5 -> Disziplin | EP19: =Stammdaten!$CA$24 -> Bewertung | EQ19: =Stammdaten!$CA$15 -> Resultatspalte | ER19: =Stammdaten!$V$2 -> Resultat | ES19: =Stammdaten!$BZ$15 -> Erreichtes Resultat | ET19: =Stammdaten!$V$2 -> Resultat | EU19: =Stammdaten!$CA$23 -> Maximalwert | EX19: =Stammdaten!$CB$10 -> Diplomausgabe | FG19: # | FH19: =$A$2 -> D | FI19: =Stammdaten!$BZ$7 -> Teiler | FJ19: =Stammdaten!$BZ$5 -> Disziplin | FK19: =Stammdaten!$CA$24 -> Bewertung | FL19: =Stammdaten!$CA$15 -> Resultatspalte | FM19: =Stammdaten!$V$2 -> Resultat | FN19: =Stammdaten!$BZ$15 -> Erreichtes Resultat | FO19: =Stammdaten!$V$2 -> Resultat | FP19: =Stammdaten!$CA$23 -> Maximalwert | FS19: =Stammdaten!$CB$10 -> Diplomausgabe | GD19: # | GE19: =$A$2 -> D | GF19: =Stammdaten!$BZ$7 -> Teiler | GG19: =Stammdaten!$BZ$5 -> Disziplin | GH19: =Stammdaten!$CA$24 -> Bewertung | GI19: =Stammdaten!$CA$15 -> Resultatspalte | GJ19: =Stammdaten!$V$2 -> Resultat | GK19: =Stammdaten!$BZ$15 -> Erreichtes Resultat | GL19: =Stammdaten!$V$2 -> Resultat | GM19: =Stammdaten!$CA$23 -> Maximalwert | GP19: =Stammdaten!$CB$10 -> Diplomausgabe | GX19: # | GY19: =$A$2 -> D | GZ19: =Stammdaten!$BZ$7 -> Teiler | HB19: =Stammdaten!$CB$21 -> Med.-Pos. | HN19: {=INDEX(StdBS[StdNummer],$G$1)} -> BS.1 | LH19: =Stammdaten!$BZ$5 -> Disziplin | LI19: =Stammdaten!$CA$24 -> Bewertung | LJ19: =Stammdaten!$CA$15 -> Resultatspalte | LK19: =Stammdaten!$V$2 -> Resultat | LL19: =Stammdaten!$BZ$15 -> Erreichtes Resultat | LM19: =Stammdaten!$V$2 -> Resultat | LN19: =Stammdaten!$CA$23 -> Maximalwert | LQ19: =Stammdaten!$CB$10 -> Diplomausgabe | LT19: =Stammdaten!$BZ$5 -> Disziplin | LU19: =Stammdaten!$CA$24 -> Bewertung | LV19: =Stammdaten!$CA$15 -> Resultatspalte | LW19: =Stammdaten!$V$2 -> Resultat | LX19: =Stammdaten!$BZ$15 -> Erreichtes Resultat | LY19: =Stammdaten!$V$2 -> Resultat | LZ19: =Stammdaten!$CA$23 -> Maximalwert | MC19: =Stammdaten!$CB$10 -> Diplomausgabe | MF19: =Stammdaten!$BZ$5 -> Disziplin | MG19: =Stammdaten!$CA$24 -> Bewertung | MH19: =Stammdaten!$CA$15 -> Resultatspalte | MI19: =Stammdaten!$V$2 -> Resultat | MJ19: =Stammdaten!$BZ$15 -> Erreichtes Resultat | MK19: =Stammdaten!$V$2 -> Resultat | ML19: =Stammdaten!$CA$23 -> Maximalwert | MO19: =Stammdaten!$CB$10 -> Diplomausgabe | MR19: ∑ | MS19: # | MT19: 0 | MU19: =$A$2 -> D | MV19: =Stammdaten!$BZ$7 -> Teiler | NX19: =Stammdaten!$BZ$5 -> Disziplin | NY19: =Stammdaten!$CA$24 -> Bewertung | NZ19: =Stammdaten!$CA$15 -> Resultatspalte | OA19: =Stammdaten!$V$2 -> Resultat | OB19: =Stammdaten!$BZ$15 -> Erreichtes Resultat | OC19: =Stammdaten!$V$2 -> Resultat | OD19: =Stammdaten!$CA$23 -> Maximalwert | OG19: =Stammdaten!$CB$10 -> Diplomausgabe | OM19: # | ON19: =$A$2 -> D | OO19: =Stammdaten!$BZ$7 -> Teiler | OQ19: =Stammdaten!$CB$21 -> Med.-Pos. | PA19: {=INDEX(StdBS[StdNummer],$HP$1)} -> BS.2 | QU19: # | QV19: =$A$2 -> D | QW19: =Stammdaten!$BZ$7 -> Teiler | QX19: =Stammdaten!$BZ$5 -> Disziplin | QY19: =Stammdaten!$CA$24 -> Bewertung | QZ19: =Stammdaten!$CA$15 -> Resultatspalte | RA19: =Stammdaten!$V$2 -> Resultat | RB19: =Stammdaten!$BZ$15 -> Erreichtes Resultat | RC19: =Stammdaten!$V$2 -> Resultat | RD19: =Stammdaten!$CA$23 -> Maximalwert | RG19: =Stammdaten!$CB$10 -> Diplomausgabe | RJ19: =Stammdaten!$CB$21 -> Med.-Pos. | RL19: {=INDEX(StdBS[StdNummer],$PC$1)} -> BS.3 | VJ19: =Stammdaten!$BZ$5 -> Disziplin | VK19: =Stammdaten!$CA$24 -> Bewertung | VL19: =Stammdaten!$CA$15 -> Resultatspalte | VM19: =Stammdaten!$V$2 -> Resultat | VN19: =Stammdaten!$BZ$15 -> Erreichtes Resultat | VO19: =Stammdaten!$V$2 -> Resultat | VP19: =Stammdaten!$CA$23 -> Maximalwert | VS19: =Stammdaten!$CB$10 -> Diplomausgabe | VV19: =Stammdaten!$BZ$5 -> Disziplin | VW19: =Stammdaten!$CA$24 -> Bewertung | VX19: =Stammdaten!$CA$15 -> Resultatspalte | VY19: =Stammdaten!$V$2 -> Resultat | VZ19: =Stammdaten!$BZ$15 -> Erreichtes Resultat | WA19: =Stammdaten!$V$2 -> Resultat | WB19: =Stammdaten!$CA$23 -> Maximalwert | WE19: =Stammdaten!$CB$10 -> Diplomausgabe | WH19: =Stammdaten!$BZ$5 -> Disziplin | WI19: =Stammdaten!$CA$24 -> Bewertung | WJ19: =Stammdaten!$CA$15 -> Resultatspalte | WK19: =Stammdaten!$V$2 -> Resultat | WL19: =Stammdaten!$BZ$15 -> Erreichtes Resultat | WM19: =Stammdaten!$V$2 -> Resultat | WN19: =Stammdaten!$CA$23 -> Maximalwert | WQ19: =Stammdaten!$CB$10 -> Diplomausgabe | XG19: ∑ | XH19: # | XI19: =$A$2 -> D | XJ19: =Stammdaten!$BZ$7 -> Teiler | XL19: =Stammdaten!$CB$21 -> Med.-Pos. | XW19: {=INDEX(StdBS[StdNummer],$RN$1)} -> BS.4 | YD19: # | YE19: =$A$2 -> D | YF19: =Stammdaten!$BZ$7 -> Teiler | YM19: =Stammdaten!$BM$6 -> BS.1 | YN19: =Stammdaten!$BM$7 -> BS.2 | YO19: =Stammdaten!$BM$8 -> BS.3 | YP19: =Stammdaten!$BM$9 -> BS.4 | ZF19: =Stammdaten!$BM$6&" bis "&Stammdaten!$BM$9 -> BS.1 bis BS.4 | AAF19: {=INDEX(StdDisziplinen[StdDisziplin],AAF$3)} -> 12-Min.-Lauf (Halle) | AAL19: {=INDEX(StdDisziplinen[StdDisziplin],AAL$3)} -> 12-Min.-Lauf (im Freien) | ABP19: {=INDEX(StdDisziplinen[StdDisziplin],ABP$3)} -> 60-m-Lauf | ABV19: {=INDEX(StdDisziplinen[StdDisziplin],ABV$3)} -> 80-m-Lauf
B20: Klasse: | E20: an die Abteilung Sport / das Sportamt | G20: Effektiv erzieltes Resultat eintragen: | S20: =$G$20 -> Effektiv erzieltes Resultat eintragen: | AE20: =$G$20 -> Effektiv erzieltes Resultat eintragen: | AQ20: =$G$20 -> Effektiv erzieltes Resultat eintragen: | BC20: =$G$20 -> Effektiv erzieltes Resultat eintragen: | BO20: =$G$20 -> Effektiv erzieltes Resultat eintragen: | CA20: =$G$20 -> Effektiv erzieltes Resultat eintragen: | CM20: =$G$20 -> Effektiv erzieltes Resultat eintragen: | CY20: =$G$20 -> Effektiv erzieltes Resultat eintragen: | DK20: {=INDEX(INDIRECT($B$4),DK$4)} -> 60-m-Lauf | DL20: {=INDEX(INDIRECT($B$4),DL$4)} -> 80-m-Lauf | DM20: {=INDEX(INDIRECT($B$4),DM$4)} -> 60-m-Lauf | DN20: {=INDEX(INDIRECT($B$4),DN$4)} -> 80-m-Lauf | DW20: =Stammdaten!$BZ$28 -> Format | DY20: =Stammdaten!$BZ$10 -> Ausgabe | EC20: =Stammdaten!$CA$26 -> Spalte 1 | ED20: =Stammdaten!$CB$26 -> Spalte 2 | EE20: =Stammdaten!$CC$26 -> Spalte 3 | EF20: {=INDEX(INDIRECT($B$4),EF$4)} -> 12-Min.-Lauf (Halle) | EG20: {=INDEX(INDIRECT($B$4),EG$4)} -> 12-Min.-Lauf (im Freien) | EH20: {=INDEX(INDIRECT($B$4),EH$4)} -> 12-Min.-Lauf (Halle) | EI20: {=INDEX(INDIRECT($B$4),EI$4)} -> 12-Min.-Lauf (im Freien) | ER20: =Stammdaten!$BZ$28 -> Format | ET20: =Stammdaten!$BZ$10 -> Ausgabe | EX20: =Stammdaten!$CA$26 -> Spalte 1 | EY20: =Stammdaten!$CB$26 -> Spalte 2 | EZ20: =Stammdaten!$CC$26 -> Spalte 3 | FA20: {=INDEX(INDIRECT($B$4),FA$4)} -> Hochsprung | FB20: {=INDEX(INDIRECT($B$4),FB$4)} -> Weitsprung | FC20: {=INDEX(INDIRECT($B$4),FC$4)} -> Hochsprung | FD20: {=INDEX(INDIRECT($B$4),FD$4)} -> Weitsprung | FM20: =Stammdaten!$BZ$28 -> Format | FO20: =Stammdaten!$BZ$10 -> Ausgabe | FS20: =Stammdaten!$CA$26 -> Spalte 1 | FT20: =Stammdaten!$CB$26 -> Spalte 2 | FU20: =Stammdaten!$CC$26 -> Spalte 3 | FV20: {=INDEX(INDIRECT($B$4),FV$4)} -> Ballwurf | FW20: {=INDEX(INDIRECT($B$4),FW$4)} -> Kugelstossen | FX20: {=INDEX(INDIRECT($B$4),FX$4)} -> Speerwurf | FY20: {=INDEX(INDIRECT($B$4),FY$4)} -> Ballwurf | FZ20: {=INDEX(INDIRECT($B$4),FZ$4)} -> Kugelstossen | GA20: {=INDEX(INDIRECT($B$4),GA$4)} -> Speerwurf | GJ20: =Stammdaten!$BZ$28 -> Format | GL20: =Stammdaten!$BZ$10 -> Ausgabe | GP20: =Stammdaten!$CA$26 -> Spalte 1 | GQ20: =Stammdaten!$CB$26 -> Spalte 2 | GR20: =Stammdaten!$CC$26 -> Spalte 3 | HP20: =$G$20 -> Effektiv erzieltes Resultat eintragen: | HY20: =$G$20 -> Effektiv erzieltes Resultat eintragen: | IH20: =$G$20 -> Effektiv erzieltes Resultat eintragen: | IQ20: =$G$20 -> Effektiv erzieltes Resultat eintragen: | IZ20: =$G$20 -> Effektiv erzieltes Resultat eintragen: | JI20: =$G$20 -> Effektiv erzieltes Resultat eintragen: | LB20: =Stammdaten!$CA$3 -> Dispensationen | LE20: =Stammdaten!$CC$25 -> Nullwerte | LH20: 1 | LK20: =Stammdaten!$BZ$28 -> Format | LM20: =Stammdaten!$BZ$10 -> Ausgabe | LQ20: =Stammdaten!$CA$26 -> Spalte 1 | LR20: =Stammdaten!$CB$26 -> Spalte 2 | LS20: =Stammdaten!$CC$26 -> Spalte 3 | LT20: 2 | LW20: =Stammdaten!$BZ$28 -> Format | LY20: =Stammdaten!$BZ$10 -> Ausgabe | MC20: =Stammdaten!$CA$26 -> Spalte 1 | MD20: =Stammdaten!$CB$26 -> Spalte 2 | ME20: =Stammdaten!$CC$26 -> Spalte 3 | MF20: 3 | MI20: =Stammdaten!$BZ$28 -> Format | MK20: =Stammdaten!$BZ$10 -> Ausgabe | MO20: =Stammdaten!$CA$26 -> Spalte 1 | MP20: =Stammdaten!$CB$26 -> Spalte 2 | MQ20: =Stammdaten!$CC$26 -> Spalte 3 | NG20: =$G$20 -> Effektiv erzieltes Resultat eintragen: | NT20: {=INDEX(INDIRECT($B$4),NT$4)} -> Geräteturnen | NU20: {=INDEX(INDIRECT($B$4),NU$4)} -> Parkour | NV20: {=INDEX(INDIRECT($B$4),NV$4)} -> Geräteturnen | NW20: {=INDEX(INDIRECT($B$4),NW$4)} -> Parkour | OA20: =Stammdaten!$BZ$28 -> Format | OC20: =Stammdaten!$BZ$10 -> Ausgabe | OG20: =Stammdaten!$CA$26 -> Spalte 1 | OH20: =Stammdaten!$CB$26 -> Spalte 2 | OI20: =Stammdaten!$CC$26 -> Spalte 3 | PC20: =$G$20 -> Effektiv erzieltes Resultat eintragen: | PO20: =$G$20 -> Effektiv erzieltes Resultat eintragen: | QB20: =$G$20 -> Effektiv erzieltes Resultat eintragen: | QN20: {=INDEX(INDIRECT($B$4),QN$4)} -> Tanzen | QO20: {=INDEX(INDIRECT($B$4),QO$4)} -> Rope-Skipping | QP20: {=INDEX(INDIRECT($B$4),QP$4)} -> Aerobic | QQ20: {=INDEX(INDIRECT($B$4),QQ$4)} -> Tanzen | QR20: {=INDEX(INDIRECT($B$4),QR$4)} -> Rope-Skipping | QS20: {=INDEX(INDIRECT($B$4),QS$4)} -> Aerobic | RA20: =Stammdaten!$BZ$28 -> Format | RC20: =Stammdaten!$BZ$10 -> Ausgabe | RG20: =Stammdaten!$CA$26 -> Spalte 1 | RH20: =Stammdaten!$CB$26 -> Spalte 2 | RI20: =Stammdaten!$CC$26 -> Spalte 3 | RN20: =$G$20 -> Effektiv erzieltes Resultat eintragen: | RZ20: =$G$20 -> Effektiv erzieltes Resultat eintragen: | SL20: =$G$20 -> Effektiv erzieltes Resultat eintragen: | SX20: =$G$20 -> Effektiv erzieltes Resultat eintragen: | TJ20: =$G$20 -> Effektiv erzieltes Resultat eintragen: | VD20: =Stammdaten!$CA$3 -> Dispensationen | VG20: =Stammdaten!$CC$25 -> Nullwerte | VJ20: 1 | VM20: =Stammdaten!$BZ$28 -> Format | VO20: =Stammdaten!$BZ$10 -> Ausgabe | VS20: =Stammdaten!$CA$26 -> Spalte 1 | VT20: =Stammdaten!$CB$26 -> Spalte 2 | VU20: =Stammdaten!$CC$26 -> Spalte 3 | VV20: 2 | VY20: =Stammdaten!$BZ$28 -> Format | WA20: =Stammdaten!$BZ$10 -> Ausgabe | WE20: =Stammdaten!$CA$26 -> Spalte 1 | WF20: =Stammdaten!$CB$26 -> Spalte 2 | WG20: =Stammdaten!$CC$26 -> Spalte 3 | WH20: 3 | WK20: =Stammdaten!$BZ$28 -> Format | WM20: =Stammdaten!$BZ$10 -> Ausgabe | WQ20: =Stammdaten!$CA$26 -> Spalte 1 | WR20: =Stammdaten!$CB$26 -> Spalte 2 | WS20: =Stammdaten!$CC$26 -> Spalte 3 | WT20: {=INDEX(INDIRECT($B$4),WT$4)} -> Basketball | WU20: {=INDEX(INDIRECT($B$4),WU$4)} -> Fussball | WV20: {=INDEX(INDIRECT($B$4),WV$4)} -> Handball | WW20: {=INDEX(INDIRECT($B$4),WW$4)} -> Unihockey | WX20: {=INDEX(INDIRECT($B$4),WX$4)} -> Volleyball | WY20: {=INDEX(INDIRECT($B$4),WY$4)} -> Basketball | WZ20: {=INDEX(INDIRECT($B$4),WZ$4)} -> Fussball | XA20: {=INDEX(INDIRECT($B$4),XA$4)} -> Handball | ... XC20: {=INDEX(INDIRECT($B$4),XC$4)} -> Volleyball | ZM20: =$G$20 -> Effektiv erzieltes Resultat eintragen: | AAF20: Resultat/Note werden von BS.1 übernommen | AAL20: =$AAF$20 -> Resultat/Note werden von BS.1 übernommen | AAR20: =$G$20 -> Effektiv erzieltes Resultat eintragen: | ABD20: =$G$20 -> Effektiv erzieltes Resultat eintragen: | ABP20: =$AAF$20 -> Resultat/Note werden von BS.1 übernommen | ABV20: =$AAF$20 -> Resultat/Note werden von BS.1 übernommen | ACB20: =$G$20 -> Effektiv erzieltes Resultat eintragen:
B21: Datum Abgabe: | E21: des betreffenden Kantons senden | G21: {=INDEX(StdDisziplinen[Resultatform],G$3)} -> Sekunden, gerundet auf Hundertstelsekunden | S21: {=INDEX(StdDisziplinen[Resultatform],S$3)} -> Sekunden, gerundet auf Hundertstelsekunden | AE21: {=INDEX(StdDisziplinen[Resultatform],AE$3)} -> Anzahl Runden, gerundet auf halbe Runden | AQ21: {=INDEX(StdDisziplinen[Resultatform],AQ$3)} -> Meter, gerundet auf ganze Zahl | BC21: {=INDEX(StdDisziplinen[Resultatform],BC$3)} -> Zentimeter, gerundet auf ganze Zahl | BO21: {=INDEX(StdDisziplinen[Resultatform],BO$3)} -> Zentimeter, gerundet auf ganze Zahl | CA21: {=INDEX(StdDisziplinen[Resultatform],CA$3)} -> Meter, gerundet auf zwei Stellen | CM21: {=INDEX(StdDisziplinen[Resultatform],CM$3)} -> Meter, gerundet auf zwei Stellen | CY21: {=INDEX(StdDisziplinen[Resultatform],CY$3)} -> Meter, gerundet auf zwei Stellen | HL21: =Stammdaten!$CB$14&CHAR(10)&Stammdaten!$CD$14&CHAR(10)&$GZ$25&Stammdaten!$CB$5 -> Beste Note aus jeder der 4 Disziplinen | HP21: {=INDEX(StdDisziplinen[Resultatform],HP$3)} -> Punkte, gerundet auf ganze Zahl | HY21: {=INDEX(StdDisziplinen[Resultatform],HY$3)} -> Punkte, gerundet auf ganze Zahl | IH21: {=INDEX(StdDisziplinen[Resultatform],IH$3)} -> Punkte, gerundet auf ganze Zahl | IQ21: {=INDEX(StdDisziplinen[Resultatform],IQ$3)} -> Punkte, gerundet auf ganze Zahl | IZ21: {=INDEX(StdDisziplinen[Resultatform],IZ$3)} -> Punkte, gerundet auf ganze Zahl | JI21: {=INDEX(StdDisziplinen[Resultatform],JI$3)} -> Punkte, gerundet auf ganze Zahl | MW21: ="Summe der "&CHAR(10)&$MV$25&Stammdaten!$CB$15&CHAR(10)&Stammdaten!$CD$13&CHAR(10)&Stammdaten!$BP$7&Stammdaten!$CA$20 -> Summe der 3 besten Resultate aus max. 6 Geräten | NG21: {=INDEX(StdDisziplinen[Resultatform],NG$3)} -> Punkte, gerundet auf ganze Zahl | OY21: =Stammdaten!$CB$20 -> Note Geräteturnen und Note Parkour | PC21: {=INDEX(StdDisziplinen[Resultatform],PC$3)} -> Punkte, aufgerundet auf ganze oder halbe Punkte | PO21: {=INDEX(StdDisziplinen[Resultatform],PO$3)} -> Punkte, gerundet auf ganze Punkte | QB21: {=INDEX(StdDisziplinen[Resultatform],QB$3)} -> Punkte, aufgerundet auf ganze oder halbe Punkte | RL21: =Stammdaten!$CB$14&CHAR(10)&Stammdaten!$CD$13&CHAR(10)&Stammdaten!$BP$8&Stammdaten!$CB$5 -> Beste Note aus max. 3 Disziplinen | RN21: {=INDEX(StdDisziplinen[Resultatform],RN$3)} -> Sekunden, gerundet auf Zehntelsekunden | RZ21: {=INDEX(StdDisziplinen[Resultatform],RZ$3)} -> Sekunden, gerundet auf Zehntelsekunden | SL21: {=INDEX(StdDisziplinen[Resultatform],SL$3)} -> Sekunden, gerundet auf Zehntelsekunden | SX21: {=INDEX(StdDisziplinen[Resultatform],SX$3)} -> Sekunden, gerundet auf Zehntelsekunden | TJ21: {=INDEX(StdDisziplinen[Resultatform],TJ$3)} -> Punkte, abgerundet auf ganze Zahl | XU21: =XJ$25&Stammdaten!CC14&CHAR(10)&Stammdaten!$CD$13&CHAR(10)&Stammdaten!$BP$9&Stammdaten!$CA$12 -> 3 beste Noten aus max. 5 Spielsportarten | ZF21: ="Ø "&Stammdaten!$CC$13 -> Ø aus Ergebnissen BS.1, BS.2, BS.3, BS.4 | ZM21: {=INDEX(StdDisziplinen[Resultatform],ZM$3)} -> Minuten und Sekunden, jeweils ganze Zahl | AAF21: Effektiv erzieltes Resultat bei BS.1 eintragen | AAL21: =$AAF$21 -> Effektiv erzieltes Resultat bei BS.1 eintragen | AAR21: {=INDEX(StdDisziplinen[Resultatform],AAR$3)} -> Zentimeter, abgerundet auf ganze Zahl | ABD21: {=INDEX(StdDisziplinen[Resultatform],ABD$3)} -> Sekunden, abgerundet auf ganze Zahl | ABP21: =$AAF$21 -> Effektiv erzieltes Resultat bei BS.1 eintragen | ABV21: =$AAF$21 -> Effektiv erzieltes Resultat bei BS.1 eintragen | ACB21: {=INDEX(StdDisziplinen[Resultatform],ACB$3)} -> Punkte, gerundet auf ganze Punkte
B23: In Spalte "Eingabe": | C23: 0 für Betrug/Verweigerung | E23: d für Dispensation | G23: {=INDEX(INDIRECT($C$3),G$3)} | Q23: {=IFERROR(INDEX(INDIRECT(Q$4),G$3),"")} | S23: {=INDEX(INDIRECT($C$3),S$3)} | AC23: {=IFERROR(INDEX(INDIRECT(AC$5),S$3),"")} | AE23: {=INDEX(INDIRECT($C$3),AE$3)} | AO23: {=IFERROR(INDEX(INDIRECT(AO$5),AE$3),"")} | AQ23: {=INDEX(INDIRECT($C$3),AQ$3)} | BA23: {=IFERROR(INDEX(INDIRECT(BA$5),AQ$3),"")} | BC23: {=INDEX(INDIRECT($C$3),BC$3)} | BM23: {=IFERROR(INDEX(INDIRECT(BM$5),BC$3),"")} | BO23: {=INDEX(INDIRECT($C$3),BO$3)} | BY23: {=IFERROR(INDEX(INDIRECT(BY$5),BO$3),"")} | CA23: {=INDEX(INDIRECT($C$3),CA$3)} | CK23: {=IFERROR(INDEX(INDIRECT(CK$5),CA$3),"")} | CM23: {=INDEX(INDIRECT($C$3),CM$3)} | CW23: {=IFERROR(INDEX(INDIRECT(CW$5),CM$3),"")} | CY23: {=INDEX(INDIRECT($C$3),CY$3)} | DI23: {=IFERROR(INDEX(INDIRECT(DI$5),CY$3),"")} | HP23: {=INDEX(INDIRECT($C$3),HP$3)} -> Maximalwert: | HW23: {=IFERROR(INDEX(INDIRECT(HW$5),HP$3),"")} -> 20 | HY23: {=INDEX(INDIRECT($C$3),HY$3)} -> Maximalwert: | IF23: {=IFERROR(INDEX(INDIRECT(IF$5),HY$3),"")} -> 20 | IH23: {=INDEX(INDIRECT($C$3),IH$3)} -> Maximalwert: | IO23: {=IFERROR(INDEX(INDIRECT(IO$5),IH$3),"")} -> 20 | IQ23: {=INDEX(INDIRECT($C$3),IQ$3)} -> Maximalwert: | IX23: {=IFERROR(INDEX(INDIRECT(IX$5),IQ$3),"")} -> 20 | IZ23: {=INDEX(INDIRECT($C$3),IZ$3)} -> Maximalwert: | JG23: {=IFERROR(INDEX(INDIRECT(JG$5),IZ$3),"")} -> 20 | JI23: {=INDEX(INDIRECT($C$3),JI$3)} -> Maximalwert: | JP23: {=IFERROR(INDEX(INDIRECT(JP$5),JI$3),"")} -> 20 | JR23: =COLUMN() -> 278 | JS23: =COLUMN() -> 279 | JT23: =COLUMN() -> 280 | JU23: =COLUMN() -> 281 | JV23: =COLUMN() -> 282 | JW23: =COLUMN() -> 283 | JX23: 1 | JY23: 2 | JZ23: 3 | KA23: =3 | KE23: =2X | KI23: =X2 | NG23: {=INDEX(INDIRECT($C$3),NG$3)} -> Maximalwert: | NR23: {=IFERROR(INDEX(INDIRECT(NR$5),NG$3),"")} -> 26 | PC23: {=INDEX(INDIRECT($C$3),PC$3)} -> Maximalwert: | PM23: {=IFERROR(INDEX(INDIRECT(PM$5),PC$3),"")} -> 12 | PO23: {=INDEX(INDIRECT($C$3),PO$3)} -> Maximalwert: | PZ23: {=IFERROR(INDEX(INDIRECT(PZ$5),PO$3),"")} -> 16 | QB23: {=INDEX(INDIRECT($C$3),QB$3)} -> Maximalwert: | QL23: {=IFERROR(INDEX(INDIRECT(QL$5),QB$3),"")} -> 12 | RN23: {=INDEX(INDIRECT($C$3),RN$3)} | RX23: {=IFERROR(INDEX(INDIRECT(RX$5),RN$3),"")} | RZ23: {=INDEX(INDIRECT($C$3),RZ$3)} | SJ23: {=IFERROR(INDEX(INDIRECT(SJ$5),RZ$3),"")} | SL23: {=INDEX(INDIRECT($C$3),SL$3)} | SV23: {=IFERROR(INDEX(INDIRECT(SV$5),SL$3),"")} | SX23: {=INDEX(INDIRECT($C$3),SX$3)} | TH23: {=IFERROR(INDEX(INDIRECT(TH$5),SX$3),"")} | TJ23: {=INDEX(INDIRECT($C$3),TJ$3)} -> Maximalwert: | TU23: {=IFERROR(INDEX(INDIRECT(TU$5),TJ$3),"")} -> 20 | TW23: =COLUMN() -> 543 | TX23: =COLUMN() -> 544 | TY23: =COLUMN() -> 545 | TZ23: =COLUMN() -> 546 | UA23: =COLUMN() -> 547 | UB23: 1 | UC23: 2 | UD23: 3 | UE23: =3 | UI23: =2X | UM23: =X2 | ZH23: =Stammdaten!$BZ$5&" eintragen" -> Disziplin eintragen | ZK23: =Stammdaten!$BX$7&" wählen" -> Status wählen | AAR23: {=INDEX(INDIRECT($C$3),AAR$3)} -> Minimalwert: | ABB23: {=IFERROR(INDEX(INDIRECT(ABB$5),AAR$3),"")} -> Knaben: –1 / Mädchen: 0
B25: Schüler/-in: | F25: Stufe der Prüfung wählen ð | G25: 2. OS | I25: {=INDEX(INDIRECT($B$2),G$3)} -> SechzigmLaufResultat[@[BedRes]] | K25: {=INDEX(INDIRECT($C$2),G$3)} -> 0.01 | L25: {=INDEX(INDIRECT($E$2),G$3)} -> 0 | M25: {=INDEX(INDIRECT($B$6),G$3)} -> -1 | S25: 2. OS | U25: {=INDEX(INDIRECT($B$2),S$3)} -> AchtzigmLaufResultat[@[BedRes]] | W25: {=INDEX(INDIRECT($C$2),S$3)} -> 0.01 | X25: {=INDEX(INDIRECT($E$2),S$3)} -> 0 | Y25: {=INDEX(INDIRECT($B$6),S$3)} -> -1 | AE25: 2. OS | AG25: {=INDEX(INDIRECT($B$2),AE$3)} -> ZwölfMinLaufHalleResultat[@[BedRes]] | AI25: {=INDEX(INDIRECT($C$2),AE$3)} -> 0.5 | AJ25: {=INDEX(INDIRECT($E$2),AE$3)} -> 0 | AK25: {=INDEX(INDIRECT($B$6),AE$3)} -> 1 | AQ25: 2. OS | AS25: {=INDEX(INDIRECT($B$2),AQ$3)} -> ZwölfMinLaufimFreienResultat[@[BedRes]] | AU25: {=INDEX(INDIRECT($C$2),AQ$3)} -> 1 | AV25: {=INDEX(INDIRECT($E$2),AQ$3)} -> 0 | AW25: {=INDEX(INDIRECT($B$6),AQ$3)} -> 1 | BC25: 2. OS | BE25: {=INDEX(INDIRECT($B$2),BC$3)} -> HochsprungResultat[@[BedRes]] | BG25: {=INDEX(INDIRECT($C$2),BC$3)} -> 1 | BH25: {=INDEX(INDIRECT($E$2),BC$3)} -> 0 | BI25: {=INDEX(INDIRECT($B$6),BC$3)} -> 1 | BO25: 2. OS | BQ25: {=INDEX(INDIRECT($B$2),BO$3)} -> WeitsprungResultat[@[BedRes]] | BS25: {=INDEX(INDIRECT($C$2),BO$3)} -> 1 | BT25: {=INDEX(INDIRECT($E$2),BO$3)} -> 0 | BU25: {=INDEX(INDIRECT($B$6),BO$3)} -> 1 | CA25: 2. OS | CC25: {=INDEX(INDIRECT($B$2),CA$3)} -> BallwurfResultat[@[BedRes]] | CE25: {=INDEX(INDIRECT($C$2),CA$3)} -> 0.01 | CF25: {=INDEX(INDIRECT($E$2),CA$3)} -> 0 | CG25: {=INDEX(INDIRECT($B$6),CA$3)} -> 1 | CM25: 2. OS | CO25: {=INDEX(INDIRECT($B$2),CM$3)} -> KugelstossenResultat[@[BedRes]] | CQ25: {=INDEX(INDIRECT($C$2),CM$3)} -> 0.01 | CR25: {=INDEX(INDIRECT($E$2),CM$3)} -> 0 | CS25: {=INDEX(INDIRECT($B$6),CM$3)} -> 1 | CY25: 2. OS | DA25: {=INDEX(INDIRECT($B$2),CY$3)} -> SpeerwurfResultat[@[BedRes]] | DC25: {=INDEX(INDIRECT($C$2),CY$3)} -> 0.01 | DD25: {=INDEX(INDIRECT($E$2),CY$3)} -> 0 | DE25: {=INDEX(INDIRECT($B$6),CY$3)} -> 1 | DS25: {=INDEX(INDIRECT(DS$1),DK$2)} -> 1 | EN25: {=INDEX(INDIRECT(EN$1),EF$2)} -> 1 | FI25: {=INDEX(INDIRECT(FI$1),FA$2)} -> 1 | GF25: {=INDEX(INDIRECT(GF$1),FV$2)} -> 1 | GZ25: {=INDEX(INDIRECT(GZ$1),G$1)} -> 4 | HA25: {=INDEX(INDIRECT(HA$1),G$1)} -> 0.1 | HP25: 2. OS | HR25: {=INDEX(INDIRECT($B$2),HP$3)} -> ReckResultat[@[BedRes]] | HY25: 2. OS | IA25: {=INDEX(INDIRECT($B$2),HY$3)} -> BodenResultat[@[BedRes]] | IH25: 2. OS | IJ25: {=INDEX(INDIRECT($B$2),IH$3)} -> StufenbarrenResultat[@[BedRes]] | IQ25: 2. OS | IS25: {=INDEX(INDIRECT($B$2),IQ$3)} -> ParallelbarrenResultat[@[BedRes]] | IZ25: 2. OS | JB25: {=INDEX(INDIRECT($B$2),IZ$3)} -> SchaukelringeResultat[@[BedRes]] | JI25: 2. OS | JK25: {=INDEX(INDIRECT($B$2),JI$3)} -> SprungResultat[@[BedRes]] | MV25: {=INDEX(INDIRECT(MV$1),$HP$2)} -> 3 | MY25: {=INDEX(INDIRECT($C$2),MW$3)} -> 1 | NA25: {=INDEX(INDIRECT($B$6),MW$3)} -> 1 | NG25: 2. OS | NI25: {=INDEX(INDIRECT($B$2),NG$3)} -> ParkourResultat[@[BedRes]] | NL25: {=INDEX(INDIRECT($C$2),NG$3)} -> 1 | NM25: {=INDEX(INDIRECT($E$2),NG$3)} -> 0 | NN25: {=INDEX(INDIRECT($B$6),NG$3)} -> 1 | OO25: {=INDEX(INDIRECT(OO$1),HP$1)} -> 2 | OP25: {=INDEX(INDIRECT(OP$1),HP$1)} -> 0.1 | PC25: 2. OS | PE25: {=INDEX(INDIRECT($B$2),PC$3)} -> TanzenResultat[@[BedRes]] | PG25: {=INDEX(INDIRECT($C$2),PC$3)} -> 0.5 | PH25: {=INDEX(INDIRECT($E$2),PC$3)} -> 1 | PI25: {=INDEX(INDIRECT($B$6),PC$3)} -> -1 | PO25: 2. OS | PQ25: {=INDEX(INDIRECT($B$2),PO$3)} -> RopeSkippingResultat[@[BedRes]] | PT25: {=INDEX(INDIRECT($C$2),PO$3)} -> 1 | PU25: {=INDEX(INDIRECT($E$2),PO$3)} -> 0 | PV25: {=INDEX(INDIRECT($B$6),PO$3)} -> 1 | QB25: 2. OS | QD25: {=INDEX(INDIRECT($B$2),QB$3)} -> AerobicResultat[@[BedRes]] | QF25: {=INDEX(INDIRECT($C$2),QB$3)} -> 0.5 | QG25: {=INDEX(INDIRECT($E$2),QB$3)} -> 1 | QH25: {=INDEX(INDIRECT($B$6),QB$3)} -> -1 | QW25: {=INDEX(INDIRECT(QW$1),QN$2)} -> 1 | RN25: 2. OS | RP25: {=INDEX(INDIRECT($B$2),RN$3)} -> BasketballResultat[@[BedRes]] | RR25: {=INDEX(INDIRECT($C$2),RN$3)} -> 0.1 | RS25: {=INDEX(INDIRECT($E$2),RN$3)} -> 0 | RT25: {=INDEX(INDIRECT($B$6),RN$3)} -> -1 | RZ25: 2. OS | SB25: {=INDEX(INDIRECT($B$2),RZ$3)} -> FussballResultat[@[BedRes]] | SD25: {=INDEX(INDIRECT($C$2),RZ$3)} -> 0.1 | SE25: {=INDEX(INDIRECT($E$2),RZ$3)} -> 0 | SF25: {=INDEX(INDIRECT($B$6),RZ$3)} -> -1 | SL25: 2. OS | SN25: {=INDEX(INDIRECT($B$2),SL$3)} -> HandballResultat[@[BedRes]] | SP25: {=INDEX(INDIRECT($C$2),SL$3)} -> 0.1 | SQ25: {=INDEX(INDIRECT($E$2),SL$3)} -> 0 | SR25: {=INDEX(INDIRECT($B$6),SL$3)} -> -1 | SX25: 2. OS | SZ25: {=INDEX(INDIRECT($B$2),SX$3)} -> UnihockeyResultat[@[BedRes]] | TB25: {=INDEX(INDIRECT($C$2),SX$3)} -> 0.1 | TC25: {=INDEX(INDIRECT($E$2),SX$3)} -> 0 | TD25: {=INDEX(INDIRECT($B$6),SX$3)} -> -1 | TJ25: 2. OS | TL25: {=INDEX(INDIRECT($B$2),TJ$3)} -> VolleyballResultat[@[BedRes]] | TO25: {=INDEX(INDIRECT($C$2),TJ$3)} -> 1 | TP25: {=INDEX(INDIRECT($E$2),TJ$3)} -> 0 | TQ25: {=INDEX(INDIRECT($B$6),TJ$3)} -> 1 | XJ25: {=INDEX(INDIRECT(XJ$1),$RN$1)} -> 3 | XK25: {=INDEX(INDIRECT($XK$1),$RN$1)} -> 0.1 | YF25: =COUNT(INDIRECT($YF$1)) -> 4 | YG25: 0.25 | ZK25: 2. OS | ZM25: 2. OS | ZO25: SchwimmenResultatMin[@[BedRes]] | ZT25: SchwimmenResultatSek[@[BedRes]] | ZW25: ='BS 6'!$K$1 -> 60 | ZY25: {=INDEX(INDIRECT($B$6),ZM$3)} -> -1 | AAF25: =_Stufe_ZwölH -> 2. OS | AAH25: {=INDEX(StdDisziplinen[Resultatanzeige],AAF$3)} -> Anzahl Runden | AAL25: =_Stufe_ZwölF -> 2. OS | AAN25: {=INDEX(StdDisziplinen[Bewertung],AAL$3)} -> Meter | AAR25: 2. OS | AAT25: {=INDEX(INDIRECT($B$2),AAR$3)} -> BeweglichkeitResultat[@[BedRes]] | AAU25: {=INDEX(INDIRECT($C$2),AAR$3)} -> 1 | AAW25: {=INDEX(INDIRECT($E$2),AAR$3)} -> 0 | AAX25: {=INDEX(INDIRECT($B$6),AAR$3)} -> 1 | ABD25: 2. OS | ABF25: {=INDEX(INDIRECT($B$2),ABD$3)} -> RumpfkraftResultat[@[BedRes]] | ABG25: {=INDEX(INDIRECT($C$2),ABD$3)} -> 1 | ABI25: {=INDEX(INDIRECT($E$2),ABD$3)} -> 0 | ABJ25: {=INDEX(INDIRECT($B$6),ABD$3)} -> 1 | ABP25: =_Stufe_Sech -> 2. OS | ABR25: {=INDEX(StdDisziplinen[Bewertung],ABP$3)} -> Sekunden | ABV25: =_Stufe_Acht -> 2. OS | ABX25: {=INDEX(StdDisziplinen[Bewertung],ABV$3)} -> Sekunden | ACB25: 2. OS | ACD25: {=INDEX(INDIRECT($B$2),ACB$3)} -> KonditionsparcoursResultat[@[BedRes]] | ACG25: {=INDEX(INDIRECT($C$2),ACB$3)} -> 1 | ACH25: {=INDEX(INDIRECT($E$2),ACB$3)} -> 0 | ACI25: {=INDEX(INDIRECT($B$6),ACB$3)} -> 1
B27: Name: | C27: Vorname: | E27: Geschlecht (Skala) | G27: Eingabe | H27: Resultat | I27: BedRes | K27: Rundung | N27: Skala-Wert | Q27: Note | S27: Eingabe | T27: Resultat | U27: BedRes | W27: Rundung | Z27: Skala-Wert | AC27: Note | AE27: Eingabe | AF27: Resultat | AG27: BedRes | AI27: Rundung | AL27: Skala-Wert | AO27: Note | AQ27: Eingabe | AR27: Resultat | AS27: BedRes | AU27: Rundung | AX27: Skala-Wert | BA27: Note | BC27: Eingabe | BD27: Resultat | BE27: BedRes | BG27: Rundung | BJ27: Skala-Wert | BM27: Note | BO27: Eingabe | BP27: Resultat | BQ27: BedRes | BS27: Rundung | BV27: Skala-Wert | BY27: Note | CA27: Eingabe | CB27: Resultat | CC27: BedRes | CE27: Rundung | CH27: Skala-Wert | CK27: Note | CM27: Eingabe | CN27: Resultat | CO27: BedRes | CQ27: Rundung | CT27: Skala-Wert | CW27: Note | CY27: Eingabe | CZ27: Resultat | DA27: BedRes | DC27: Rundung | DF27: Skala-Wert | DI27: Note | DK27: =Stammdaten!$V$2 -> Resultat | DL27: =Stammdaten!$V$2 -> Resultat | DM27: =Stammdaten!$BX$6 -> Note | DN27: =Stammdaten!$BX$6 -> Note | EF27: =Stammdaten!$V$2 -> Resultat | EG27: =Stammdaten!$V$2 -> Resultat | EH27: =Stammdaten!$BX$6 -> Note | EI27: =Stammdaten!$BX$6 -> Note | FA27: =Stammdaten!$V$2 -> Resultat | FB27: =Stammdaten!$V$2 -> Resultat | FC27: =Stammdaten!$BX$6 -> Note | FD27: =Stammdaten!$BX$6 -> Note | FV27: =Stammdaten!$V$2 -> Resultat | FW27: =Stammdaten!$V$2 -> Resultat | FX27: =Stammdaten!$V$2 -> Resultat | FY27: =Stammdaten!$BX$6 -> Note | FZ27: =Stammdaten!$BX$6 -> Note | GA27: =Stammdaten!$BX$6 -> Note | HA27: =Stammdaten!$BX$6 -> Note | HB27: =Stammdaten!$BB$2 -> M-Position | HC27: =Stammdaten!$BA$2 -> N-Anzeige | HD27: =Stammdaten!$BA$2 -> N-Anzeige | HE27: =Stammdaten!$BA$2 -> N-Anzeige | HF27: =Stammdaten!$BA$2 -> N-Anzeige | HN27: =Stammdaten!$BX$6 -> Note | HP27: Eingabe | HQ27: Resultat | HR27: GZRes | HS27: BedRes | HY27: Eingabe | HZ27: Resultat | IA27: GZRes | IB27: BedRes | IH27: Eingabe | II27: Resultat | IJ27: GZRes | IK27: BedRes | IQ27: Eingabe | IR27: Resultat | IS27: GZRes | IT27: BedRes | IZ27: Eingabe | JA27: Resultat | JB27: GZRes | JC27: BedRes | JI27: Eingabe | JJ27: Resultat | JK27: GZRes | JL27: BedRes | JR27: =Stammdaten!$V$2 -> Resultat | JS27: =Stammdaten!$V$2 -> Resultat | JT27: =Stammdaten!$V$2 -> Resultat | JU27: =Stammdaten!$V$2 -> Resultat | JV27: =Stammdaten!$V$2 -> Resultat | JW27: =Stammdaten!$V$2 -> Resultat | MY27: Rundung | MZ27: 2 | NB27: Skala-Wert | NE27: Note | NG27: Eingabe | NH27: Resultat | NI27: GZRes | NJ27: BedRes | NL27: Rundung | NO27: Skala-Wert | NR27: Note | NT27: =Stammdaten!$V$2 -> Resultat | NU27: =Stammdaten!$V$2 -> Resultat | NV27: =Stammdaten!$BX$6 -> Note | NW27: =Stammdaten!$BX$6 -> Note | OP27: =Stammdaten!$BX$6 -> Note | OQ27: =Stammdaten!$BB$2 -> M-Position | OR27: =Stammdaten!$BA$2 -> N-Anzeige | OS27: =Stammdaten!$BA$2 -> N-Anzeige | PA27: =Stammdaten!$BX$6 -> Note | PC27: Eingabe | PD27: Resultat | PE27: BedRes | PG27: Rundung | PJ27: Skala-Wert | PM27: Note | PO27: Eingabe | PP27: Resultat | PQ27: GZRes | PR27: BedRes | PT27: Rundung | PW27: Skala-Wert | PZ27: Note | QB27: Eingabe | QC27: Resultat | QD27: BedRes | QF27: Rundung | QI27: Skala-Wert | QL27: Note | QN27: =Stammdaten!$V$2 -> Resultat | QO27: =Stammdaten!$V$2 -> Resultat | QP27: =Stammdaten!$V$2 -> Resultat | QQ27: =Stammdaten!$BX$6 -> Note | QR27: =Stammdaten!$BX$6 -> Note | QS27: =Stammdaten!$BX$6 -> Note | RJ27: =Stammdaten!$BB$2 -> M-Position | RN27: Eingabe | RO27: Resultat | RP27: BedRes | RR27: Rundung | RU27: Skala-Wert | RX27: Note | RZ27: Eingabe | SA27: Resultat | SB27: BedRes | SD27: Rundung | SG27: Skala-Wert | SJ27: Note | SL27: Eingabe | SM27: Resultat | SN27: BedRes | SP27: Rundung | SS27: Skala-Wert | SV27: Note | SX27: Eingabe | SY27: Resultat | SZ27: BedRes | TB27: Rundung | TE27: Skala-Wert | TH27: Note | TJ27: Eingabe | TK27: Resultat | TL27: GZRes | TM27: BedRes | TO27: Rundung | TR27: Skala-Wert | TU27: Note | TW27: =Stammdaten!$BX$6 -> Note | TX27: =Stammdaten!$BX$6 -> Note | TY27: =Stammdaten!$BX$6 -> Note | TZ27: =Stammdaten!$BX$6 -> Note | UA27: =Stammdaten!$BX$6 -> Note | WT27: =Stammdaten!$V$2 -> Resultat | WU27: =Stammdaten!$V$2 -> Resultat | WV27: =Stammdaten!$V$2 -> Resultat | WW27: =Stammdaten!$V$2 -> Resultat | WX27: =Stammdaten!$V$2 -> Resultat | WY27: =Stammdaten!$BX$6 -> Note | WZ27: =Stammdaten!$BX$6 -> Note | XA27: =Stammdaten!$BX$6 -> Note | XB27: =Stammdaten!$BX$6 -> Note | XC27: =Stammdaten!$BX$6 -> Note | XK27: =Stammdaten!$BX$6 -> Note | XL27: =Stammdaten!$BB$2 -> M-Position | XM27: =Stammdaten!$BA$2 -> N-Anzeige | XN27: =Stammdaten!$BA$2 -> N-Anzeige | XO27: =Stammdaten!$BA$2 -> N-Anzeige | XW27: =Stammdaten!$BX$6 -> Note | YG27: =Stammdaten!$BX$6 -> Note | YH27: =Stammdaten!$BA$2 -> N-Anzeige | YI27: =Stammdaten!$BA$2 -> N-Anzeige | YJ27: =Stammdaten!$BA$2 -> N-Anzeige | YK27: =Stammdaten!$BA$2 -> N-Anzeige | ZH27: Disziplin | ZK27: Status | ZM27: Min | ZN27: Resultat | ZO27: GZMin | ZP27: BedRes | ZR27: Sek | ZS27: Resultat | ZT27: GZSek | ZU27: BedRes | ZW27: Umrechnung | ZZ27: Skala-Wert0 | AAA27: Skala-Wert | AAD27: Note | AAF27: Resultat | AAH27: Skala-Wert | AAJ27: Note | AAL27: Resultat | AAN27: Skala-Wert | AAP27: Note | AAR27: Eingabe | AAS27: Resultat | AAT27: GZRes | AAU27: BedRes | AAW27: Rundung | AAY27: Skala-Wert | ABB27: Note | ABD27: Eingabe | ABE27: Resultat | ABF27: GZRes | ABG27: BedRes | ABI27: Rundung | ABK27: Skala-Wert | ABN27: Note | ABP27: Resultat | ABR27: Skala-Wert | ABT27: Note | ABV27: Resultat | ABX27: Skala-Wert | ABZ27: Note | ACB27: Eingabe | ACC27: Resultat | ACD27: GZRes | ACE27: BedRes | ACG27: Rundung | ACJ27: Skala-Wert | ACM27: Note
A28: 1 | H28: =IFERROR(IFERROR(SUBSTITUTE(SechzigmLaufResultat[[#This Row],[Eingabe]],".",",")*1,SUBSTITUTE(SechzigmLaufResultat[[#This Row],[Eingabe]],",",".")*1),"") | I28: =IF(OR(SechzigmLaufResultat[[#This Row],[Eingabe]]=$A$2,SechzigmLaufResultat[[#This Row],[Eingabe]]=$A$3),1,IF(AND(ISNUMBER(SechzigmLaufResultat[[#This Row],[Resultat]]),SechzigmLaufResultat[[#This Row],[Resultat]]>=0),1,"")) | K28: {=IF(OR(INDIRECT(K$2)=0,INDIRECT(K$2)=""),"",IFERROR(IF(AND(K$25=0.5,AND(INDIRECT(K$2)>0,INDIRECT(K$2)<=0.5)),0.5,IF(AND(K$25<>0.5,AND(INDIRECT(K$2)>0,INDIRECT(K$2)<=1)),1,IF(L$25,VALUE(_xlfn.VALUETOTEXT(CEILING(INDIRECT(K$2),K$25))),VALUE(_xlfn.VALUETOTEXT(MROUND(INDIRECT(K$2),K$25)))))),""))} | L28: =LEFT(Geschlecht[[#This Row],[Geschlecht (Skala)]],1)&Q$4 -> 2 | M28: =REPLACE(K$4,L$6,1,L28) -> SechzigmLauf_2[Resultat] | N28: {=IF(INDIRECT(K$1)="","",IF(INDIRECT(K$2)=0,0,IF(OR(INDIRECT(K$1)=$A$2,INDIRECT(K$1)=$A$3),$A$3,IFERROR(INDEX(INDIRECT(M28),MATCH(INDIRECT(K$3),INDIRECT(M28),M$25)),IFERROR(IF(M$25=-1,MAX(INDIRECT(M28)),IF(M$25=1,MIN(INDIRECT(M28)))),"")))))} | P28: =REPLACE(K$6,L$6,1,L28) -> SechzigmLauf_2[Note] | Q28: {=IFERROR(INDEX(INDIRECT(P28),MATCH(INDIRECT(K$5),INDIRECT(M28),0)),IF(INDIRECT(K$5)=0,1,""))} | T28: =IFERROR(IFERROR(SUBSTITUTE(AchtzigmLaufResultat[[#This Row],[Eingabe]],".",",")*1,SUBSTITUTE(AchtzigmLaufResultat[[#This Row],[Eingabe]],",",".")*1),"") | U28: =IF(OR(AchtzigmLaufResultat[[#This Row],[Eingabe]]=$A$2,AchtzigmLaufResultat[[#This Row],[Eingabe]]=$A$3),1,IF(AND(ISNUMBER(AchtzigmLaufResultat[[#This Row],[Resultat]]),AchtzigmLaufResultat[[#This Row],[Resultat]]>=0),1,"")) | W28: {=IF(OR(INDIRECT(W$2)=0,INDIRECT(W$2)=""),"",IFERROR(IF(AND(W$25=0.5,AND(INDIRECT(W$2)>0,INDIRECT(W$2)<=0.5)),0.5,IF(AND(W$25<>0.5,AND(INDIRECT(W$2)>0,INDIRECT(W$2)<=1)),1,IF(X$25,VALUE(_xlfn.VALUETOTEXT(CEILING(INDIRECT(W$2),W$25))),VALUE(_xlfn.VALUETOTEXT(MROUND(INDIRECT(W$2),W$25)))))),""))} | X28: =LEFT(Geschlecht[[#This Row],[Geschlecht (Skala)]],1)&AC$4 -> 2 | Y28: =REPLACE(W$4,X$6,1,X28) -> AchtzigmLauf_2[Resultat] | Z28: {=IF(INDIRECT(W$1)="","",IF(INDIRECT(W$2)=0,0,IF(OR(INDIRECT(W$1)=$A$2,INDIRECT(W$1)=$A$3),$A$3,IFERROR(INDEX(INDIRECT(Y28),MATCH(INDIRECT(W$3),INDIRECT(Y28),Y$25)),IFERROR(IF(Y$25=-1,MAX(INDIRECT(Y28)),IF(Y$25=1,MIN(INDIRECT(Y28)))),"")))))} | AB28: =REPLACE(W$6,X$6,1,X28) -> AchtzigmLauf_2[Note] | AC28: {=IFERROR(INDEX(INDIRECT(AB28),MATCH(INDIRECT(W$5),INDIRECT(Y28),0)),IF(INDIRECT(W$5)=0,1,""))} | AF28: =IFERROR(IFERROR(SUBSTITUTE(ZwölfMinLaufHalleResultat[[#This Row],[Eingabe]],".",",")*1,SUBSTITUTE(ZwölfMinLaufHalleResultat[[#This Row],[Eingabe]],",",".")*1),"") | AG28: =IF(OR(ZwölfMinLaufHalleResultat[[#This Row],[Eingabe]]=$A$2,ZwölfMinLaufHalleResultat[[#This Row],[Eingabe]]=$A$3),1,IF(AND(ISNUMBER(ZwölfMinLaufHalleResultat[[#This Row],[Resultat]]),ZwölfMinLaufHalleResultat[[#This Row],[Resultat]]>=0),1,"")) | AI28: {=IF(OR(INDIRECT(AI$2)=0,INDIRECT(AI$2)=""),"",IFERROR(IF(AND(AI$25=0.5,AND(INDIRECT(AI$2)>0,INDIRECT(AI$2)<=0.5)),0.5,IF(AND(AI$25<>0.5,AND(INDIRECT(AI$2)>0,INDIRECT(AI$2)<=1)),1,IF(AJ$25,VALUE(_xlfn.VALUETOTEXT(CEILING(INDIRECT(AI$2),AI$25))),VALUE(_xlfn.VALUETOTEXT(MROUND(INDIRECT(AI$2),AI$25)))))),""))} | AJ28: =LEFT(Geschlecht[[#This Row],[Geschlecht (Skala)]],1)&AO$4 -> 2 | AK28: =REPLACE(AI$4,AJ$6,1,AJ28) -> ZwölfMinLaufHalle_2[Resultat] | AL28: {=IF(INDIRECT(AI$1)="","",IF(INDIRECT(AI$2)=0,0,IF(OR(INDIRECT(AI$1)=$A$2,INDIRECT(AI$1)=$A$3),$A$3,IFERROR(INDEX(INDIRECT(AK28),MATCH(INDIRECT(AI$3),INDIRECT(AK28),AK$25)),IFERROR(IF(AK$25=-1,MAX(INDIRECT(AK28)),IF(AK$25=1,MIN(INDIRECT(AK28)))),"")))))} | AN28: =REPLACE(AI$6,AJ$6,1,AJ28) -> ZwölfMinLaufHalle_2[Note] | AO28: {=IFERROR(INDEX(INDIRECT(AN28),MATCH(INDIRECT(AI$5),INDIRECT(AK28),0)),IF(INDIRECT(AI$5)=0,1,""))} | AR28: =IFERROR(IFERROR(SUBSTITUTE(ZwölfMinLaufimFreienResultat[[#This Row],[Eingabe]],".",",")*1,SUBSTITUTE(ZwölfMinLaufimFreienResultat[[#This Row],[Eingabe]],",",".")*1),"") | AS28: =IF(OR(ZwölfMinLaufimFreienResultat[[#This Row],[Eingabe]]=$A$2,ZwölfMinLaufimFreienResultat[[#This Row],[Eingabe]]=$A$3),1,IF(AND(ISNUMBER(ZwölfMinLaufimFreienResultat[[#This Row],[Resultat]]),ZwölfMinLaufimFreienResultat[[#This Row],[Resultat]]>=0),1,"")) | AU28: {=IF(OR(INDIRECT(AU$2)=0,INDIRECT(AU$2)=""),"",IFERROR(IF(AND(AU$25=0.5,AND(INDIRECT(AU$2)>0,INDIRECT(AU$2)<=0.5)),0.5,IF(AND(AU$25<>0.5,AND(INDIRECT(AU$2)>0,INDIRECT(AU$2)<=1)),1,IF(AV$25,VALUE(_xlfn.VALUETOTEXT(CEILING(INDIRECT(AU$2),AU$25))),VALUE(_xlfn.VALUETOTEXT(MROUND(INDIRECT(AU$2),AU$25)))))),""))} | AV28: =LEFT(Geschlecht[[#This Row],[Geschlecht (Skala)]],1)&BA$4 -> 2 | AW28: =REPLACE(AU$4,AV$6,1,AV28) -> ZwölfMinLaufimFreien_2[Resultat] | AX28: {=IF(INDIRECT(AU$1)="","",IF(INDIRECT(AU$2)=0,0,IF(OR(INDIRECT(AU$1)=$A$2,INDIRECT(AU$1)=$A$3),$A$3,IFERROR(INDEX(INDIRECT(AW28),MATCH(INDIRECT(AU$3),INDIRECT(AW28),AW$25)),IFERROR(IF(AW$25=-1,MAX(INDIRECT(AW28)),IF(AW$25=1,MIN(INDIRECT(AW28)))),"")))))} | AZ28: =REPLACE(AU$6,AV$6,1,AV28) -> ZwölfMinLaufimFreien_2[Note] | BA28: {=IFERROR(INDEX(INDIRECT(AZ28),MATCH(INDIRECT(AU$5),INDIRECT(AW28),0)),IF(INDIRECT(AU$5)=0,1,""))} | BD28: =IFERROR(IFERROR(SUBSTITUTE(HochsprungResultat[[#This Row],[Eingabe]],".",",")*1,SUBSTITUTE(HochsprungResultat[[#This Row],[Eingabe]],",",".")*1),"") | BE28: =IF(OR(HochsprungResultat[[#This Row],[Eingabe]]=$A$2,HochsprungResultat[[#This Row],[Eingabe]]=$A$3),1,IF(AND(ISNUMBER(HochsprungResultat[[#This Row],[Resultat]]),HochsprungResultat[[#This Row],[Resultat]]>=0),1,"")) | BG28: {=IF(OR(INDIRECT(BG$2)=0,INDIRECT(BG$2)=""),"",IFERROR(IF(AND(BG$25=0.5,AND(INDIRECT(BG$2)>0,INDIRECT(BG$2)<=0.5)),0.5,IF(AND(BG$25<>0.5,AND(INDIRECT(BG$2)>0,INDIRECT(BG$2)<=1)),1,IF(BH$25,VALUE(_xlfn.VALUETOTEXT(CEILING(INDIRECT(BG$2),BG$25))),VALUE(_xlfn.VALUETOTEXT(MROUND(INDIRECT(BG$2),BG$25)))))),""))} | BH28: =LEFT(Geschlecht[[#This Row],[Geschlecht (Skala)]],1)&BM$4 -> 2 | BI28: =REPLACE(BG$4,BH$6,1,BH28) -> Hochsprung_2[Resultat] | BJ28: {=IF(INDIRECT(BG$1)="","",IF(INDIRECT(BG$2)=0,0,IF(OR(INDIRECT(BG$1)=$A$2,INDIRECT(BG$1)=$A$3),$A$3,IFERROR(INDEX(INDIRECT(BI28),MATCH(INDIRECT(BG$3),INDIRECT(BI28),BI$25)),IFERROR(IF(BI$25=-1,MAX(INDIRECT(BI28)),IF(BI$25=1,MIN(INDIRECT(BI28)))),"")))))} | BL28: =REPLACE(BG$6,BH$6,1,BH28) -> Hochsprung_2[Note] | BM28: {=IFERROR(INDEX(INDIRECT(BL28),MATCH(INDIRECT(BG$5),INDIRECT(BI28),0)),IF(INDIRECT(BG$5)=0,1,""))} | BP28: =IFERROR(IFERROR(SUBSTITUTE(WeitsprungResultat[[#This Row],[Eingabe]],".",",")*1,SUBSTITUTE(WeitsprungResultat[[#This Row],[Eingabe]],",",".")*1),"") | BQ28: =IF(OR(WeitsprungResultat[[#This Row],[Eingabe]]=$A$2,WeitsprungResultat[[#This Row],[Eingabe]]=$A$3),1,IF(AND(ISNUMBER(WeitsprungResultat[[#This Row],[Resultat]]),WeitsprungResultat[[#This Row],[Resultat]]>=0),1,"")) | BS28: {=IF(OR(INDIRECT(BS$2)=0,INDIRECT(BS$2)=""),"",IFERROR(IF(AND(BS$25=0.5,AND(INDIRECT(BS$2)>0,INDIRECT(BS$2)<=0.5)),0.5,IF(AND(BS$25<>0.5,AND(INDIRECT(BS$2)>0,INDIRECT(BS$2)<=1)),1,IF(BT$25,VALUE(_xlfn.VALUETOTEXT(CEILING(INDIRECT(BS$2),BS$25))),VALUE(_xlfn.VALUETOTEXT(MROUND(INDIRECT(BS$2),BS$25)))))),""))} | BT28: =LEFT(Geschlecht[[#This Row],[Geschlecht (Skala)]],1)&BY$4 -> 2 | BU28: =REPLACE(BS$4,BT$6,1,BT28) -> Weitsprung_2[Resultat] | BV28: {=IF(INDIRECT(BS$1)="","",IF(INDIRECT(BS$2)=0,0,IF(OR(INDIRECT(BS$1)=$A$2,INDIRECT(BS$1)=$A$3),$A$3,IFERROR(INDEX(INDIRECT(BU28),MATCH(INDIRECT(BS$3),INDIRECT(BU28),BU$25)),IFERROR(IF(BU$25=-1,MAX(INDIRECT(BU28)),IF(BU$25=1,MIN(INDIRECT(BU28)))),"")))))} | BX28: =REPLACE(BS$6,BT$6,1,BT28) -> Weitsprung_2[Note] | BY28: {=IFERROR(INDEX(INDIRECT(BX28),MATCH(INDIRECT(BS$5),INDIRECT(BU28),0)),IF(INDIRECT(BS$5)=0,1,""))} | CB28: =IFERROR(IFERROR(SUBSTITUTE(BallwurfResultat[[#This Row],[Eingabe]],".",",")*1,SUBSTITUTE(BallwurfResultat[[#This Row],[Eingabe]],",",".")*1),"") | CC28: =IF(OR(BallwurfResultat[[#This Row],[Eingabe]]=$A$2,BallwurfResultat[[#This Row],[Eingabe]]=$A$3),1,IF(AND(ISNUMBER(BallwurfResultat[[#This Row],[Resultat]]),BallwurfResultat[[#This Row],[Resultat]]>=0),1,"")) | CE28: {=IF(OR(INDIRECT(CE$2)=0,INDIRECT(CE$2)=""),"",IFERROR(IF(AND(CE$25=0.5,AND(INDIRECT(CE$2)>0,INDIRECT(CE$2)<=0.5)),0.5,IF(AND(CE$25<>0.5,AND(INDIRECT(CE$2)>0,INDIRECT(CE$2)<=1)),1,IF(CF$25,VALUE(_xlfn.VALUETOTEXT(CEILING(INDIRECT(CE$2),CE$25))),VALUE(_xlfn.VALUETOTEXT(MROUND(INDIRECT(CE$2),CE$25)))))),""))} | CF28: =LEFT(Geschlecht[[#This Row],[Geschlecht (Skala)]],1)&CK$4 -> 2 | CG28: =REPLACE(CE$4,CF$6,1,CF28) -> Ballwurf_2[Resultat] | CH28: {=IF(INDIRECT(CE$1)="","",IF(INDIRECT(CE$2)=0,0,IF(OR(INDIRECT(CE$1)=$A$2,INDIRECT(CE$1)=$A$3),$A$3,IFERROR(INDEX(INDIRECT(CG28),MATCH(INDIRECT(CE$3),INDIRECT(CG28),CG$25)),IFERROR(IF(CG$25=-1,MAX(INDIRECT(CG28)),IF(CG$25=1,MIN(INDIRECT(CG28)))),"")))))} | CJ28: =REPLACE(CE$6,CF$6,1,CF28) -> Ballwurf_2[Note] | CK28: {=IFERROR(INDEX(INDIRECT(CJ28),MATCH(INDIRECT(CE$5),INDIRECT(CG28),0)),IF(INDIRECT(CE$5)=0,1,""))} | CN28: =IFERROR(IFERROR(SUBSTITUTE(KugelstossenResultat[[#This Row],[Eingabe]],".",",")*1,SUBSTITUTE(KugelstossenResultat[[#This Row],[Eingabe]],",",".")*1),"") | CO28: =IF(OR(KugelstossenResultat[[#This Row],[Eingabe]]=$A$2,KugelstossenResultat[[#This Row],[Eingabe]]=$A$3),1,IF(AND(ISNUMBER(KugelstossenResultat[[#This Row],[Resultat]]),KugelstossenResultat[[#This Row],[Resultat]]>=0),1,"")) | CQ28: {=IF(OR(INDIRECT(CQ$2)=0,INDIRECT(CQ$2)=""),"",IFERROR(IF(AND(CQ$25=0.5,AND(INDIRECT(CQ$2)>0,INDIRECT(CQ$2)<=0.5)),0.5,IF(AND(CQ$25<>0.5,AND(INDIRECT(CQ$2)>0,INDIRECT(CQ$2)<=1)),1,IF(CR$25,VALUE(_xlfn.VALUETOTEXT(CEILING(INDIRECT(CQ$2),CQ$25))),VALUE(_xlfn.VALUETOTEXT(MROUND(INDIRECT(CQ$2),CQ$25)))))),""))} | CR28: =LEFT(Geschlecht[[#This Row],[Geschlecht (Skala)]],1)&CW$4 -> 2 | CS28: =REPLACE(CQ$4,CR$6,1,CR28) -> Kugelstossen_2[Resultat] | CT28: {=IF(INDIRECT(CQ$1)="","",IF(INDIRECT(CQ$2)=0,0,IF(OR(INDIRECT(CQ$1)=$A$2,INDIRECT(CQ$1)=$A$3),$A$3,IFERROR(INDEX(INDIRECT(CS28),MATCH(INDIRECT(CQ$3),INDIRECT(CS28),CS$25)),IFERROR(IF(CS$25=-1,MAX(INDIRECT(CS28)),IF(CS$25=1,MIN(INDIRECT(CS28)))),"")))))} | CV28: =REPLACE(CQ$6,CR$6,1,CR28) -> Kugelstossen_2[Note] | CW28: {=IFERROR(INDEX(INDIRECT(CV28),MATCH(INDIRECT(CQ$5),INDIRECT(CS28),0)),IF(INDIRECT(CQ$5)=0,1,""))} | CZ28: =IFERROR(IFERROR(SUBSTITUTE(SpeerwurfResultat[[#This Row],[Eingabe]],".",",")*1,SUBSTITUTE(SpeerwurfResultat[[#This Row],[Eingabe]],",",".")*1),"") | DA28: =IF(OR(SpeerwurfResultat[[#This Row],[Eingabe]]=$A$2,SpeerwurfResultat[[#This Row],[Eingabe]]=$A$3),1,IF(AND(ISNUMBER(SpeerwurfResultat[[#This Row],[Resultat]]),SpeerwurfResultat[[#This Row],[Resultat]]>=0),1,"")) | DC28: {=IF(OR(INDIRECT(DC$2)=0,INDIRECT(DC$2)=""),"",IFERROR(IF(AND(DC$25=0.5,AND(INDIRECT(DC$2)>0,INDIRECT(DC$2)<=0.5)),0.5,IF(AND(DC$25<>0.5,AND(INDIRECT(DC$2)>0,INDIRECT(DC$2)<=1)),1,IF(DD$25,VALUE(_xlfn.VALUETOTEXT(CEILING(INDIRECT(DC$2),DC$25))),VALUE(_xlfn.VALUETOTEXT(MROUND(INDIRECT(DC$2),DC$25)))))),""))} | DD28: =LEFT(Geschlecht[[#This Row],[Geschlecht (Skala)]],1)&DI$4 -> 2 | DE28: =REPLACE(DC$4,DD$6,1,DD28) -> Speerwurf_2[Resultat] | DF28: {=IF(INDIRECT(DC$1)="","",IF(INDIRECT(DC$2)=0,0,IF(OR(INDIRECT(DC$1)=$A$2,INDIRECT(DC$1)=$A$3),$A$3,IFERROR(INDEX(INDIRECT(DE28),MATCH(INDIRECT(DC$3),INDIRECT(DE28),DE$25)),IFERROR(IF(DE$25=-1,MAX(INDIRECT(DE28)),IF(DE$25=1,MIN(INDIRECT(DE28)))),"")))))} | DH28: =REPLACE(DC$6,DD$6,1,DD28) -> Speerwurf_2[Note] | DI28: {=IFERROR(INDEX(INDIRECT(DH28),MATCH(INDIRECT(DC$5),INDIRECT(DE28),0)),IF(INDIRECT(DC$5)=0,1,""))} | DK28: {=INDIRECT(DK$5)} | DL28: {=INDIRECT(DL$5)} | DM28: {=INDIRECT(DM$5)} | DN28: {=INDIRECT(DN$5)} | DO28: =IF(DS28="",DO$4,IF(AND(DQ28=0,DR28>=DS$25),DO$5,MAX(DM28:DN28))) -> Sprintdisziplinen nicht durchgeführt | DP28: =IF(DS28=$A$2,$A$2,"") | DQ28: =COUNT(DM28:DN28) -> 0 | DR28: =COUNTIF(DK28:DL28,$A$3) -> 0 | DS28: =IF(SUM(DQ28:DR28)<DS$25,"",IF(AND(DQ28=0,DR28>=DS$25),$A$2,IF(DQ28>=DS$25,DS$25,DQ28))) | DT28: =IFERROR(IF(AND(DO28=1,NOT(ISERROR(MATCH($A$3,DK28:DL28,0)))),INDEX(DK$20:DL$20,MATCH($A$3,DK28:DL28,0)),INDEX(DM$20:DN$20,MATCH(DO28,DM28:DN28,0))),DO28) -> Sprintdisziplinen nicht durchgeführt | DU28: =IFERROR(INDEX(INDIRECT(DU$5),MATCH(DT28,INDIRECT(DU$4),0)),"") | DV28: {=IFERROR(IF(INDIRECT(INDEX(INDIRECT(DV$5),MATCH(DT28,INDIRECT(DV$4),0)))<>"",INDEX(INDIRECT(DV$5),MATCH(DT28,INDIRECT(DV$4),0)),INDEX(INDIRECT(DV$6),MATCH(DT28,INDIRECT(DV$4),0))),"")} | DW28: =IFERROR(INDEX(INDIRECT(DW$5),MATCH(DT28,INDIRECT(DW$4),0)),"") | DX28: {=IFERROR(INDIRECT(DV28),IF(NOT(ISERROR(FIND(Stammdaten!$CC$3,DT28,1))),$A$2,""))} | DY28: =IF(DX28="","",IF(AND(DU28=Stammdaten!$BX$20,DW28="0",DX28=1),SUBSTITUTE(TEXT(DX28,DW28)&" "&LEFT(DU28,LEN(DU28)-1),".",","),SUBSTITUTE(TEXT(DX28,DW28)&" "&DU28,".",","))) | DZ28: =IFERROR(INDEX(INDIRECT(DZ$5),MATCH(DT28,INDIRECT(DZ$4),0)),"") | EA28: {=IFERROR(LEFT(INDIRECT(DZ28),1)&"]","")} | EB28: =IFERROR(INDEX(INDIRECT(LEFT(EB$5,LEN(EB$5)-2)&EA28),MATCH(DT28,INDIRECT(EB$4),0)),"") | EC28: =IFERROR(LEFT(DT28,FIND(Stammdaten!$CA$4,DT28,1)-2),IFERROR(LEFT(DT28,FIND(Stammdaten!$CC$3,DT28,1)-2),DT28)) -> Sprintdisziplinen | ED28: =IF(NOT(ISERROR(FIND(Stammdaten!$CA$4,DT28,1))),Stammdaten!$CA$4,IF(EE28<>Stammdaten!$CC$3,EB28,"")) -> nicht durchgeführt | EE28: =IF(DX28=$A$2,Stammdaten!$CC$3,DY28) | EF28: {=INDIRECT(EF$5)} | EG28: {=INDIRECT(EG$5)} | EH28: {=INDIRECT(EH$5)} | EI28: {=INDIRECT(EI$5)} | EJ28: =IF(EN28="",EJ$4,IF(AND(EL28=0,EM28>=EN$25),EJ$5,MAX(EH28:EI28))) -> Ausdauerdisziplinen nicht durchgeführt | EK28: =IF(EN28=$A$2,$A$2,"") | EL28: =COUNT(EH28:EI28) -> 0 | EM28: =COUNTIF(EF28:EG28,$A$3) -> 0 | EN28: =IF(SUM(EL28:EM28)<EN$25,"",IF(AND(EL28=0,EM28>=EN$25),$A$2,IF(EL28>=EN$25,EN$25,EL28))) | EO28: =IFERROR(IF(AND(EJ28=1,NOT(ISERROR(MATCH($A$3,EF28:EG28,0)))),INDEX(EF$20:EG$20,MATCH($A$3,EF28:EG28,0)),INDEX(EH$20:EI$20,MATCH(EJ28,EH28:EI28,0))),EJ28) -> Ausdauerdisziplinen nicht durchgeführt | EP28: =IFERROR(INDEX(INDIRECT(EP$5),MATCH(EO28,INDIRECT(EP$4),0)),"") | EQ28: {=IFERROR(IF(INDIRECT(INDEX(INDIRECT(EQ$5),MATCH(EO28,INDIRECT(EQ$4),0)))<>"",INDEX(INDIRECT(EQ$5),MATCH(EO28,INDIRECT(EQ$4),0)),INDEX(INDIRECT(EQ$6),MATCH(EO28,INDIRECT(EQ$4),0))),"")} | ER28: =IFERROR(INDEX(INDIRECT(ER$5),MATCH(EO28,INDIRECT(ER$4),0)),"") | ES28: {=IFERROR(INDIRECT(EQ28),IF(NOT(ISERROR(FIND(Stammdaten!$CC$3,EO28,1))),$A$2,""))} | ET28: =IF(ES28="","",IF(AND(EP28=Stammdaten!$BX$20,ER28="0",ES28=1),SUBSTITUTE(TEXT(ES28,ER28)&" "&LEFT(EP28,LEN(EP28)-1),".",","),SUBSTITUTE(TEXT(ES28,ER28)&" "&EP28,".",","))) | EU28: =IFERROR(INDEX(INDIRECT(EU$5),MATCH(EO28,INDIRECT(EU$4),0)),"") | EV28: {=IFERROR(LEFT(INDIRECT(EU28),1)&"]","")} | EW28: =IFERROR(INDEX(INDIRECT(LEFT(EW$5,LEN(EW$5)-2)&EV28),MATCH(EO28,INDIRECT(EW$4),0)),"") | EX28: =IFERROR(LEFT(EO28,FIND(Stammdaten!$CA$4,EO28,1)-2),IFERROR(LEFT(EO28,FIND(Stammdaten!$CC$3,EO28,1)-2),EO28)) -> Ausdauerdisziplinen | EY28: =IF(NOT(ISERROR(FIND(Stammdaten!$CA$4,EO28,1))),Stammdaten!$CA$4,IF(EZ28<>Stammdaten!$CC$3,EW28,"")) -> nicht durchgeführt | EZ28: =IF(ES28=$A$2,Stammdaten!$CC$3,ET28) | FA28: {=INDIRECT(FA$5)} | FB28: {=INDIRECT(FB$5)} | FC28: {=INDIRECT(FC$5)} | FD28: {=INDIRECT(FD$5)} | FE28: =IF(FI28="",FE$4,IF(AND(FG28=0,FH28>=FI$25),FE$5,MAX(FC28:FD28))) -> Sprungdisziplinen nicht durchgeführt | FF28: =IF(FI28=$A$2,$A$2,"") | FG28: =COUNT(FC28:FD28) -> 0 | FH28: =COUNTIF(FA28:FB28,$A$3) -> 0 | FI28: =IF(SUM(FG28:FH28)<FI$25,"",IF(AND(FG28=0,FH28>=FI$25),$A$2,IF(FG28>=FI$25,FI$25,FG28))) | FJ28: =IFERROR(IF(AND(FE28=1,NOT(ISERROR(MATCH($A$3,FA28:FB28,0)))),INDEX(FA$20:FB$20,MATCH($A$3,FA28:FB28,0)),INDEX(FC$20:FD$20,MATCH(FE28,FC28:FD28,0))),FE28) -> Sprungdisziplinen nicht durchgeführt | FK28: =IFERROR(INDEX(INDIRECT(FK$5),MATCH(FJ28,INDIRECT(FK$4),0)),"") | FL28: {=IFERROR(IF(INDIRECT(INDEX(INDIRECT(FL$5),MATCH(FJ28,INDIRECT(FL$4),0)))<>"",INDEX(INDIRECT(FL$5),MATCH(FJ28,INDIRECT(FL$4),0)),INDEX(INDIRECT(FL$6),MATCH(FJ28,INDIRECT(FL$4),0))),"")} | FM28: =IFERROR(INDEX(INDIRECT(FM$5),MATCH(FJ28,INDIRECT(FM$4),0)),"") | FN28: {=IFERROR(INDIRECT(FL28),IF(NOT(ISERROR(FIND(Stammdaten!$CC$3,FJ28,1))),$A$2,""))} | FO28: =IF(FN28="","",IF(AND(FK28=Stammdaten!$BX$20,FM28="0",FN28=1),SUBSTITUTE(TEXT(FN28,FM28)&" "&LEFT(FK28,LEN(FK28)-1),".",","),SUBSTITUTE(TEXT(FN28,FM28)&" "&FK28,".",","))) | FP28: =IFERROR(INDEX(INDIRECT(FP$5),MATCH(FJ28,INDIRECT(FP$4),0)),"") | FQ28: {=IFERROR(LEFT(INDIRECT(FP28),1)&"]","")} | FR28: =IFERROR(INDEX(INDIRECT(LEFT(FR$5,LEN(FR$5)-2)&FQ28),MATCH(FJ28,INDIRECT(FR$4),0)),"") | FS28: =IFERROR(LEFT(FJ28,FIND(Stammdaten!$CA$4,FJ28,1)-2),IFERROR(LEFT(FJ28,FIND(Stammdaten!$CC$3,FJ28,1)-2),FJ28)) -> Sprungdisziplinen | FT28: =IF(NOT(ISERROR(FIND(Stammdaten!$CA$4,FJ28,1))),Stammdaten!$CA$4,IF(FU28<>Stammdaten!$CC$3,FR28,"")) -> nicht durchgeführt | FU28: =IF(FN28=$A$2,Stammdaten!$CC$3,FO28) | FV28: {=INDIRECT(FV$5)} | FW28: {=INDIRECT(FW$5)} | FX28: {=INDIRECT(FX$5)} | FY28: {=INDIRECT(FY$5)} | FZ28: {=INDIRECT(FZ$5)} | GA28: {=INDIRECT(GA$5)} | GB28: =IF(GF28="",GB$4,IF(AND(GD28=0,GE28>=GF$25),GB$5,MAX(FY28:GA28))) -> Wurfdisziplinen nicht durchgeführt | GC28: =IF(GF28=$A$2,$A$2,"") | GD28: =COUNT(FY28:GA28) -> 0 | GE28: =COUNTIF(FV28:FX28,$A$3) -> 0 | GF28: =IF(SUM(GD28:GE28)<GF$25,"",IF(AND(GD28=0,GE28>=GF$25),$A$2,IF(GD28>=GF$25,GF$25,GD28))) | GG28: =IFERROR(IF(AND(GB28=1,NOT(ISERROR(MATCH($A$3,FV28:FX28,0)))),INDEX(FV$20:FX$20,MATCH($A$3,FV28:FX28,0)),INDEX(FY$20:GA$20,MATCH(GB28,FY28:GA28,0))),GB28) -> Wurfdisziplinen nicht durchgeführt | GH28: =IFERROR(INDEX(INDIRECT(GH$5),MATCH(GG28,INDIRECT(GH$4),0)),"") | GI28: {=IFERROR(IF(INDIRECT(INDEX(INDIRECT(GI$5),MATCH(GG28,INDIRECT(GI$4),0)))<>"",INDEX(INDIRECT(GI$5),MATCH(GG28,INDIRECT(GI$4),0)),INDEX(INDIRECT(GI$6),MATCH(GG28,INDIRECT(GI$4),0))),"")} | GJ28: =IFERROR(INDEX(INDIRECT(GJ$5),MATCH(GG28,INDIRECT(GJ$4),0)),"") | GK28: {=IFERROR(INDIRECT(GI28),IF(NOT(ISERROR(FIND(Stammdaten!$CC$3,GG28,1))),$A$2,""))} | GL28: =IF(GK28="","",IF(AND(GH28=Stammdaten!$BX$20,GJ28="0",GK28=1),SUBSTITUTE(TEXT(GK28,GJ28)&" "&LEFT(GH28,LEN(GH28)-1),".",","),SUBSTITUTE(TEXT(GK28,GJ28)&" "&GH28,".",","))) | GM28: =IFERROR(INDEX(INDIRECT(GM$5),MATCH(GG28,INDIRECT(GM$4),0)),"") | GN28: {=IFERROR(LEFT(INDIRECT(GM28),1)&"]","")} | GO28: =IFERROR(INDEX(INDIRECT(LEFT(GO$5,LEN(GO$5)-2)&GN28),MATCH(GG28,INDIRECT(GO$4),0)),"") | GP28: =IFERROR(LEFT(GG28,FIND(Stammdaten!$CA$4,GG28,1)-2),IFERROR(LEFT(GG28,FIND(Stammdaten!$CC$3,GG28,1)-2),GG28)) -> Wurfdisziplinen | GQ28: =IF(NOT(ISERROR(FIND(Stammdaten!$CA$4,GG28,1))),Stammdaten!$CA$4,IF(GR28<>Stammdaten!$CC$3,GO28,"")) -> nicht durchgeführt | GR28: =IF(GK28=$A$2,Stammdaten!$CC$3,GL28) | GS28: =IF(ISNUMBER(DO28),DO28,"") | GT28: =IF(ISNUMBER(EJ28),EJ28,"") | GU28: =IF(ISNUMBER(FE28),FE28,"") | GV28: =IF(ISNUMBER(GB28),GB28,"") | GW28: =SUM(GS28:GV28) -> 0 | GX28: =COUNT(GS28:GV28) -> 0 | GY28: =LEN(DP28&EK28&FF28&GC28) -> 0 | GZ28: =IF(SUM(GX28:GY28)<GZ$25,"",IF(AND(GX28=0,GY28>=GZ$25),$A$2,IF(GX28>=GZ$25,GZ$25,GX28))) | HA28: =IF(GZ28="",Stammdaten!$BZ$1,IF(AND(GX28=0,GY28>=GZ$25),$A$3,ROUND(SUM(GW28/GZ28)/HA$25,0)*HA$25)) -> Zu wenige Werte | HB28: =IF(AND(EE28=$A$3,EZ28=$A$3,FU28=$A$3,GR28=$A$3),5,IFERROR(INDEX(INDIRECT(HB$1),MATCH(TEXT(HA28,HB$11),INDIRECT(HB$2),0)),6)) -> 6 | HC28: =IF(ISNUMBER(GS28),TEXT(GS28,HC$11)&" / ","") | HD28: =IF(ISNUMBER(GT28),TEXT(GT28,HD$11)&" / ","") | HE28: =IF(ISNUMBER(GU28),TEXT(GU28,HE$11)&" / ","") | HF28: =IF(ISNUMBER(GV28),TEXT(GV28,HF$11)&" / ","") | HG28: =IF(GZ28="","",HC28&HD28&HE28&HF28) | HH28: =IF(GY28=0,"g","k") -> g | HI28: =IF(HA28<4,"R","") | HJ28: =IF(HH28&HI28="g",1,IF(HH28&HI28="gR",2,IF(HH28&HI28="k",3,4))) -> 1 | HK28: =IF(OR(Geschlecht[[#This Row],[Geschlecht (Skala)]]="",NOT(ISNUMBER(GZ28))),"",HJ28) | HL28: =IFERROR(LEFT(HG28,LEN(HG28)-2),"") | HN28: =HA28 -> Zu wenige Werte | HQ28: =IFERROR(IFERROR(SUBSTITUTE(ReckResultat[[#This Row],[Eingabe]],".",",")*1,SUBSTITUTE(ReckResultat[[#This Row],[Eingabe]],",",".")*1),"") | HR28: =INT(ReckResultat[[#This Row],[Resultat]])=ReckResultat[[#This Row],[Resultat]] -> #VALUE! | HS28: =IFERROR(IF(AND(ReckResultat[[#This Row],[GZRes]],AND(ReckResultat[[#This Row],[Resultat]]>=0,ReckResultat[[#This Row],[Resultat]]<=HW$23)),1),IF(OR(ReckResultat[[#This Row],[Eingabe]]=$A$2,ReckResultat[[#This Row],[Eingabe]]=$A$3),1,"")) | HZ28: =IFERROR(IFERROR(SUBSTITUTE(BodenResultat[[#This Row],[Eingabe]],".",",")*1,SUBSTITUTE(BodenResultat[[#This Row],[Eingabe]],",",".")*1),"") | IA28: =INT(BodenResultat[[#This Row],[Resultat]])=BodenResultat[[#This Row],[Resultat]] -> #VALUE! | IB28: =IFERROR(IF(AND(BodenResultat[[#This Row],[GZRes]],AND(BodenResultat[[#This Row],[Resultat]]>=0,BodenResultat[[#This Row],[Resultat]]<=IF$23)),1),IF(OR(BodenResultat[[#This Row],[Eingabe]]=$A$2,BodenResultat[[#This Row],[Eingabe]]=$A$3),1,"")) | II28: =IFERROR(IFERROR(SUBSTITUTE(StufenbarrenResultat[[#This Row],[Eingabe]],".",",")*1,SUBSTITUTE(StufenbarrenResultat[[#This Row],[Eingabe]],",",".")*1),"") | IJ28: =INT(StufenbarrenResultat[[#This Row],[Resultat]])=StufenbarrenResultat[[#This Row],[Resultat]] -> #VALUE! | IK28: =IFERROR(IF(AND(StufenbarrenResultat[[#This Row],[GZRes]],AND(StufenbarrenResultat[[#This Row],[Resultat]]>=0,StufenbarrenResultat[[#This Row],[Resultat]]<=IO$23)),1),IF(OR(StufenbarrenResultat[[#This Row],[Eingabe]]=$A$2,StufenbarrenResultat[[#This Row],[Eingabe]]=$A$3),1,"")) | IR28: =IFERROR(IFERROR(SUBSTITUTE(ParallelbarrenResultat[[#This Row],[Eingabe]],".",",")*1,SUBSTITUTE(ParallelbarrenResultat[[#This Row],[Eingabe]],",",".")*1),"") | IS28: =INT(ParallelbarrenResultat[[#This Row],[Resultat]])=ParallelbarrenResultat[[#This Row],[Resultat]] -> #VALUE! | IT28: =IFERROR(IF(AND(ParallelbarrenResultat[[#This Row],[GZRes]],AND(ParallelbarrenResultat[[#This Row],[Resultat]]>=0,ParallelbarrenResultat[[#This Row],[Resultat]]<=IX$23)),1),IF(OR(ParallelbarrenResultat[[#This Row],[Eingabe]]=$A$2,ParallelbarrenResultat[[#This Row],[Eingabe]]=$A$3),1,"")) | JA28: =IFERROR(IFERROR(SUBSTITUTE(SchaukelringeResultat[[#This Row],[Eingabe]],".",",")*1,SUBSTITUTE(SchaukelringeResultat[[#This Row],[Eingabe]],",",".")*1),"") | JB28: =INT(SchaukelringeResultat[[#This Row],[Resultat]])=SchaukelringeResultat[[#This Row],[Resultat]] -> #VALUE! | JC28: =IFERROR(IF(AND(SchaukelringeResultat[[#This Row],[GZRes]],AND(SchaukelringeResultat[[#This Row],[Resultat]]>=0,SchaukelringeResultat[[#This Row],[Resultat]]<=JG$23)),1),IF(OR(SchaukelringeResultat[[#This Row],[Eingabe]]=$A$2,SchaukelringeResultat[[#This Row],[Eingabe]]=$A$3),1,"")) | JJ28: =IFERROR(IFERROR(SUBSTITUTE(SprungResultat[[#This Row],[Eingabe]],".",",")*1,SUBSTITUTE(SprungResultat[[#This Row],[Eingabe]],",",".")*1),"") | JK28: =INT(SprungResultat[[#This Row],[Resultat]])=SprungResultat[[#This Row],[Resultat]] -> #VALUE! | JL28: =IFERROR(IF(AND(SprungResultat[[#This Row],[GZRes]],AND(SprungResultat[[#This Row],[Resultat]]>=0,SprungResultat[[#This Row],[Resultat]]<=JP$23)),1),IF(OR(SprungResultat[[#This Row],[Eingabe]]=$A$2,SprungResultat[[#This Row],[Eingabe]]=$A$3),1,"")) | JR28: {=IF(AND(ISNUMBER(INDIRECT(JR$3)),INDIRECT(JR$3)>0),INDIRECT(JR$3),"")} | JS28: {=IF(AND(ISNUMBER(INDIRECT(JS$3)),INDIRECT(JS$3)>0),INDIRECT(JS$3),"")} | JT28: {=IF(AND(ISNUMBER(INDIRECT(JT$3)),INDIRECT(JT$3)>0),INDIRECT(JT$3),"")} | JU28: {=IF(AND(ISNUMBER(INDIRECT(JU$3)),INDIRECT(JU$3)>0),INDIRECT(JU$3),"")} | JV28: {=IF(AND(ISNUMBER(INDIRECT(JV$3)),INDIRECT(JV$3)>0),INDIRECT(JV$3),"")} | JW28: {=IF(AND(ISNUMBER(INDIRECT(JW$3)),INDIRECT(JW$3)>0),INDIRECT(JW$3),"")} | JX28: =IFERROR(LARGE($JR28:$JW28,JX$23),"x") -> x | JY28: =IFERROR(LARGE($JR28:$JW28,JY$23),"y") -> y | JZ28: =IFERROR(LARGE($JR28:$JW28,JZ$23),"z") -> z | KA28: =IF(AND(JX28=JY28,JY28=JZ28),JX28,"a") -> a | KB28: {=IF(KA28="a","",INDEX($JR$23:$JW$23,,MATCH(KA28,$JR28:$JW28,0)))} | KC28: {=IF(OR(KB28="",KB28>=$JW$23),"",INDEX(INDIRECT(ADDRESS(ROW($JR$23),KB28+1)):$JW$23,,MATCH(KA28,INDIRECT(ADDRESS(ROW(),KB28+1)):$JW28,0)))} | KD28: {=IF(OR(KC28="",KC28>=$JW$23),"",INDEX(INDIRECT(ADDRESS(ROW($JR$23),KC28+1)):$JW$23,,MATCH(KA28,INDIRECT(ADDRESS(ROW(),KC28+1)):$JW28,0)))} | KE28: =IF(ISNUMBER(KA28),"b",IF(JX28=JY28,JX28,"c")) -> c | KF28: {=IF(OR(KE28="b",KE28="c"),"",INDEX($JR$23:$JW$23,,MATCH(KE28,$JR28:$JW28,0)))} | KG28: {=IF(OR(KF28="",KF28>=$JW$23),"",INDEX(INDIRECT(ADDRESS(ROW($JR$23),KF28+1)):$JW$23,,MATCH(KE28,INDIRECT(ADDRESS(ROW(),KF28+1)):$JW28,0)))} | KH28: =IF(ISNUMBER(KE28),INDEX($JR$23:$JW$23,MATCH(JZ28,$JR28:$JW28,0)),"") | KI28: =IF(OR(ISNUMBER(KA28),ISNUMBER(KE28)),"d",IF(JY28=JZ28,JY28,"e")) -> e | KJ28: =IF(ISNUMBER(KI28),INDEX($JR$23:$JW$23,MATCH(JX28,$JR28:$JW28,0)),"") | KK28: {=IF(OR(KI28="d",KI28="e"),"",INDEX($JR$23:$JW$23,,MATCH(KI28,$JR28:$JW28,0)))} | KL28: {=IF(OR(KK28="",KK28>=$JW$23),"",INDEX(INDIRECT(ADDRESS(ROW($JR$23),KK28+1)):$JW$23,,MATCH(KI28,INDIRECT(ADDRESS(ROW(),KK28+1)):$JW28,0)))} | KM28: {=IFERROR(IF(ISNUMBER(KB28),KB28,IF(ISNUMBER(KF28),KF28,IF(ISNUMBER(KJ28),KJ28,INDEX($JR$23:$JW$23,,MATCH(JX28,$JR28:$JW28,0))))),"x1")} -> x1 | KN28: {=IFERROR(IF(ISNUMBER(KC28),KC28,IF(ISNUMBER(KG28),KG28,IF(ISNUMBER(KK28),KK28,INDEX($JR$23:$JW$23,,MATCH(JY28,$JR28:$JW28,0))))),IF(KM28="x1","x2","x1"))} -> x2 | KO28: {=IFERROR(IF(ISNUMBER(KD28),KD28,IF(ISNUMBER(KH28),KH28,IF(ISNUMBER(KL28),KL28,INDEX($JR$23:$JW$23,,MATCH(JZ28,$JR28:$JW28,0))))),IF(KN28="x1","x2",IF(KN28="x2","x3","x1")))} -> x3 | KP28: {=IF(OR(INDIRECT(KP$3)=$A$2,INDIRECT(KP$3)=$A$3),COLUMN(),"")} | KQ28: {=IF(OR(INDIRECT(KQ$3)=$A$2,INDIRECT(KQ$3)=$A$3),COLUMN(),"")} | KR28: {=IF(OR(INDIRECT(KR$3)=$A$2,INDIRECT(KR$3)=$A$3),COLUMN(),"")} | KS28: {=IF(OR(INDIRECT(KS$3)=$A$2,INDIRECT(KS$3)=$A$3),COLUMN(),"")} | KT28: {=IF(OR(INDIRECT(KT$3)=$A$2,INDIRECT(KT$3)=$A$3),COLUMN(),"")} | KU28: {=IF(OR(INDIRECT(KU$3)=$A$2,INDIRECT(KU$3)=$A$3),COLUMN(),"")} | KV28: {=IF(AND(ISNUMBER(INDIRECT(KV$3)),INDIRECT(KV$3)=0),COLUMN(),"")} | KW28: {=IF(AND(ISNUMBER(INDIRECT(KW$3)),INDIRECT(KW$3)=0),COLUMN(),"")} | KX28: {=IF(AND(ISNUMBER(INDIRECT(KX$3)),INDIRECT(KX$3)=0),COLUMN(),"")} | KY28: {=IF(AND(ISNUMBER(INDIRECT(KY$3)),INDIRECT(KY$3)=0),COLUMN(),"")} | KZ28: {=IF(AND(ISNUMBER(INDIRECT(KZ$3)),INDIRECT(KZ$3)=0),COLUMN(),"")} | LA28: {=IF(AND(ISNUMBER(INDIRECT(LA$3)),INDIRECT(LA$3)=0),COLUMN(),"")} | LB28: =IFERROR(IF(ISNUMBER(KM28),KM28,SMALL($KP28:$KU28,VALUE(RIGHT(KM28,1)))),"x1") -> x1 | LC28: =IFERROR(IF(ISNUMBER(KN28),KN28,SMALL($KP28:$KU28,VALUE(RIGHT(KN28,1)))),IF(LB28="x1","x2","x1")) -> x2 | LD28: =IFERROR(IF(ISNUMBER(KO28),KO28,SMALL($KP28:$KU28,VALUE(RIGHT(KO28,1)))),IF(LC28="x1","x2",IF(LC28="x2","x3","x1"))) -> x3 | LE28: =IFERROR(IF(ISNUMBER(LB28),LB28,SMALL($KV28:$LA28,VALUE(RIGHT(LB28,1)))),Stammdaten!$CA$17) -> Erstes Gerät nicht durchgeführt | LF28: =IFERROR(IF(ISNUMBER(LC28),LC28,SMALL($KV28:$LA28,VALUE(RIGHT(LC28,1)))),Stammdaten!$CA$18) -> Zweites Gerät nicht durchgeführt | LG28: =IFERROR(IF(ISNUMBER(LD28),LD28,SMALL($KV28:$LA28,VALUE(RIGHT(LD28,1)))),Stammdaten!$CA$19) -> Drittes Gerät nicht durchgeführt | LH28: {=IFERROR(INDIRECT(ADDRESS(ROW($JR$5),LE28)),LE28)} -> Erstes Gerät nicht durchgeführt | LI28: =IFERROR(INDEX(INDIRECT(LI$5),MATCH(LH28,INDIRECT(LI$4),0)),"") | LJ28: {=IFERROR(IF(INDIRECT(INDEX(INDIRECT(LJ$5),MATCH(LH28,INDIRECT(LJ$4),0)))<>"",INDEX(INDIRECT(LJ$5),MATCH(LH28,INDIRECT(LJ$4),0)),INDEX(INDIRECT(LJ$6),MATCH(LH28,INDIRECT(LJ$4),0))),"")} | LK28: =IFERROR(INDEX(INDIRECT(LK$5),MATCH(LH28,INDIRECT(LK$4),0)),"") | LL28: {=IFERROR(INDIRECT(LJ28),"")} | LM28: =IF(LL28="","",IF(AND(LI28=Stammdaten!$BX$20,LK28="0",LL28=1),SUBSTITUTE(TEXT(LL28,LK28)&" "&LEFT(LI28,LEN(LI28)-1),".",","),SUBSTITUTE(TEXT(LL28,LK28)&" "&LI28,".",","))) | LN28: =IFERROR(INDEX(INDIRECT(LN$5),MATCH(LH28,INDIRECT(LN$4),0)),"") | LO28: {=IFERROR(LEFT(INDIRECT(LN28),1)&"]","")} | LP28: =IFERROR(INDEX(INDIRECT(LEFT(LP$5,LEN(LP$5)-2)&LO28),MATCH(LH28,INDIRECT(LP$4),0)),"") | LQ28: =IFERROR(LEFT(LH28,FIND(Stammdaten!$CA$4,LH28,1)-2),IFERROR(LEFT(LH28,FIND(Stammdaten!$CC$3,LH28,1)-2),LH28)) -> Erstes Gerät | LR28: =IF(NOT(ISERROR(FIND(Stammdaten!$CA$4,LH28,1))),Stammdaten!$CA$4,IF(LS28<>Stammdaten!$CC$3,LP28,"")) -> nicht durchgeführt | LS28: =IF(LL28=$A$2,Stammdaten!$CC$3,LM28) | LT28: {=IFERROR(INDIRECT(ADDRESS(ROW($JR$5),LF28)),LF28)} -> Zweites Gerät nicht durchgeführt | LU28: =IFERROR(INDEX(INDIRECT(LU$5),MATCH(LT28,INDIRECT(LU$4),0)),"") | LV28: {=IFERROR(IF(INDIRECT(INDEX(INDIRECT(LV$5),MATCH(LT28,INDIRECT(LV$4),0)))<>"",INDEX(INDIRECT(LV$5),MATCH(LT28,INDIRECT(LV$4),0)),INDEX(INDIRECT(LV$6),MATCH(LT28,INDIRECT(LV$4),0))),"")} | LW28: =IFERROR(INDEX(INDIRECT(LW$5),MATCH(LT28,INDIRECT(LW$4),0)),"") | LX28: {=IFERROR(INDIRECT(LV28),"")} | LY28: =IF(LX28="","",IF(AND(LU28=Stammdaten!$BX$20,LW28="0",LX28=1),SUBSTITUTE(TEXT(LX28,LW28)&" "&LEFT(LU28,LEN(LU28)-1),".",","),SUBSTITUTE(TEXT(LX28,LW28)&" "&LU28,".",","))) | LZ28: =IFERROR(INDEX(INDIRECT(LZ$5),MATCH(LT28,INDIRECT(LZ$4),0)),"") | MA28: {=IFERROR(LEFT(INDIRECT(LZ28),1)&"]","")} | MB28: =IFERROR(INDEX(INDIRECT(LEFT(MB$5,LEN(MB$5)-2)&MA28),MATCH(LT28,INDIRECT(MB$4),0)),"") | MC28: =IFERROR(LEFT(LT28,FIND(Stammdaten!$CA$4,LT28,1)-2),IFERROR(LEFT(LT28,FIND(Stammdaten!$CC$3,LT28,1)-2),LT28)) -> Zweites Gerät | MD28: =IF(NOT(ISERROR(FIND(Stammdaten!$CA$4,LT28,1))),Stammdaten!$CA$4,IF(ME28<>Stammdaten!$CC$3,MB28,"")) -> nicht durchgeführt | ME28: =IF(LX28=$A$2,Stammdaten!$CC$3,LY28) | MF28: {=IFERROR(INDIRECT(ADDRESS(ROW($JR$5),LG28)),LG28)} -> Drittes Gerät nicht durchgeführt | MG28: =IFERROR(INDEX(INDIRECT(MG$5),MATCH(MF28,INDIRECT(MG$4),0)),"") | MH28: {=IFERROR(IF(INDIRECT(INDEX(INDIRECT(MH$5),MATCH(MF28,INDIRECT(MH$4),0)))<>"",INDEX(INDIRECT(MH$5),MATCH(MF28,INDIRECT(MH$4),0)),INDEX(INDIRECT(MH$6),MATCH(MF28,INDIRECT(MH$4),0))),"")} | MI28: =IFERROR(INDEX(INDIRECT(MI$5),MATCH(MF28,INDIRECT(MI$4),0)),"") | MJ28: {=IFERROR(INDIRECT(MH28),"")} | MK28: =IF(MJ28="","",IF(AND(MG28=Stammdaten!$BX$20,MI28="0",MJ28=1),SUBSTITUTE(TEXT(MJ28,MI28)&" "&LEFT(MG28,LEN(MG28)-1),".",","),SUBSTITUTE(TEXT(MJ28,MI28)&" "&MG28,".",","))) | ML28: =IFERROR(INDEX(INDIRECT(ML$5),MATCH(MF28,INDIRECT(ML$4),0)),"") | MM28: {=IFERROR(LEFT(INDIRECT(ML28),1)&"]","")} | MN28: =IFERROR(INDEX(INDIRECT(LEFT(MN$5,LEN(MN$5)-2)&MM28),MATCH(MF28,INDIRECT(MN$4),0)),"") | MO28: =IFERROR(LEFT(MF28,FIND(Stammdaten!$CA$4,MF28,1)-2),IFERROR(LEFT(MF28,FIND(Stammdaten!$CC$3,MF28,1)-2),MF28)) -> Drittes Gerät | MP28: =IF(NOT(ISERROR(FIND(Stammdaten!$CA$4,MF28,1))),Stammdaten!$CA$4,IF(MQ28<>Stammdaten!$CC$3,MN28,"")) -> nicht durchgeführt | MQ28: =IF(MJ28=$A$2,Stammdaten!$CC$3,MK28) | MR28: =SUM(JX28:JZ28) -> 0 | MS28: =COUNT($JR28:$JW28) -> 0 | MT28: =COUNT($KV28:$LA28) -> 0 | MU28: =COUNT($KP28:$KU28) -> 0 | MV28: =IF(SUM(MS28:MU28)<MV$25,"",IF(AND(MS28+MT28=0,MU28>=MV$25),$A$2,IF(MS28+MT28>=MV$25,MV$25,MS28+MT28))) | MW28: =IF(MV28="",Stammdaten!$BZ$1,IF(AND(MS28+MT28=0,MU28>=MV$25),$A$3,MR28)) -> Zu wenige Werte | MY28: =IF(OR($MW28=0,$MW28=""),"",IFERROR(IF(AND(MY$25=0.5,AND($MW28>0,$MW28<=0.5)),0.5,IF(AND(MY$25<>0.5,AND($MW28>0,$MW28<=1)),1,MROUND($MW28,MY$25))),"")) | MZ28: =LEFT(Geschlecht[[#This Row],[Geschlecht (Skala)]],1)&$MZ$27 -> 2 | NA28: =REPLACE(MY$4,MZ$6,1,MZ28) -> Geräteturnen_2[Resultat] | NB28: {=IF(OR($MW28="",$MW28=Stammdaten!$BZ$1),"",IF($MW28=0,0,IF(OR($MW28=$A$2,$MW28=$A$3),$A$3,IFERROR(INDEX(INDIRECT(NA28),MATCH(INDIRECT(MY$3),INDIRECT(NA28),NA$25)),IFERROR(IF(NA$25=-1,MAX(INDIRECT(NA28)),IF(NA$25=1,MIN(INDIRECT(NA28)))),"")))))} | ND28: =REPLACE(MY$6,MZ$6,1,MZ28) -> Geräteturnen_2[Note] | NE28: {=IFERROR(INDEX(INDIRECT(ND28),MATCH(INDIRECT(MY$5),INDIRECT(NA28),0)),IF(INDIRECT(MY$5)=0,1,""))} | NH28: =IFERROR(IFERROR(SUBSTITUTE(ParkourResultat[[#This Row],[Eingabe]],".",",")*1,SUBSTITUTE(ParkourResultat[[#This Row],[Eingabe]],",",".")*1),"") | NI28: =INT(ParkourResultat[[#This Row],[Resultat]])=ParkourResultat[[#This Row],[Resultat]] -> #VALUE! | NJ28: =IFERROR(IF(AND(ParkourResultat[[#This Row],[GZRes]],AND(ParkourResultat[[#This Row],[Resultat]]>=0,ParkourResultat[[#This Row],[Resultat]]<=NR$23)),1),IF(OR(ParkourResultat[[#This Row],[Eingabe]]=$A$2,ParkourResultat[[#This Row],[Eingabe]]=$A$3),1,"")) | NL28: {=IF(OR(INDIRECT(NL$2)=0,INDIRECT(NL$2)=""),"",IFERROR(IF(AND(NL$25=0.5,AND(INDIRECT(NL$2)>0,INDIRECT(NL$2)<=0.5)),0.5,IF(AND(NL$25<>0.5,AND(INDIRECT(NL$2)>0,INDIRECT(NL$2)<=1)),1,IF(NM$25,VALUE(_xlfn.VALUETOTEXT(CEILING(INDIRECT(NL$2),NL$25))),VALUE(_xlfn.VALUETOTEXT(MROUND(INDIRECT(NL$2),NL$25)))))),""))} | NM28: =LEFT(Geschlecht[[#This Row],[Geschlecht (Skala)]],1)&NR$4 -> 2 | NN28: =REPLACE(NL$4,NM$6,1,NM28) -> Parkour_2[Resultat] | NO28: {=IF(INDIRECT(NL$1)="","",IF(INDIRECT(NL$2)=0,0,IF(OR(INDIRECT(NL$1)=$A$2,INDIRECT(NL$1)=$A$3),$A$3,IFERROR(INDEX(INDIRECT(NN28),MATCH(INDIRECT(NL$3),INDIRECT(NN28),NN$25)),IFERROR(IF(NN$25=-1,MAX(INDIRECT(NN28)),IF(NN$25=1,MIN(INDIRECT(NN28)))),"")))))} | NQ28: =REPLACE(NL$6,NM$6,1,NM28) -> Parkour_2[Note] | NR28: {=IFERROR(INDEX(INDIRECT(NQ28),MATCH(INDIRECT(NL$5),INDIRECT(NN28),0)),IF(INDIRECT(NL$5)=0,1,""))} | NT28: {=INDIRECT(NT$5)} | NU28: {=INDIRECT(NU$5)} | NV28: {=INDIRECT(NV$5)} | NW28: {=INDIRECT(NW$5)} | NX28: =IF(AND(NU28="",NW28=""),$NX$4,IF(NU28=$A$3,$NX$5,$NX$17)) -> Parkour nicht durchgeführt | NY28: =IFERROR(INDEX(INDIRECT(NY$5),MATCH(NX28,INDIRECT(NY$4),0)),"") | NZ28: {=IFERROR(IF(INDIRECT(INDEX(INDIRECT(NZ$5),MATCH(NX28,INDIRECT(NZ$4),0)))<>"",INDEX(INDIRECT(NZ$5),MATCH(NX28,INDIRECT(NZ$4),0)),INDEX(INDIRECT(NZ$6),MATCH(NX28,INDIRECT(NZ$4),0))),"")} | OA28: =IFERROR(INDEX(INDIRECT(OA$5),MATCH(NX28,INDIRECT(OA$4),0)),"") | OB28: {=IFERROR(INDIRECT(NZ28),IF(NOT(ISERROR(FIND(Stammdaten!$CC$3,NX28,1))),$A$2,""))} | OC28: =IF(OB28="","",IF(AND(NY28=Stammdaten!$BX$20,OA28="0",OB28=1),SUBSTITUTE(TEXT(OB28,OA28)&" "&LEFT(NY28,LEN(NY28)-1),".",","),SUBSTITUTE(TEXT(OB28,OA28)&" "&NY28,".",","))) | OD28: =IFERROR(INDEX(INDIRECT(OD$5),MATCH(NX28,INDIRECT(OD$4),0)),"") | OE28: {=IFERROR(LEFT(INDIRECT(OD28),1)&"]","")} | OF28: =IFERROR(INDEX(INDIRECT(LEFT(OF$5,LEN(OF$5)-2)&OE28),MATCH(NX28,INDIRECT(OF$4),0)),"") | OG28: =IFERROR(LEFT(NX28,FIND(Stammdaten!$CA$4,NX28,1)-2),IFERROR(LEFT(NX28,FIND(Stammdaten!$CC$3,NX28,1)-2),NX28)) -> Parkour | OH28: =IF(NOT(ISERROR(FIND(Stammdaten!$CA$4,NX28,1))),Stammdaten!$CA$4,IF(OI28<>Stammdaten!$CC$3,OF28,"")) -> nicht durchgeführt | OI28: =IF(OB28=$A$2,Stammdaten!$CC$3,OC28) | OJ28: =NV28 | OK28: =NW28 | OL28: =SUM(OJ28:OK28) -> 0 | OM28: =COUNT(OJ28:OK28) -> 0 | ON28: =COUNTIF(NT28:NU28,$A$3) -> 0 | OO28: =IF(SUM(OM28:ON28)<OO$25,"",IF(AND(OM28=0,ON28>=OO$25),$A$2,IF(OM28>=OO$25,OO$25,OM28))) | OP28: =IF(OO28="",Stammdaten!$BZ$1,IF(AND(OM28=0,ON28>=OO$25),$A$3,ROUND(SUM(OL28/OO28)/OP$25,0)*OP$25)) -> Zu wenige Werte | OQ28: =IF(AND(LS28=$A$3,ME28=$A$3,MQ28=$A$3,OI28=$A$3),5,IFERROR(INDEX(INDIRECT(OQ$1),MATCH(TEXT(OP28,OQ$11),INDIRECT(OQ$2),0)),6)) -> 6 | OR28: =IF(ISNUMBER(OJ28),IF(OR$11<>"",TEXT(OJ28,OR$11)&" / ",OJ28&" / "),"") | OS28: =IF(ISNUMBER(OK28),IF(OS$11<>"",TEXT(OK28,OS$11)&" / ",OK28&" / "),"") | OT28: =IF(OO28="","",OR28&OS28) | OU28: =IF(ON28=0,"g","k") -> g | OV28: =IF(OP28<4,"R","") | OW28: =IF(OU28&OV28="g",1,IF(OU28&OV28="gR",2,IF(OU28&OV28="k",3,4))) -> 1 | OX28: =IF(OR(Geschlecht[[#This Row],[Geschlecht (Skala)]]="",NOT(ISNUMBER(OO28))),"",OW28) | OY28: =IFERROR(LEFT($OT28,LEN(OT28)-2),"") | PA28: =OP28 -> Zu wenige Werte | PD28: =IFERROR(IFERROR(SUBSTITUTE(TanzenResultat[[#This Row],[Eingabe]],".",",")*1,SUBSTITUTE(TanzenResultat[[#This Row],[Eingabe]],",",".")*1),"") | PE28: =IF(OR(TanzenResultat[[#This Row],[Eingabe]]=$A$2,TanzenResultat[[#This Row],[Eingabe]]=$A$3),1,IF(AND(ISNUMBER(TanzenResultat[[#This Row],[Resultat]]),TanzenResultat[[#This Row],[Resultat]]>=0,TanzenResultat[[#This Row],[Resultat]]<=PM$23),1,"")) | PG28: {=IF(OR(INDIRECT(PG$2)=0,INDIRECT(PG$2)=""),"",IFERROR(IF(AND(PG$25=0.5,AND(INDIRECT(PG$2)>0,INDIRECT(PG$2)<=0.5)),0.5,IF(AND(PG$25<>0.5,AND(INDIRECT(PG$2)>0,INDIRECT(PG$2)<=1)),1,IF(PH$25,VALUE(_xlfn.VALUETOTEXT(CEILING(INDIRECT(PG$2),PG$25))),VALUE(_xlfn.VALUETOTEXT(MROUND(INDIRECT(PG$2),PG$25)))))),""))} | PH28: =LEFT(Geschlecht[[#This Row],[Geschlecht (Skala)]],1)&PM$4 -> 2 | PI28: =REPLACE(PG$4,PH$6,1,PH28) -> Tanzen_2[Resultat] | PJ28: {=IF(INDIRECT(PG$1)="","",IF(INDIRECT(PG$2)=0,0,IF(OR(INDIRECT(PG$1)=$A$2,INDIRECT(PG$1)=$A$3),$A$3,IFERROR(INDEX(INDIRECT(PI28),MATCH(INDIRECT(PG$3),INDIRECT(PI28),PI$25)),IFERROR(IF(PI$25=-1,MAX(INDIRECT(PI28)),IF(PI$25=1,MIN(INDIRECT(PI28)))),"")))))} | PL28: =REPLACE(PG$6,PH$6,1,PH28) -> Tanzen_2[Note] | PM28: {=IFERROR(INDEX(INDIRECT(PL28),MATCH(INDIRECT(PG$5),INDIRECT(PI28),0)),IF(INDIRECT(PG$5)=0,1,""))} | PP28: =IFERROR(IFERROR(SUBSTITUTE(RopeSkippingResultat[[#This Row],[Eingabe]],".",",")*1,SUBSTITUTE(RopeSkippingResultat[[#This Row],[Eingabe]],",",".")*1),"") | PQ28: =INT(RopeSkippingResultat[[#This Row],[Resultat]])=RopeSkippingResultat[[#This Row],[Resultat]] -> #VALUE! | PR28: =IFERROR(IF(AND(RopeSkippingResultat[[#This Row],[GZRes]],AND(RopeSkippingResultat[[#This Row],[Resultat]]>=0,RopeSkippingResultat[[#This Row],[Resultat]]<=PZ$23)),1),IF(OR(RopeSkippingResultat[[#This Row],[Eingabe]]=$A$2,RopeSkippingResultat[[#This Row],[Eingabe]]=$A$3),1,"")) | PT28: {=IF(OR(INDIRECT(PT$2)=0,INDIRECT(PT$2)=""),"",IFERROR(IF(AND(PT$25=0.5,AND(INDIRECT(PT$2)>0,INDIRECT(PT$2)<=0.5)),0.5,IF(AND(PT$25<>0.5,AND(INDIRECT(PT$2)>0,INDIRECT(PT$2)<=1)),1,IF(PU$25,VALUE(_xlfn.VALUETOTEXT(CEILING(INDIRECT(PT$2),PT$25))),VALUE(_xlfn.VALUETOTEXT(MROUND(INDIRECT(PT$2),PT$25)))))),""))} | PU28: =LEFT(Geschlecht[[#This Row],[Geschlecht (Skala)]],1)&PZ$4 -> 2 | PV28: =REPLACE(PT$4,PU$6,1,PU28) -> RopeSkipping_2[Resultat] | PW28: {=IF(INDIRECT(PT$1)="","",IF(INDIRECT(PT$2)=0,0,IF(OR(INDIRECT(PT$1)=$A$2,INDIRECT(PT$1)=$A$3),$A$3,IFERROR(INDEX(INDIRECT(PV28),MATCH(INDIRECT(PT$3),INDIRECT(PV28),PV$25)),IFERROR(IF(PV$25=-1,MAX(INDIRECT(PV28)),IF(PV$25=1,MIN(INDIRECT(PV28)))),"")))))} | PY28: =REPLACE(PT$6,PU$6,1,PU28) -> RopeSkipping_2[Note] | PZ28: {=IFERROR(INDEX(INDIRECT(PY28),MATCH(INDIRECT(PT$5),INDIRECT(PV28),0)),IF(INDIRECT(PT$5)=0,1,""))} | QC28: =IFERROR(IFERROR(SUBSTITUTE(AerobicResultat[[#This Row],[Eingabe]],".",",")*1,SUBSTITUTE(AerobicResultat[[#This Row],[Eingabe]],",",".")*1),"") | QD28: =IF(OR(AerobicResultat[[#This Row],[Eingabe]]=$A$2,AerobicResultat[[#This Row],[Eingabe]]=$A$3),1,IF(AND(ISNUMBER(AerobicResultat[[#This Row],[Resultat]]),AerobicResultat[[#This Row],[Resultat]]>=0,AerobicResultat[[#This Row],[Resultat]]<=QL$23),1,"")) | QF28: {=IF(OR(INDIRECT(QF$2)=0,INDIRECT(QF$2)=""),"",IFERROR(IF(AND(QF$25=0.5,AND(INDIRECT(QF$2)>0,INDIRECT(QF$2)<=0.5)),0.5,IF(AND(QF$25<>0.5,AND(INDIRECT(QF$2)>0,INDIRECT(QF$2)<=1)),1,IF(QG$25,VALUE(_xlfn.VALUETOTEXT(CEILING(INDIRECT(QF$2),QF$25))),VALUE(_xlfn.VALUETOTEXT(MROUND(INDIRECT(QF$2),QF$25)))))),""))} | QG28: =LEFT(Geschlecht[[#This Row],[Geschlecht (Skala)]],1)&QL$4 -> 2 | QH28: =REPLACE(QF$4,QG$6,1,QG28) -> Aerobic_2[Resultat] | QI28: {=IF(INDIRECT(QF$1)="","",IF(INDIRECT(QF$2)=0,0,IF(OR(INDIRECT(QF$1)=$A$2,INDIRECT(QF$1)=$A$3),$A$3,IFERROR(INDEX(INDIRECT(QH28),MATCH(INDIRECT(QF$3),INDIRECT(QH28),QH$25)),IFERROR(IF(QH$25=-1,MAX(INDIRECT(QH28)),IF(QH$25=1,MIN(INDIRECT(QH28)))),"")))))} | QK28: =REPLACE(QF$6,QG$6,1,QG28) -> Aerobic_2[Note] | QL28: {=IFERROR(INDEX(INDIRECT(QK28),MATCH(INDIRECT(QF$5),INDIRECT(QH28),0)),IF(INDIRECT(QF$5)=0,1,""))} | QN28: {=INDIRECT(QN$5)} | QO28: {=INDIRECT(QO$5)} | QP28: {=INDIRECT(QP$5)} | QQ28: {=INDIRECT(QQ$5)} | QR28: {=INDIRECT(QR$5)} | QS28: {=INDIRECT(QS$5)} | QT28: =IF(QW28="",QT$4,IF(AND(QU28=0,QV28>=QW$25),QT$5,MAX(QQ28:QS28))) -> Darstellen und Tanzen nicht durchgeführt | QU28: =COUNT(QQ28:QS28) -> 0 | QV28: =COUNTIF(QN28:QP28,$A$3) -> 0 | QW28: =IF(SUM(QU28:QV28)<QW$25,"",IF(AND(QU28=0,QV28>=QW$25),$A$2,IF(QU28>=QW$25,QW$25,QU28))) | QX28: =IFERROR(IF(AND(QT28=1,NOT(ISERROR(MATCH($A$3,QN28:QP28,0)))),INDEX(QN$20:QP$20,MATCH($A$3,QN28:QP28,0)),INDEX(QQ$20:QS$20,MATCH(QT28,QQ28:QS28,0))),QT28) -> Darstellen und Tanzen nicht durchgeführt | QY28: =IFERROR(INDEX(INDIRECT(QY$5),MATCH(QX28,INDIRECT(QY$4),0)),"") | QZ28: {=IFERROR(IF(INDIRECT(INDEX(INDIRECT(QZ$5),MATCH(QX28,INDIRECT(QZ$4),0)))<>"",INDEX(INDIRECT(QZ$5),MATCH(QX28,INDIRECT(QZ$4),0)),INDEX(INDIRECT(QZ$6),MATCH(QX28,INDIRECT(QZ$4),0))),"")} | RA28: =IFERROR(INDEX(INDIRECT(RA$5),MATCH(QX28,INDIRECT(RA$4),0)),"") | RB28: {=IFERROR(INDIRECT(QZ28),IF(NOT(ISERROR(FIND(Stammdaten!$CC$3,QX28,1))),$A$2,""))} | RC28: =IF(RB28="","",IF(AND(QY28=Stammdaten!$BX$20,RA28="0",RB28=1),SUBSTITUTE(TEXT(RB28,RA28)&" "&LEFT(QY28,LEN(QY28)-1),".",","),SUBSTITUTE(TEXT(RB28,RA28)&" "&QY28,".",","))) | RD28: =IFERROR(INDEX(INDIRECT(RD$5),MATCH(QX28,INDIRECT(RD$4),0)),"") | RE28: {=IFERROR(LEFT(INDIRECT(RD28),1)&"]","")} | RF28: =IFERROR(INDEX(INDIRECT(LEFT(RF$5,LEN(RF$5)-2)&RE28),MATCH(QX28,INDIRECT(RF$4),0)),"") | RG28: =IFERROR(LEFT(QX28,FIND(Stammdaten!$CA$4,QX28,1)-2),IFERROR(LEFT(QX28,FIND(Stammdaten!$CC$3,QX28,1)-2),QX28)) -> Darstellen und Tanzen | RH28: =IF(NOT(ISERROR(FIND(Stammdaten!$CA$4,QX28,1))),Stammdaten!$CA$4,IF(RI28<>Stammdaten!$CC$3,RF28,"")) -> nicht durchgeführt | RI28: =IF(RB28=$A$2,Stammdaten!$CC$3,RC28) | RJ28: =IF(RI28=$A$3,5,IFERROR(INDEX(INDIRECT(RJ$1),MATCH(TEXT(RL28,RJ$11),INDIRECT(RJ$2),0)),6)) -> 6 | RL28: =IF(QT28=$QT$4,Stammdaten!$BZ$1,IF(QT28=$QT$5,$A$3,QT28)) -> Zu wenige Werte | RO28: =IFERROR(IFERROR(SUBSTITUTE(BasketballResultat[[#This Row],[Eingabe]],".",",")*1,SUBSTITUTE(BasketballResultat[[#This Row],[Eingabe]],",",".")*1),"") | RP28: =IF(OR(BasketballResultat[[#This Row],[Eingabe]]=$A$2,BasketballResultat[[#This Row],[Eingabe]]=$A$3),1,IF(AND(ISNUMBER(BasketballResultat[[#This Row],[Resultat]]),BasketballResultat[[#This Row],[Resultat]]>=0),1,"")) | RR28: {=IF(OR(INDIRECT(RR$2)=0,INDIRECT(RR$2)=""),"",IFERROR(IF(AND(RR$25=0.5,AND(INDIRECT(RR$2)>0,INDIRECT(RR$2)<=0.5)),0.5,IF(AND(RR$25<>0.5,AND(INDIRECT(RR$2)>0,INDIRECT(RR$2)<=1)),1,IF(RS$25,VALUE(_xlfn.VALUETOTEXT(CEILING(INDIRECT(RR$2),RR$25))),VALUE(_xlfn.VALUETOTEXT(MROUND(INDIRECT(RR$2),RR$25)))))),""))} | RS28: =LEFT(Geschlecht[[#This Row],[Geschlecht (Skala)]],1)&RX$4 -> 2 | RT28: =REPLACE(RR$4,RS$6,1,RS28) -> Basketball_2[Resultat] | RU28: {=IF(INDIRECT(RR$1)="","",IF(INDIRECT(RR$2)=0,0,IF(OR(INDIRECT(RR$1)=$A$2,INDIRECT(RR$1)=$A$3),$A$3,IFERROR(INDEX(INDIRECT(RT28),MATCH(INDIRECT(RR$3),INDIRECT(RT28),RT$25)),IFERROR(IF(RT$25=-1,MAX(INDIRECT(RT28)),IF(RT$25=1,MIN(INDIRECT(RT28)))),"")))))} | RW28: =REPLACE(RR$6,RS$6,1,RS28) -> Basketball_2[Note] | RX28: {=IFERROR(INDEX(INDIRECT(RW28),MATCH(INDIRECT(RR$5),INDIRECT(RT28),0)),IF(INDIRECT(RR$5)=0,1,""))} | SA28: =IFERROR(IFERROR(SUBSTITUTE(FussballResultat[[#This Row],[Eingabe]],".",",")*1,SUBSTITUTE(FussballResultat[[#This Row],[Eingabe]],",",".")*1),"") | SB28: =IF(OR(FussballResultat[[#This Row],[Eingabe]]=$A$2,FussballResultat[[#This Row],[Eingabe]]=$A$3),1,IF(AND(ISNUMBER(FussballResultat[[#This Row],[Resultat]]),FussballResultat[[#This Row],[Resultat]]>=0),1,"")) | SD28: {=IF(OR(INDIRECT(SD$2)=0,INDIRECT(SD$2)=""),"",IFERROR(IF(AND(SD$25=0.5,AND(INDIRECT(SD$2)>0,INDIRECT(SD$2)<=0.5)),0.5,IF(AND(SD$25<>0.5,AND(INDIRECT(SD$2)>0,INDIRECT(SD$2)<=1)),1,IF(SE$25,VALUE(_xlfn.VALUETOTEXT(CEILING(INDIRECT(SD$2),SD$25))),VALUE(_xlfn.VALUETOTEXT(MROUND(INDIRECT(SD$2),SD$25)))))),""))} | SE28: =LEFT(Geschlecht[[#This Row],[Geschlecht (Skala)]],1)&SJ$4 -> 2 | SF28: =REPLACE(SD$4,SE$6,1,SE28) -> Fussball_2[Resultat] | SG28: {=IF(INDIRECT(SD$1)="","",IF(INDIRECT(SD$2)=0,0,IF(OR(INDIRECT(SD$1)=$A$2,INDIRECT(SD$1)=$A$3),$A$3,IFERROR(INDEX(INDIRECT(SF28),MATCH(INDIRECT(SD$3),INDIRECT(SF28),SF$25)),IFERROR(IF(SF$25=-1,MAX(INDIRECT(SF28)),IF(SF$25=1,MIN(INDIRECT(SF28)))),"")))))} | SI28: =REPLACE(SD$6,SE$6,1,SE28) -> Fussball_2[Note] | SJ28: {=IFERROR(INDEX(INDIRECT(SI28),MATCH(INDIRECT(SD$5),INDIRECT(SF28),0)),IF(INDIRECT(SD$5)=0,1,""))} | SM28: =IFERROR(IFERROR(SUBSTITUTE(HandballResultat[[#This Row],[Eingabe]],".",",")*1,SUBSTITUTE(HandballResultat[[#This Row],[Eingabe]],",",".")*1),"") | SN28: =IF(OR(HandballResultat[[#This Row],[Eingabe]]=$A$2,HandballResultat[[#This Row],[Eingabe]]=$A$3),1,IF(AND(ISNUMBER(HandballResultat[[#This Row],[Resultat]]),HandballResultat[[#This Row],[Resultat]]>=0),1,"")) | SP28: {=IF(OR(INDIRECT(SP$2)=0,INDIRECT(SP$2)=""),"",IFERROR(IF(AND(SP$25=0.5,AND(INDIRECT(SP$2)>0,INDIRECT(SP$2)<=0.5)),0.5,IF(AND(SP$25<>0.5,AND(INDIRECT(SP$2)>0,INDIRECT(SP$2)<=1)),1,IF(SQ$25,VALUE(_xlfn.VALUETOTEXT(CEILING(INDIRECT(SP$2),SP$25))),VALUE(_xlfn.VALUETOTEXT(MROUND(INDIRECT(SP$2),SP$25)))))),""))} | SQ28: =LEFT(Geschlecht[[#This Row],[Geschlecht (Skala)]],1)&SV$4 -> 2 | SR28: =REPLACE(SP$4,SQ$6,1,SQ28) -> Handball_2[Resultat] | SS28: {=IF(INDIRECT(SP$1)="","",IF(INDIRECT(SP$2)=0,0,IF(OR(INDIRECT(SP$1)=$A$2,INDIRECT(SP$1)=$A$3),$A$3,IFERROR(INDEX(INDIRECT(SR28),MATCH(INDIRECT(SP$3),INDIRECT(SR28),SR$25)),IFERROR(IF(SR$25=-1,MAX(INDIRECT(SR28)),IF(SR$25=1,MIN(INDIRECT(SR28)))),"")))))} | SU28: =REPLACE(SP$6,SQ$6,1,SQ28) -> Handball_2[Note] | SV28: {=IFERROR(INDEX(INDIRECT(SU28),MATCH(INDIRECT(SP$5),INDIRECT(SR28),0)),IF(INDIRECT(SP$5)=0,1,""))} | SY28: =IFERROR(IFERROR(SUBSTITUTE(UnihockeyResultat[[#This Row],[Eingabe]],".",",")*1,SUBSTITUTE(UnihockeyResultat[[#This Row],[Eingabe]],",",".")*1),"") | SZ28: =IF(OR(UnihockeyResultat[[#This Row],[Eingabe]]=$A$2,UnihockeyResultat[[#This Row],[Eingabe]]=$A$3),1,IF(AND(ISNUMBER(UnihockeyResultat[[#This Row],[Resultat]]),UnihockeyResultat[[#This Row],[Resultat]]>=0),1,"")) | TB28: {=IF(OR(INDIRECT(TB$2)=0,INDIRECT(TB$2)=""),"",IFERROR(IF(AND(TB$25=0.5,AND(INDIRECT(TB$2)>0,INDIRECT(TB$2)<=0.5)),0.5,IF(AND(TB$25<>0.5,AND(INDIRECT(TB$2)>0,INDIRECT(TB$2)<=1)),1,IF(TC$25,VALUE(_xlfn.VALUETOTEXT(CEILING(INDIRECT(TB$2),TB$25))),VALUE(_xlfn.VALUETOTEXT(MROUND(INDIRECT(TB$2),TB$25)))))),""))} | TC28: =LEFT(Geschlecht[[#This Row],[Geschlecht (Skala)]],1)&TH$4 -> 2 | TD28: =REPLACE(TB$4,TC$6,1,TC28) -> Unihockey_2[Resultat] | TE28: {=IF(INDIRECT(TB$1)="","",IF(INDIRECT(TB$2)=0,0,IF(OR(INDIRECT(TB$1)=$A$2,INDIRECT(TB$1)=$A$3),$A$3,IFERROR(INDEX(INDIRECT(TD28),MATCH(INDIRECT(TB$3),INDIRECT(TD28),TD$25)),IFERROR(IF(TD$25=-1,MAX(INDIRECT(TD28)),IF(TD$25=1,MIN(INDIRECT(TD28)))),"")))))} | TG28: =REPLACE(TB$6,TC$6,1,TC28) -> Unihockey_2[Note] | TH28: {=IFERROR(INDEX(INDIRECT(TG28),MATCH(INDIRECT(TB$5),INDIRECT(TD28),0)),IF(INDIRECT(TB$5)=0,1,""))} | TK28: =IFERROR(IFERROR(SUBSTITUTE(VolleyballResultat[[#This Row],[Eingabe]],".",",")*1,SUBSTITUTE(VolleyballResultat[[#This Row],[Eingabe]],",",".")*1),"") | TL28: =INT(VolleyballResultat[[#This Row],[Resultat]])=VolleyballResultat[[#This Row],[Resultat]] -> #VALUE! | TM28: =IFERROR(IF(AND(VolleyballResultat[[#This Row],[GZRes]],AND(VolleyballResultat[[#This Row],[Resultat]]>=0,VolleyballResultat[[#This Row],[Resultat]]<=TU$23)),1),IF(OR(VolleyballResultat[[#This Row],[Eingabe]]=$A$2,VolleyballResultat[[#This Row],[Eingabe]]=$A$3),1,"")) | TO28: {=IF(OR(INDIRECT(TO$2)=0,INDIRECT(TO$2)=""),"",IFERROR(IF(AND(TO$25=0.5,AND(INDIRECT(TO$2)>0,INDIRECT(TO$2)<=0.5)),0.5,IF(AND(TO$25<>0.5,AND(INDIRECT(TO$2)>0,INDIRECT(TO$2)<=1)),1,IF(TP$25,VALUE(_xlfn.VALUETOTEXT(CEILING(INDIRECT(TO$2),TO$25))),VALUE(_xlfn.VALUETOTEXT(MROUND(INDIRECT(TO$2),TO$25)))))),""))} | TP28: =LEFT(Geschlecht[[#This Row],[Geschlecht (Skala)]],1)&TU$4 -> 2 | TQ28: =REPLACE(TO$4,TP$6,1,TP28) -> Volleyball_2[Resultat] | TR28: {=IF(INDIRECT(TO$1)="","",IF(INDIRECT(TO$2)=0,0,IF(OR(INDIRECT(TO$1)=$A$2,INDIRECT(TO$1)=$A$3),$A$3,IFERROR(INDEX(INDIRECT(TQ28),MATCH(INDIRECT(TO$3),INDIRECT(TQ28),TQ$25)),IFERROR(IF(TQ$25=-1,MAX(INDIRECT(TQ28)),IF(TQ$25=1,MIN(INDIRECT(TQ28)))),"")))))} | TT28: =REPLACE(TO$6,TP$6,1,TP28) -> Volleyball_2[Note] | TU28: {=IFERROR(INDEX(INDIRECT(TT28),MATCH(INDIRECT(TO$5),INDIRECT(TQ28),0)),IF(INDIRECT(TO$5)=0,1,""))} | TW28: {=IF(AND(ISNUMBER(INDIRECT(TW$3)),INDIRECT(TW$3)>1),INDIRECT(TW$3),"")} | TX28: {=IF(AND(ISNUMBER(INDIRECT(TX$3)),INDIRECT(TX$3)>1),INDIRECT(TX$3),"")} | TY28: {=IF(AND(ISNUMBER(INDIRECT(TY$3)),INDIRECT(TY$3)>1),INDIRECT(TY$3),"")} | TZ28: {=IF(AND(ISNUMBER(INDIRECT(TZ$3)),INDIRECT(TZ$3)>1),INDIRECT(TZ$3),"")} | UA28: {=IF(AND(ISNUMBER(INDIRECT(UA$3)),INDIRECT(UA$3)>1),INDIRECT(UA$3),"")} | UB28: =IFERROR(LARGE($TW28:$UA28,UB$23),"x") -> x | UC28: =IFERROR(LARGE($TW28:$UA28,UC$23),"y") -> y | UD28: =IFERROR(LARGE($TW28:$UA28,UD$23),"z") -> z | UE28: =IF(AND(UB28=UC28,UC28=UD28),UB28,"a") -> a | UF28: {=IF(UE28="a","",INDEX($TW$23:$UA$23,,MATCH(UE28,$TW28:$UA28,0)))} | UG28: {=IF(OR(UF28="",UF28>=$UA$23),"",INDEX(INDIRECT(ADDRESS(ROW($TW$23),UF28+1)):$UA$23,,MATCH(UE28,INDIRECT(ADDRESS(ROW(),UF28+1)):$UA28,0)))} | UH28: {=IF(OR(UG28="",UG28>=$UA$23),"",INDEX(INDIRECT(ADDRESS(ROW($TW$23),UG28+1)):$UA$23,,MATCH(UE28,INDIRECT(ADDRESS(ROW(),UG28+1)):$UA28,0)))} | UI28: =IF(ISNUMBER(UE28),"b",IF(UB28=UC28,UB28,"c")) -> c | UJ28: {=IF(OR(UI28="b",UI28="c"),"",INDEX($TW$23:$UA$23,,MATCH(UI28,$TW28:$UA28,0)))} | UK28: {=IF(OR(UJ28="",UJ28>=$UA$23),"",INDEX(INDIRECT(ADDRESS(ROW($TW$23),UJ28+1)):$UA$23,,MATCH(UI28,INDIRECT(ADDRESS(ROW(),UJ28+1)):$UA28,0)))} | UL28: =IF(ISNUMBER(UI28),INDEX($TW$23:$UA$23,MATCH(UD28,$TW28:$UA28,0)),"") | UM28: =IF(OR(ISNUMBER(UE28),ISNUMBER(UI28)),"d",IF(UC28=UD28,UC28,"e")) -> e | UN28: =IF(ISNUMBER(UM28),INDEX($TW$23:$UA$23,MATCH(UB28,$TW28:$UA28,0)),"") | UO28: {=IF(OR(UM28="d",UM28="e"),"",INDEX($TW$23:$UA$23,,MATCH(UM28,$TW28:$UA28,0)))} | UP28: {=IF(OR(UO28="",UO28>=$UA$23),"",INDEX(INDIRECT(ADDRESS(ROW($TW$23),UO28+1)):$UA$23,,MATCH(UM28,INDIRECT(ADDRESS(ROW(),UO28+1)):$UA28,0)))} | UQ28: {=IFERROR(IF(ISNUMBER(UF28),UF28,IF(ISNUMBER(UJ28),UJ28,IF(ISNUMBER(UN28),UN28,INDEX($TW$23:$UA$23,,MATCH(UB28,$TW28:$UA28,0))))),"x1")} -> x1 | UR28: {=IFERROR(IF(ISNUMBER(UG28),UG28,IF(ISNUMBER(UK28),UK28,IF(ISNUMBER(UO28),UO28,INDEX($TW$23:$UA$23,,MATCH(UC28,$TW28:$UA28,0))))),IF(UQ28="x1","x2","x1"))} -> x2 | US28: {=IFERROR(IF(ISNUMBER(UH28),UH28,IF(ISNUMBER(UL28),UL28,IF(ISNUMBER(UP28),UP28,INDEX($TW$23:$UA$23,,MATCH(UD28,$TW28:$UA28,0))))),IF(UR28="x1","x2",IF(UR28="x2","x3","x1")))} -> x3 | UT28: {=IF(OR(INDIRECT(UT$3)=$A$2,INDIRECT(UT$3)=$A$3),COLUMN(),"")} | UU28: {=IF(OR(INDIRECT(UU$3)=$A$2,INDIRECT(UU$3)=$A$3),COLUMN(),"")} | UV28: {=IF(OR(INDIRECT(UV$3)=$A$2,INDIRECT(UV$3)=$A$3),COLUMN(),"")} | UW28: {=IF(OR(INDIRECT(UW$3)=$A$2,INDIRECT(UW$3)=$A$3),COLUMN(),"")} | UX28: {=IF(OR(INDIRECT(UX$3)=$A$2,INDIRECT(UX$3)=$A$3),COLUMN(),"")} | UY28: {=IF(AND(ISNUMBER(INDIRECT(UY$3)),INDIRECT(UY$3)=0),COLUMN(),"")} | UZ28: {=IF(AND(ISNUMBER(INDIRECT(UZ$3)),INDIRECT(UZ$3)=0),COLUMN(),"")} | VA28: {=IF(AND(ISNUMBER(INDIRECT(VA$3)),INDIRECT(VA$3)=0),COLUMN(),"")} | VB28: {=IF(AND(ISNUMBER(INDIRECT(VB$3)),INDIRECT(VB$3)=0),COLUMN(),"")} | VC28: {=IF(AND(ISNUMBER(INDIRECT(VC$3)),INDIRECT(VC$3)=0),COLUMN(),"")} | VD28: =IFERROR(IF(ISNUMBER(UQ28),UQ28,SMALL($UT28:$UX28,VALUE(RIGHT(UQ28,1)))),"x1") -> x1 | VE28: =IFERROR(IF(ISNUMBER(UR28),UR28,SMALL($UT28:$UX28,VALUE(RIGHT(UR28,1)))),IF(VD28="x1","x2","x1")) -> x2 | VF28: =IFERROR(IF(ISNUMBER(US28),US28,SMALL($UT28:$UX28,VALUE(RIGHT(US28,1)))),IF(VE28="x1","x2",IF(VE28="x2","x3","x1"))) -> x3 | VG28: =IFERROR(IF(ISNUMBER(VD28),VD28,SMALL($UY28:$VC28,VALUE(RIGHT(VD28,1)))),Stammdaten!$CB$17) -> Erste Spielsportart nicht durchgeführt | VH28: =IFERROR(IF(ISNUMBER(VE28),VE28,SMALL($UY28:$VC28,VALUE(RIGHT(VE28,1)))),Stammdaten!$CB$18) -> Zweite Spielsportart nicht durchgeführt | VI28: =IFERROR(IF(ISNUMBER(VF28),VF28,SMALL($UY28:$VC28,VALUE(RIGHT(VF28,1)))),Stammdaten!$CB$19) -> Dritte Spielsportart nicht durchgeführt | VJ28: {=IFERROR(INDIRECT(ADDRESS(ROW($TW$5),VG28)),VG28)} -> Erste Spielsportart nicht durchgeführt | VK28: =IFERROR(INDEX(INDIRECT(VK$5),MATCH(VJ28,INDIRECT(VK$4),0)),"") | VL28: {=IFERROR(IF(INDIRECT(INDEX(INDIRECT(VL$5),MATCH(VJ28,INDIRECT(VL$4),0)))<>"",INDEX(INDIRECT(VL$5),MATCH(VJ28,INDIRECT(VL$4),0)),INDEX(INDIRECT(VL$6),MATCH(VJ28,INDIRECT(VL$4),0))),"")} | VM28: =IFERROR(INDEX(INDIRECT(VM$5),MATCH(VJ28,INDIRECT(VM$4),0)),"") | VN28: {=IFERROR(INDIRECT(VL28),"")} | VO28: =IF(VN28="","",IF(AND(VK28=Stammdaten!$BX$20,VM28="0",VN28=1),SUBSTITUTE(TEXT(VN28,VM28)&" "&LEFT(VK28,LEN(VK28)-1),".",","),SUBSTITUTE(TEXT(VN28,VM28)&" "&VK28,".",","))) | VP28: =IFERROR(INDEX(INDIRECT(VP$5),MATCH(VJ28,INDIRECT(VP$4),0)),"") | VQ28: {=IFERROR(LEFT(INDIRECT(VP28),1)&"]","")} | VR28: =IFERROR(INDEX(INDIRECT(LEFT(VR$5,LEN(VR$5)-2)&VQ28),MATCH(VJ28,INDIRECT(VR$4),0)),"") | VS28: =IFERROR(LEFT(VJ28,FIND(Stammdaten!$CA$4,VJ28,1)-2),IFERROR(LEFT(VJ28,FIND(Stammdaten!$CC$3,VJ28,1)-2),VJ28)) -> Erste Spielsportart | VT28: =IF(NOT(ISERROR(FIND(Stammdaten!$CA$4,VJ28,1))),Stammdaten!$CA$4,IF(VU28<>Stammdaten!$CC$3,VR28,"")) -> nicht durchgeführt | VU28: =IF(VN28=$A$2,Stammdaten!$CC$3,VO28) | VV28: {=IFERROR(INDIRECT(ADDRESS(ROW($TW$5),VH28)),VH28)} -> Zweite Spielsportart nicht durchgeführt | VW28: =IFERROR(INDEX(INDIRECT(VW$5),MATCH(VV28,INDIRECT(VW$4),0)),"") | VX28: {=IFERROR(IF(INDIRECT(INDEX(INDIRECT(VX$5),MATCH(VV28,INDIRECT(VX$4),0)))<>"",INDEX(INDIRECT(VX$5),MATCH(VV28,INDIRECT(VX$4),0)),INDEX(INDIRECT(VX$6),MATCH(VV28,INDIRECT(VX$4),0))),"")} | VY28: =IFERROR(INDEX(INDIRECT(VY$5),MATCH(VV28,INDIRECT(VY$4),0)),"") | VZ28: {=IFERROR(INDIRECT(VX28),"")} | WA28: =IF(VZ28="","",IF(AND(VW28=Stammdaten!$BX$20,VY28="0",VZ28=1),SUBSTITUTE(TEXT(VZ28,VY28)&" "&LEFT(VW28,LEN(VW28)-1),".",","),SUBSTITUTE(TEXT(VZ28,VY28)&" "&VW28,".",","))) | WB28: =IFERROR(INDEX(INDIRECT(WB$5),MATCH(VV28,INDIRECT(WB$4),0)),"") | WC28: {=IFERROR(LEFT(INDIRECT(WB28),1)&"]","")} | WD28: =IFERROR(INDEX(INDIRECT(LEFT(WD$5,LEN(WD$5)-2)&WC28),MATCH(VV28,INDIRECT(WD$4),0)),"") | WE28: =IFERROR(LEFT(VV28,FIND(Stammdaten!$CA$4,VV28,1)-2),IFERROR(LEFT(VV28,FIND(Stammdaten!$CC$3,VV28,1)-2),VV28)) -> Zweite Spielsportart | WF28: =IF(NOT(ISERROR(FIND(Stammdaten!$CA$4,VV28,1))),Stammdaten!$CA$4,IF(WG28<>Stammdaten!$CC$3,WD28,"")) -> nicht durchgeführt | WG28: =IF(VZ28=$A$2,Stammdaten!$CC$3,WA28) | WH28: {=IFERROR(INDIRECT(ADDRESS(ROW($TW$5),VI28)),VI28)} -> Dritte Spielsportart nicht durchgeführt | WI28: =IFERROR(INDEX(INDIRECT(WI$5),MATCH(WH28,INDIRECT(WI$4),0)),"") | WJ28: {=IFERROR(IF(INDIRECT(INDEX(INDIRECT(WJ$5),MATCH(WH28,INDIRECT(WJ$4),0)))<>"",INDEX(INDIRECT(WJ$5),MATCH(WH28,INDIRECT(WJ$4),0)),INDEX(INDIRECT(WJ$6),MATCH(WH28,INDIRECT(WJ$4),0))),"")} | WK28: =IFERROR(INDEX(INDIRECT(WK$5),MATCH(WH28,INDIRECT(WK$4),0)),"") | WL28: {=IFERROR(INDIRECT(WJ28),"")} | WM28: =IF(WL28="","",IF(AND(WI28=Stammdaten!$BX$20,WK28="0",WL28=1),SUBSTITUTE(TEXT(WL28,WK28)&" "&LEFT(WI28,LEN(WI28)-1),".",","),SUBSTITUTE(TEXT(WL28,WK28)&" "&WI28,".",","))) | WN28: =IFERROR(INDEX(INDIRECT(WN$5),MATCH(WH28,INDIRECT(WN$4),0)),"") | WO28: {=IFERROR(LEFT(INDIRECT(WN28),1)&"]","")} | WP28: =IFERROR(INDEX(INDIRECT(LEFT(WP$5,LEN(WP$5)-2)&WO28),MATCH(WH28,INDIRECT(WP$4),0)),"") | WQ28: =IFERROR(LEFT(WH28,FIND(Stammdaten!$CA$4,WH28,1)-2),IFERROR(LEFT(WH28,FIND(Stammdaten!$CC$3,WH28,1)-2),WH28)) -> Dritte Spielsportart | WR28: =IF(NOT(ISERROR(FIND(Stammdaten!$CA$4,WH28,1))),Stammdaten!$CA$4,IF(WS28<>Stammdaten!$CC$3,WP28,"")) -> nicht durchgeführt | WS28: =IF(WL28=$A$2,Stammdaten!$CC$3,WM28) | WT28: {=INDIRECT(WT$5)} | WU28: {=INDIRECT(WU$5)} | WV28: {=INDIRECT(WV$5)} | WW28: {=INDIRECT(WW$5)} | WX28: {=INDIRECT(WX$5)} | WY28: {=IF(INDIRECT(WY$5)<>"",INDIRECT(WY$5),0)} -> 0 | WZ28: {=IF(INDIRECT(WZ$5)<>"",INDIRECT(WZ$5),0)} -> 0 | XA28: {=IF(INDIRECT(XA$5)<>"",INDIRECT(XA$5),0)} -> 0 | XB28: {=IF(INDIRECT(XB$5)<>"",INDIRECT(XB$5),0)} -> 0 | XC28: {=IF(INDIRECT(XC$5)<>"",INDIRECT(XC$5),0)} -> 0 | XD28: =LARGE($WY28:$XC28,XD$18) -> 0 | XE28: =LARGE($WY28:$XC28,XE$18) -> 0 | XF28: =LARGE($WY28:$XC28,XF$18) -> 0 | XG28: =SUM(XD28:XF28) -> 0 | XH28: =COUNTIF($WY28:$XC28,">0") -> 0 | XI28: =COUNTIF($WT28:$WX28,$A$3) -> 0 | XJ28: =IF(SUM(XH28:XI28)<XJ$25,"",IF(AND(XH28=0,XI28>=XJ$25),$A$2,IF(XH28>=XJ$25,XJ$25,XH28))) | XK28: =IF(XJ28="",Stammdaten!$BZ$1,IF(AND(XH28=0,XI28>=XJ$25),$A$3,ROUND(SUM(XG28/XJ28)/XK$25,0)*XK$25)) -> Zu wenige Werte | XL28: =IF(AND(VU28=$A$3,WG28=$A$3,WS28=$A$3),5,IFERROR(INDEX(INDIRECT(XL$1),MATCH(TEXT(XK28,XL$11),INDIRECT(XL$2),0)),6)) -> 6 | XM28: =IF(XD28>0,TEXT(XD28,XM$11)&" / ","") | XN28: =IF(XE28>0,TEXT(XE28,XN$11)&" / ","") | XO28: =IF(XF28>0,TEXT(XF28,XO$11)&" / ","") | XP28: =IF(XJ28="","",XM28&XN28&XO28) | XQ28: =IF(XI28=0,"g","k") -> g | XR28: =IF(XK28<4,"R","") | XS28: =IF(XQ28&XR28="g",1,IF(XQ28&XR28="gR",2,IF(XQ28&XR28="k",3,4))) -> 1 | XT28: =IF(OR(Geschlecht[[#This Row],[Geschlecht (Skala)]]="",NOT(ISNUMBER(XJ28))),"",XS28) | XU28: =IFERROR(LEFT(XP28,LEN(XP28)-2),"") | XW28: =XK28 -> Zu wenige Werte | XY28: =HN28 -> Zu wenige Werte | XZ28: =PA28 -> Zu wenige Werte | YA28: =RL28 -> Zu wenige Werte | YB28: =XW28 -> Zu wenige Werte | YC28: =SUM(XY28:YB28) -> 0 | YD28: =COUNT(XY28:YB28) -> 0 | YE28: =COUNTIF(XY28:YB28,$A$3) -> 0 | YF28: =IF(SUM(YD28:YE28)<YF$25,"",YD28) | YG28: =IF(YF28="",Stammdaten!$BZ$1,IF(YE28=YF$25,$A$3,ROUND(SUM(YC28/YF28)/YG$25,0)*YG$25)) -> Zu wenige Werte | YH28: =IF(NOT(ISNUMBER(XY28)),"",IF(YH$11<>"2+",TEXT(XY28,YH$11)&" / ",IF(RIGHT(XY28*100,2)="00",TEXT(XY28,"0"&Stammdaten!$AZ$3&"0")&" / ",XY28&" / "))) | YI28: =IF(NOT(ISNUMBER(XZ28)),"",IF(YI$11<>"2+",TEXT(XZ28,YI$11)&" / ",IF(RIGHT(XZ28*100,2)="00",TEXT(XZ28,"0"&Stammdaten!$AZ$3&"0")&" / ",XZ28&" / "))) | YJ28: =IF(NOT(ISNUMBER(YA28)),"",IF(YJ$11<>"2+",TEXT(YA28,YJ$11)&" / ",IF(RIGHT(YA28*100,2)="00",TEXT(YA28,"0"&Stammdaten!$AZ$3&"0")&" / ",YA28&" / "))) | YK28: =IF(NOT(ISNUMBER(YB28)),"",IF(YK$11<>"2+",TEXT(YB28,YK$11)&" / ",IF(RIGHT(YB28*100,2)="00",TEXT(YB28,"0"&Stammdaten!$AZ$3&"0")&" / ",YB28&" / "))) | YL28: =IF(YF28="","",YH28&YI28&YJ28&YK28) | YM28: =IF(Geschlecht[[#This Row],[Geschlecht (Skala)]]="","",IF(ISNUMBER(XY28),1,IF(XY28=$A$3,$A$2,"R"))) | YN28: =IF(Geschlecht[[#This Row],[Geschlecht (Skala)]]="","",IF(ISNUMBER(XZ28),1,IF(XZ28=$A$3,$A$2,"R"))) | YO28: =IF(Geschlecht[[#This Row],[Geschlecht (Skala)]]="","",IF(ISNUMBER(YA28),1,IF(YA28=$A$3,$A$2,"R"))) | YP28: =IF(Geschlecht[[#This Row],[Geschlecht (Skala)]]="","",IF(ISNUMBER(YB28),1,IF(YB28=$A$3,$A$2,"R"))) | YQ28: =IFERROR(MATCH($A$2,YM28:YP28,0),"g") -> g | YR28: =IF(YG28<4,"R","") | YS28: =IF(YQ28&YR28="g",1,IF(YQ28&YR28="gR",2,IF(AND(ISNUMBER(YQ28),YR28=""),3,4))) -> 1 | YT28: =IF(OR(Geschlecht[[#This Row],[Geschlecht (Skala)]]="",NOT(ISNUMBER(YG28))),"",YS28) | YV28: =$A$2 -> D | YX28: =$A$2 -> D | YZ28: =$A$2 -> D | ZB28: =$A$2 -> D | ZD28: =IFERROR(LEFT(YL28,LEN(YL28)-2),"") | ZF28: =YG28 -> Zu wenige Werte | ZH28: Disziplin | ZJ28: {=IF(OR(Geschlecht[[#This Row],[Geschlecht (Skala)]]="",ZH28="",ZH28=Stammdaten!$BZ$5),"",REPLACE(INDEX(StdDisziplinen[TabÜberschriftNote],ZH$3),FIND("X",INDEX(StdDisziplinen[TabÜberschriftNote],ZH$3),1),1,Geschlecht[[#This Row],[Geschlecht (Skala)]]))} | ZN28: =IFERROR(IFERROR(SUBSTITUTE(SchwimmenResultatMin[[#This Row],[Min]],".",",")*1,SUBSTITUTE(SchwimmenResultatMin[[#This Row],[Min]],",",".")*1),"") | ZO28: =INT(SchwimmenResultatMin[[#This Row],[Resultat]])=SchwimmenResultatMin[[#This Row],[Resultat]] -> #VALUE! | ZP28: =IFERROR(IF(AND(SchwimmenResultatMin[[#This Row],[GZMin]],SchwimmenResultatMin[[#This Row],[Resultat]]>=0),1),IF(OR(SchwimmenResultatMin[[#This Row],[Min]]=$A$2,SchwimmenResultatMin[[#This Row],[Min]]=$A$3),1,"")) | ZS28: =IFERROR(IFERROR(SUBSTITUTE(SchwimmenResultatSek[[#This Row],[Sek]],".",",")*1,SUBSTITUTE(SchwimmenResultatSek[[#This Row],[Sek]],",",".")*1),"") | ZT28: =INT(SchwimmenResultatSek[[#This Row],[Resultat]])=SchwimmenResultatSek[[#This Row],[Resultat]] -> #VALUE! | ZU28: =IFERROR(IF(AND(SchwimmenResultatSek[[#This Row],[GZSek]],AND(SchwimmenResultatSek[[#This Row],[Resultat]]>=0,SchwimmenResultatSek[[#This Row],[Resultat]]<=59),NOT(OR(SchwimmenResultatMin[[#This Row],[Min]]=$A$2,SchwimmenResultatMin[[#This Row],[Min]]=$A$3))),1),"") | ZW28: {=IF(AND(INDIRECT(ZW$2)="",INDIRECT(ZX$2)=""),"",IFERROR((INDIRECT(ZW$2)*$ZW$25)+INDIRECT(ZX$2),""))} | ZX28: =REPLACE(ZW$4,ZX$6,1,Geschlecht[[#This Row],[Geschlecht (Skala)]]) -> Schwimmen_[Resultat] | ZY28: =IFERROR(REPLACE($ZX28,FIND(Stammdaten!$V$2,$ZX28,1),LEN(Stammdaten!$V$2),Stammdaten!$BZ$9),"") -> Schwimmen_[Anzeige] | ZZ28: {=IF(INDIRECT(ZW$3)="","",IF(INDIRECT(ZW$3)=0,0,IF(OR(INDIRECT(ZW$1)=$A$2,INDIRECT(ZW$1)=$A$3),$A$3,IFERROR(INDEX(INDIRECT(ZX28),MATCH(INDIRECT(ZW$3),INDIRECT(ZX28),ZY$25)),IFERROR(IF(ZY$25=-1,MAX(INDIRECT(ZX28)),IF(ZY$25=1,MIN(INDIRECT(ZX28)))),"")))))} | AAA28: {=IF(INDIRECT(ZX$5)=0,0,IF(OR(INDIRECT(ZW$1)=$A$2,INDIRECT(ZW$1)=$A$3),$A$3,IFERROR(INDEX(INDIRECT($ZY28),MATCH(INDIRECT(ZX$5),INDIRECT($ZX28),0)),"")))} | AAC28: =REPLACE(ZW$6,ZX$6,1,Geschlecht[[#This Row],[Geschlecht (Skala)]]) -> Schwimmen_[Note] | AAD28: {=IFERROR(INDEX(INDIRECT(AAC28),MATCH(INDIRECT(ZX$5),INDIRECT(ZX28),0)),IF(INDIRECT(ZX$5)=0,1,""))} | AAF28: =ZwölfMinLaufHalleResultat[[#This Row],[Resultat]] | AAH28: =ZwölfMinLaufHalleSkalawert[[#This Row],[Skala-Wert]] | AAJ28: =ZwölfMinLaufHalleNote[[#This Row],[Note]] | AAL28: =ZwölfMinLaufimFreienResultat[[#This Row],[Resultat]] | AAN28: =ZwölfMinLaufimFreienSkalawert[[#This Row],[Skala-Wert]] | AAP28: =ZwölfMinLaufimFreienNote[[#This Row],[Note]] | AAS28: =IFERROR(IFERROR(SUBSTITUTE(BeweglichkeitResultat[[#This Row],[Eingabe]],".",",")*1,SUBSTITUTE(BeweglichkeitResultat[[#This Row],[Eingabe]],",",".")*1),"") | AAT28: =INT(BeweglichkeitResultat[[#This Row],[Resultat]])=BeweglichkeitResultat[[#This Row],[Resultat]] -> #VALUE! | AAU28: =IFERROR(IF(OR(BeweglichkeitResultat[[#This Row],[Eingabe]]=$A$2,BeweglichkeitResultat[[#This Row],[Eingabe]]=$A$3),1,IF(OR(AND(BeweglichkeitResultat[[#This Row],[GZRes]],AND(OR(Geschlecht[[#This Row],[Geschlecht (Skala)]]=Stammdaten!$D$6,Geschlecht[[#This Row],[Geschlecht (Skala)]]=""),BeweglichkeitResultat[[#This Row],[Resultat]]>=-1)),AND(BeweglichkeitResultat[[#This Row],[GZRes]],AND(Geschlecht[[#This Row],[Geschlecht (Skala)]]=Stammdaten!$D$7,BeweglichkeitResultat[[#This Row],[Resultat]]>=0))),1,"")),"") | AAW28: {=IF(OR(INDIRECT(AAW$2)="",AND(Geschlecht[[#This Row],[Geschlecht (Skala)]]=Stammdaten!$D$7,INDIRECT(AAW$2)<0)),"",IFERROR(IF(AAW$25,VALUE(_xlfn.VALUETOTEXT(CEILING(INDIRECT(AAW$2),AAU$25))),VALUE(_xlfn.VALUETOTEXT(ROUNDDOWN(INDIRECT(AAW$2),AAU$25)))),""))} | AAX28: =REPLACE(AAW$4,AAX$6,1,Geschlecht[[#This Row],[Geschlecht (Skala)]]) -> Beweglichkeit_[Resultat] | AAY28: {=IF(OR(INDIRECT(AAW$1)=$A$2,INDIRECT(AAW$1)=$A$3),$A$3,IF(OR(INDIRECT(AAW$2)="",AND(Geschlecht[[#This Row],[Geschlecht (Skala)]]=Stammdaten!$D$7,INDIRECT(AAW$2)<0)),"",IFERROR(INDEX(INDIRECT(AAX28),MATCH(INDIRECT(AAW$3),INDIRECT(AAX28),AAX$25)),IFERROR(IF(AAX$25=-1,MAX(INDIRECT(AAX28)),IF(AAX$25=1,MIN(INDIRECT(AAX28)))),""))))} | AAZ28: {=IF(INDIRECT(AAW$1)="","",IF(INDIRECT(AAW$1)=0,0,IF(OR(INDIRECT(AAW$1)=$A$2,INDIRECT(AAW$1)=$A$3),$A$3,IFERROR(INDEX(INDIRECT(AAY28),MATCH(INDIRECT(AAW$3),INDIRECT(AAY28),AAY$27)),IFERROR(IF(AAY$27=-1,MAX(INDIRECT(AAY28)),IF(AAY$27=1,MIN(INDIRECT(AAY28)))),"")))))} | ABA28: =REPLACE(AAW$6,AAX$6,1,Geschlecht[[#This Row],[Geschlecht (Skala)]]) -> Beweglichkeit_[Note] | ABB28: {=IFERROR(INDEX(INDIRECT(ABA28),MATCH(INDIRECT(AAW$5),INDIRECT(AAX28),0)),"")} | ABC28: {=IFERROR(INDEX(INDIRECT(ABB28),MATCH(INDIRECT(AAW$5),INDIRECT(AAY28),0)),"")} | ABE28: =IFERROR(IFERROR(SUBSTITUTE(RumpfkraftResultat[[#This Row],[Eingabe]],".",",")*1,SUBSTITUTE(RumpfkraftResultat[[#This Row],[Eingabe]],",",".")*1),"") | ABF28: =INT(RumpfkraftResultat[[#This Row],[Resultat]])=RumpfkraftResultat[[#This Row],[Resultat]] -> #VALUE! | ABG28: =IFERROR(IF(AND(RumpfkraftResultat[[#This Row],[GZRes]],RumpfkraftResultat[[#This Row],[Resultat]]>=0),1),IF(OR(RumpfkraftResultat[[#This Row],[Eingabe]]=$A$2,RumpfkraftResultat[[#This Row],[Eingabe]]=$A$3),1,"")) | ABI28: {=IF(INDIRECT(ABI$2)="","",IFERROR(IF(AND(ABG$25=0.5,AND(INDIRECT(ABI$2)>0,INDIRECT(ABI$2)<=0.5)),0.5,IF(AND(ABG$25<>0.5,AND(INDIRECT(ABI$2)>0,INDIRECT(ABI$2)<=1)),1,IF(ABI$25,VALUE(_xlfn.VALUETOTEXT(CEILING(INDIRECT(ABI$2),ABG$25))),VALUE(_xlfn.VALUETOTEXT(MROUND(INDIRECT(ABI$2),ABG$25)))))),""))} | ABJ28: =REPLACE(ABI$4,ABJ$6,1,Geschlecht[[#This Row],[Geschlecht (Skala)]]) -> Rumpfkraft_[Resultat] | ABK28: {=IF(INDIRECT(ABI$1)="","",IF(OR(INDIRECT(ABI$1)=$A$2,INDIRECT(ABI$1)=$A$3),$A$3,IFERROR(INDEX(INDIRECT(ABJ28),MATCH(INDIRECT(ABI$3),INDIRECT(ABJ28),ABJ$25)),IFERROR(IF(ABJ$25=-1,MAX(INDIRECT(ABJ28)),IF(ABJ$25=1,MIN(INDIRECT(ABJ28)))),""))))} | ABM28: =REPLACE(ABI$6,ABJ$6,1,Geschlecht[[#This Row],[Geschlecht (Skala)]]) -> Rumpfkraft_[Note] | ABN28: {=IFERROR(INDEX(INDIRECT(ABM28),MATCH(INDIRECT(ABI$5),INDIRECT(ABJ28),0)),"")} | ABP28: =SechzigmLaufResultat[[#This Row],[Resultat]] | ABR28: =SechzigmLaufSkalawert[[#This Row],[Skala-Wert]] | ABT28: =SechzigmLaufNote[[#This Row],[Note]] | ABV28: =AchtzigmLaufResultat[[#This Row],[Resultat]] | ABX28: =AchtzigmLaufSkalawert[[#This Row],[Skala-Wert]] | ABZ28: =AchtzigmLaufNote[[#This Row],[Note]] | ACC28: =IFERROR(IFERROR(SUBSTITUTE(KonditionsparcoursResultat[[#This Row],[Eingabe]],".",",")*1,SUBSTITUTE(KonditionsparcoursResultat[[#This Row],[Eingabe]],",",".")*1),"") | ACD28: =INT(KonditionsparcoursResultat[[#This Row],[Resultat]])=KonditionsparcoursResultat[[#This Row],[Resultat]] -> #VALUE! | ACE28: =IFERROR(IF(AND(KonditionsparcoursResultat[[#This Row],[GZRes]],KonditionsparcoursResultat[[#This Row],[Resultat]]>=0),1),IF(OR(KonditionsparcoursResultat[[#This Row],[Eingabe]]=$A$2,KonditionsparcoursResultat[[#This Row],[Eingabe]]=$A$3),1,"")) | ACG28: {=IF(INDIRECT(ACG$2)="","",IFERROR(IF(AND(ACG$25=0.5,AND(INDIRECT(ACG$2)>0,INDIRECT(ACG$2)<=0.5)),0.5,IF(AND(ACG$25<>0.5,AND(INDIRECT(ACG$2)>0,INDIRECT(ACG$2)<=1)),1,IF(ACH$25,VALUE(_xlfn.VALUETOTEXT(CEILING(INDIRECT(ACG$2),ACG$25))),VALUE(_xlfn.VALUETOTEXT(MROUND(INDIRECT(ACG$2),ACG$25)))))),""))} | ACH28: =LEFT(Geschlecht[[#This Row],[Geschlecht (Skala)]],1)&ACM$4 -> 2 | ACI28: =REPLACE(ACG$4,ACH$6,1,ACH28) -> Konditionsparcours_2[Resultat] | ACJ28: {=IF(INDIRECT(ACG$1)="","",IF(OR(INDIRECT(ACG$1)=$A$2,INDIRECT(ACG$1)=$A$3),$A$3,IFERROR(INDEX(INDIRECT(ACI28),MATCH(INDIRECT(ACG$3),INDIRECT(ACI28),ACI$25)),IFERROR(IF(ACI$25=-1,MAX(INDIRECT(ACI28)),IF(ACI$25=1,MIN(INDIRECT(ACI28)))),""))))} | ACL28: =REPLACE(ACG$6,ACH$6,1,ACH28) -> Konditionsparcours_2[Note] | ACM28: {=IFERROR(INDEX(INDIRECT(ACL28),MATCH(INDIRECT(ACG$5),INDIRECT(ACI28),0)),"")}
