Workbook
Name _Diplom: Resultatmappe!$A$28:$ACN$57
Name _M_BS_1: Resultatmappe!$HB$28:$HB$57
Name _M_BS_2: Resultatmappe!$OQ$28:$OQ$57
Name _M_BS_3: Resultatmappe!$RJ$28:$RJ$57
Name _M_BS_4: Resultatmappe!$XL$28:$XL$57
Name _Spaltenindizes: Resultatmappe!$G$13:$ACN$13
Name _Stufe_Acht: Resultatmappe!$S$25
Name _Stufe_Aero: Resultatmappe!$QB$25
Name _Stufe_Ball: Resultatmappe!$CA$25
Name _Stufe_Bask: Resultatmappe!$RN$25
Name _Stufe_Bewe: Resultatmappe!$AAR$25
Name _Stufe_Bode: Resultatmappe!$HY$25
Name _Stufe_Fuss: Resultatmappe!$RZ$25
Name _Stufe_Glei: Resultatmappe!$ZK$25
Name _Stufe_Hand: Resultatmappe!$SL$25
Name _Stufe_Hoch: Resultatmappe!$BC$25
Name _Stufe_Kond: Resultatmappe!$ACB$25
Name _Stufe_Kuge: Resultatmappe!$CM$25
Name _Stufe_Para: Resultatmappe!$IQ$25
Name _Stufe_Park: Resultatmappe!$NG$25
Name _Stufe_Reck: Resultatmappe!$HP$25
Name _Stufe_Rope: Resultatmappe!$PO$25
Name _Stufe_Rump: Resultatmappe!$ABD$25
Name _Stufe_Scha: Resultatmappe!$IZ$25
Name _Stufe_Schw: Resultatmappe!$ZM$25
Name _Stufe_Sech: Resultatmappe!$G$25
Name _Stufe_Spee: Resultatmappe!$CY$25
Name _Stufe_Spru: Resultatmappe!$JI$25
Name _Stufe_Stuf: Resultatmappe!$IH$25
Name _Stufe_Tanz: Resultatmappe!$PC$25
Name _Stufe_Unih: Resultatmappe!$SX$25
Name _Stufe_Voll: Resultatmappe!$TJ$25
Name _Stufe_Weit: Resultatmappe!$BO$25
Name _Stufe_ZwölF: Resultatmappe!$AQ$25
Name _Stufe_ZwölH: Resultatmappe!$AE$25
Name _SuS: INDIRECT(Stammdaten!$BR$29)
Name BS_1_Med: INDIRECT("Diplom_BilderMed!A"&Diplom!$H$19)
Name BS_2_Med: INDIRECT("Diplom_BilderMed!A"&Diplom!$H$29)
Name BS_3_Med: INDIRECT("Diplom_BilderMed!A"&Diplom!$H$39)
Name BS_4_Med: INDIRECT("Diplom_BilderMed!A"&Diplom!$H$49)
Name FormatBeurt: INDIRECT("Diplom_BilderPok!A"&Diplom!$H$60)
Name Kanton: INDIRECT("Diplom_Kantone!A"&Diplom!$H$2)
Name Unterschrift: Diplom_Unterschrift!$A$1

Sheet Resultatmappe
A1: =Stammdaten!$B$4 -> StdJahr[StdJahrText] | C1: =Stammdaten!$E$17 -> Schulgemeinden[Schulgemeinde] | E1: =Stammdaten!$D$4 -> StdGeschlecht[StdGeschlecht] | G1: 1 | K1: {=INDEX(INDIRECT($E$4),G$3)} -> SechzigmLaufResultat[@[Eingabe]] | W1: {=INDEX(INDIRECT($E$4),S$3)} -> AchtzigmLaufResultat[@[Eingabe]] | AI1: {=INDEX(INDIRECT($E$4),AE$3)} -> ZwölfMinLaufHalleResultat[@[Eingabe]] | AU1: {=INDEX(INDIRECT($E$4),AQ$3)} -> ZwölfMinLaufimFreienResultat[@[Eingabe]] | BG1: {=INDEX(INDIRECT($E$4),BC$3)} -> HochsprungResultat[@[Eingabe]] | BS1: {=INDEX(INDIRECT($E$4),BO$3)} -> WeitsprungResultat[@[Eingabe]] | CE1: {=INDEX(INDIRECT($E$4),CA$3)} -> BallwurfResultat[@[Eingabe]] | CQ1: {=INDEX(INDIRECT($E$4),CM$3)} -> KugelstossenResultat[@[Eingabe]] | DC1: {=INDEX(INDIRECT($E$4),CY$3)} -> SpeerwurfResultat[@[Eingabe]] | DS1: =Stammdaten!$BV$4 -> StdGruppe[AnzGeforderteDiszGruppe] | EN1: =Stammdaten!$BV$4 -> StdGruppe[AnzGeforderteDiszGruppe] | FI1: =Stammdaten!$BV$4 -> StdGruppe[AnzGeforderteDiszGruppe] | GF1: =Stammdaten!$BV$4 -> StdGruppe[AnzGeforderteDiszGruppe] | GZ1: =Stammdaten!$BQ$4 -> StdBS[AnzGeforderteDiszBS] | HA1: =Stammdaten!$BS$4 -> StdBS[RundungDurchschnitt] | HB1: =Diplom_Werte!$H$3 -> AuswDipl1[Position] | HP1: 2 | JR1: =Stammdaten!$X$4 -> StdDisziplinen[StdTabResRes] | JS1: =Stammdaten!$X$4 -> StdDisziplinen[StdTabResRes] | JT1: =Stammdaten!$X$4 -> StdDisziplinen[StdTabResRes] | JU1: =Stammdaten!$X$4 -> StdDisziplinen[StdTabResRes] | JV1: =Stammdaten!$X$4 -> StdDisziplinen[StdTabResRes] | JW1: =Stammdaten!$X$4 -> StdDisziplinen[StdTabResRes] | KP1: =Stammdaten!$W$4 -> StdDisziplinen[StdTabResEin] | KQ1: =Stammdaten!$W$4 -> StdDisziplinen[StdTabResEin] | KR1: =Stammdaten!$W$4 -> StdDisziplinen[StdTabResEin] | KS1: =Stammdaten!$W$4 -> StdDisziplinen[StdTabResEin] | KT1: =Stammdaten!$W$4 -> StdDisziplinen[StdTabResEin] | KU1: =Stammdaten!$W$4 -> StdDisziplinen[StdTabResEin] | KV1: =Stammdaten!$X$4 -> StdDisziplinen[StdTabResRes] | KW1: =Stammdaten!$X$4 -> StdDisziplinen[StdTabResRes] | KX1: =Stammdaten!$X$4 -> StdDisziplinen[StdTabResRes] | KY1: =Stammdaten!$X$4 -> StdDisziplinen[StdTabResRes] | KZ1: =Stammdaten!$X$4 -> StdDisziplinen[StdTabResRes] | LA1: =Stammdaten!$X$4 -> StdDisziplinen[StdTabResRes] | MV1: =Stammdaten!$BV$4 -> StdGruppe[AnzGeforderteDiszGruppe] | NL1: {=INDEX(INDIRECT($E$4),NG$3)} -> ParkourResultat[@[Eingabe]] | OO1: =Stammdaten!$BQ$4 -> StdBS[AnzGeforderteDiszBS] | OP1: =Stammdaten!$BS$4 -> StdBS[RundungDurchschnitt] | OQ1: =Diplom_Werte!$M$3 -> AuswDipl2[Position] | PC1: 3 | PG1: {=INDEX(INDIRECT($E$4),PC$3)} -> TanzenResultat[@[Eingabe]] | PT1: {=INDEX(INDIRECT($E$4),PO$3)} -> RopeSkippingResultat[@[Eingabe]] | QF1: {=INDEX(INDIRECT($E$4),QB$3)} -> AerobicResultat[@[Eingabe]] | QW1: =Stammdaten!$BV$4 -> StdGruppe[AnzGeforderteDiszGruppe] | RJ1: =Diplom_Werte!$R$3 -> AuswDipl3[Position] | RN1: 4 | RR1: {=INDEX(INDIRECT($E$4),RN$3)} -> BasketballResultat[@[Eingabe]] | SD1: {=INDEX(INDIRECT($E$4),RZ$3)} -> FussballResultat[@[Eingabe]] | SP1: {=INDEX(INDIRECT($E$4),SL$3)} -> HandballResultat[@[Eingabe]] | TB1: {=INDEX(INDIRECT($E$4),SX$3)} -> UnihockeyResultat[@[Eingabe]] | TO1: {=INDEX(INDIRECT($E$4),TJ$3)} -> VolleyballResultat[@[Eingabe]] | TW1: =Stammdaten!$AD$4 -> StdDisziplinen[TabÜberschriftDurchschnitt] | TX1: =Stammdaten!$AD$4 -> StdDisziplinen[TabÜberschriftDurchschnitt] | TY1: =Stammdaten!$AD$4 -> StdDisziplinen[TabÜberschriftDurchschnitt] | TZ1: =Stammdaten!$AD$4 -> StdDisziplinen[TabÜberschriftDurchschnitt] | UA1: =Stammdaten!$AD$4 -> StdDisziplinen[TabÜberschriftDurchschnitt] | UT1: =Stammdaten!$W$4 -> StdDisziplinen[StdTabResEin] | UU1: =Stammdaten!$W$4 -> StdDisziplinen[StdTabResEin] | UV1: =Stammdaten!$W$4 -> StdDisziplinen[StdTabResEin] | UW1: =Stammdaten!$W$4 -> StdDisziplinen[StdTabResEin] | UX1: =Stammdaten!$W$4 -> StdDisziplinen[StdTabResEin] | UY1: =Stammdaten!$X$4 -> StdDisziplinen[StdTabResRes] | UZ1: =Stammdaten!$X$4 -> StdDisziplinen[StdTabResRes] | VA1: =Stammdaten!$X$4 -> StdDisziplinen[StdTabResRes] | VB1: =Stammdaten!$X$4 -> StdDisziplinen[StdTabResRes] | VC1: =Stammdaten!$X$4 -> StdDisziplinen[StdTabResRes] | XJ1: =Stammdaten!$BQ$4 -> StdBS[AnzGeforderteDiszBS] | XK1: =Stammdaten!$BS$4 -> StdBS[RundungDurchschnitt] | XL1: =Diplom_Werte!$W$3 -> AuswDipl4[Position] | YF1: =Stammdaten!$BQ$4 -> StdBS[AnzGeforderteDiszBS] | ZH1: 5 | ZJ1: =Stammdaten!$BZ$5 -> Disziplin | ZM1: 6 | ZW1: {=INDEX(INDIRECT($E$4),ZM$3)} -> SchwimmenResultatMin[@[Min]] | ZX1: =REPLACE($ZW$1,FIND("@",$ZW$1,1)-4,3,"Sek") -> SchwimmenResultatSek[@[Min]] | AAF1: 1 | AAW1: {=INDEX(INDIRECT($E$4),AAR$3)} -> BeweglichkeitResultat[@[Eingabe]] | ABI1: {=INDEX(INDIRECT($E$4),ABD$3)} -> RumpfkraftResultat[@[Eingabe]] | ACG1: {=INDEX(INDIRECT($E$4),ACB$3)} -> KonditionsparcoursResultat[@[Eingabe]]
A2: =Stammdaten!$BZ$2 -> D | B2: =Stammdaten!$BC$4 -> StdDisziplinen[BedRes] | C2: =Stammdaten!$AO$4 -> StdDisziplinen[Rundung_Stellen] | E2: =Stammdaten!$AP$4 -> StdDisziplinen[Rundung_Aufrunden] | G2: 1 | K2: {=INDEX(INDIRECT($E$5),G$3)} -> SechzigmLaufResultat[@[Resultat]] | W2: {=INDEX(INDIRECT($E$5),S$3)} -> AchtzigmLaufResultat[@[Resultat]] | AE2: 2 | AI2: {=INDEX(INDIRECT($E$5),AE$3)} -> ZwölfMinLaufHalleResultat[@[Resultat]] | AU2: {=INDEX(INDIRECT($E$5),AQ$3)} -> ZwölfMinLaufimFreienResultat[@[Resultat]] | BC2: 3 | BG2: {=INDEX(INDIRECT($E$5),BC$3)} -> HochsprungResultat[@[Resultat]] | BS2: {=INDEX(INDIRECT($E$5),BO$3)} -> WeitsprungResultat[@[Resultat]] | CA2: 4 | CE2: {=INDEX(INDIRECT($E$5),CA$3)} -> BallwurfResultat[@[Resultat]] | CQ2: {=INDEX(INDIRECT($E$5),CM$3)} -> KugelstossenResultat[@[Resultat]] | DC2: {=INDEX(INDIRECT($E$5),CY$3)} -> SpeerwurfResultat[@[Resultat]] | DK2: =G$2 -> 1 | EF2: =AE$2 -> 2 | FA2: =BC$2 -> 3 | FV2: =CA$2 -> 4 | HB2: =Diplom_Werte!$F$3 -> AuswDipl1[BS_11] | HP2: 5 | JR2: =Stammdaten!$R$4 -> StdDisziplinen[StdDisziplin] | JS2: =Stammdaten!$R$4 -> StdDisziplinen[StdDisziplin] | JT2: =Stammdaten!$R$4 -> StdDisziplinen[StdDisziplin] | JU2: =Stammdaten!$R$4 -> StdDisziplinen[StdDisziplin] | JV2: =Stammdaten!$R$4 -> StdDisziplinen[StdDisziplin] | JW2: =Stammdaten!$R$4 -> StdDisziplinen[StdDisziplin] | KP2: =$HP$3 -> 10 | KQ2: =$HY$3 -> 11 | KR2: =$IH$3 -> 12 | KS2: =$IQ$3 -> 13 | KT2: =$IZ$3 -> 14 | KU2: =$JI$3 -> 15 | KV2: =$HP$3 -> 10 | KW2: =$HY$3 -> 11 | KX2: =$IH$3 -> 12 | KY2: =$IQ$3 -> 13 | KZ2: =$IZ$3 -> 14 | LA2: =$JI$3 -> 15 | NL2: {=INDEX(INDIRECT($E$5),NG$3)} -> ParkourResultat[@[Resultat]] | NT2: =$HP$1 -> 2 | OQ2: =Diplom_Werte!$K$3 -> AuswDipl2[BS_21] | PG2: {=INDEX(INDIRECT($E$5),PC$3)} -> TanzenResultat[@[Resultat]] | PT2: {=INDEX(INDIRECT($E$5),PO$3)} -> RopeSkippingResultat[@[Resultat]] | QF2: {=INDEX(INDIRECT($E$5),QB$3)} -> AerobicResultat[@[Resultat]] | QN2: =$PC$1 -> 3 | RJ2: =Diplom_Werte!$P$3 -> AuswDipl3[BS_31] | RR2: {=INDEX(INDIRECT($E$5),RN$3)} -> BasketballResultat[@[Resultat]] | SD2: {=INDEX(INDIRECT($E$5),RZ$3)} -> FussballResultat[@[Resultat]] | SP2: {=INDEX(INDIRECT($E$5),SL$3)} -> HandballResultat[@[Resultat]] | TB2: {=INDEX(INDIRECT($E$5),SX$3)} -> UnihockeyResultat[@[Resultat]] | TO2: {=INDEX(INDIRECT($E$5),TJ$3)} -> VolleyballResultat[@[Resultat]] | TW2: =Stammdaten!$R$4 -> StdDisziplinen[StdDisziplin] | TX2: =Stammdaten!$R$4 -> StdDisziplinen[StdDisziplin] | TY2: =Stammdaten!$R$4 -> StdDisziplinen[StdDisziplin] | TZ2: =Stammdaten!$R$4 -> StdDisziplinen[StdDisziplin] | UA2: =Stammdaten!$R$4 -> StdDisziplinen[StdDisziplin] | UT2: =$RN$3 -> 20 | UU2: =$RZ$3 -> 21 | UV2: =$SL$3 -> 22 | UW2: =$SX$3 -> 23 | UX2: =$TJ$3 -> 24 | UY2: =$RN$3 -> 20 | UZ2: =$RZ$3 -> 21 | VA2: =$SL$3 -> 22 | VB2: =$SX$3 -> 23 | VC2: =$TJ$3 -> 24 | WT2: =$RN$1 -> 4 | XL2: =Diplom_Werte!$U$3 -> AuswDipl4[BS_41] | ZW2: {=INDEX(INDIRECT($E$5),ZM$3)} -> SchwimmenResultatMin[@[Resultat]] | ZX2: =REPLACE($ZW$2,FIND("@",$ZW$2,1)-4,3,"Sek") -> SchwimmenResultatSek[@[Resultat]] | AAF2: 3 | AAR2: 27 | AAW2: {=INDEX(INDIRECT($E$5),AAR$3)} -> BeweglichkeitResultat[@[Resultat]] | ABD2: 28 | ABI2: {=INDEX(INDIRECT($E$5),ABD$3)} -> RumpfkraftResultat[@[Resultat]] | ABP2: 1 | ACG2: {=INDEX(INDIRECT($E$5),ACB$3)} -> KonditionsparcoursResultat[@[Resultat]]
A3: =Stammdaten!$BZ$3 -> Dispensiert | B3: =Stammdaten!$AR$4 -> StdDisziplinen[StufeMax] | C3: =Stammdaten!$AM$4 -> StdDisziplinen[Maximalwert_Text] | E3: =Stammdaten!$AK$4 -> StdDisziplinen[Maximalwert_OS1] | G3: 1 | K3: {=INDEX(INDIRECT(Stammdaten!$Z$4),G$3)} -> SechzigmLaufGerundet[@[Rundung]] | Q3: {=INDEX(INDIRECT($B$3),G$3)} -> _Stufe_Sech | S3: 2 | W3: {=INDEX(INDIRECT(Stammdaten!$Z$4),S$3)} -> AchtzigmLaufGerundet[@[Rundung]] | AC3: {=INDEX(INDIRECT($B$3),S$3)} -> _Stufe_Acht | AE3: 3 | AI3: {=INDEX(INDIRECT(Stammdaten!$Z$4),AE$3)} -> ZwölfMinLaufHalleGerundet[@[Rundung]] | AO3: {=INDEX(INDIRECT($B$3),AE$3)} -> _Stufe_ZwölH | AQ3: 4 | AU3: {=INDEX(INDIRECT(Stammdaten!$Z$4),AQ$3)} -> ZwölfMinLaufimFreienGerundet[@[Rundung]] | BA3: {=INDEX(INDIRECT($B$3),AQ$3)} -> _Stufe_ZwölF | BC3: 5 | BG3: {=INDEX(INDIRECT(Stammdaten!$Z$4),BC$3)} -> HochsprungGerundet[@[Rundung]] | BM3: {=INDEX(INDIRECT($B$3),BC$3)} -> _Stufe_Hoch | BO3: 6 | BS3: {=INDEX(INDIRECT(Stammdaten!$Z$4),BO$3)} -> WeitsprungGerundet[@[Rundung]] | BY3: {=INDEX(INDIRECT($B$3),BO$3)} -> _Stufe_Weit | CA3: 7 | CE3: {=INDEX(INDIRECT(Stammdaten!$Z$4),CA$3)} -> BallwurfGerundet[@[Rundung]] | CK3: {=INDEX(INDIRECT($B$3),CA$3)} -> _Stufe_Ball | CM3: 8 | CQ3: {=INDEX(INDIRECT(Stammdaten!$Z$4),CM$3)} -> KugelstossenGerundet[@[Rundung]] | CW3: {=INDEX(INDIRECT($B$3),CM$3)} -> _Stufe_Kuge | CY3: 9 | DC3: {=INDEX(INDIRECT(Stammdaten!$Z$4),CY$3)} -> SpeerwurfGerundet[@[Rundung]] | DI3: {=INDEX(INDIRECT($B$3),CY$3)} -> _Stufe_Spee | HP3: 10 | HW3: {=INDEX(INDIRECT($B$3),HP$3)} -> _Stufe_Reck | HY3: 11 | IF3: {=INDEX(INDIRECT($B$3),HY$3)} -> _Stufe_Bode | IH3: 12 | IO3: {=INDEX(INDIRECT($B$3),IH$3)} -> _Stufe_Stuf | IQ3: 13 | IX3: {=INDEX(INDIRECT($B$3),IQ$3)} -> _Stufe_Para | IZ3: 14 | JG3: {=INDEX(INDIRECT($B$3),IZ$3)} -> _Stufe_Scha | JI3: 15 | JP3: {=INDEX(INDIRECT($B$3),JI$3)} -> _Stufe_Spru | JR3: {=INDEX(INDIRECT(JR$1),JR$4)} -> ReckResultat[@[Resultat]] | JS3: {=INDEX(INDIRECT(JS$1),JS$4)} -> BodenResultat[@[Resultat]] | JT3: {=INDEX(INDIRECT(JT$1),JT$4)} -> StufenbarrenResultat[@[Resultat]] | JU3: {=INDEX(INDIRECT(JU$1),JU$4)} -> ParallelbarrenResultat[@[Resultat]] | JV3: {=INDEX(INDIRECT(JV$1),JV$4)} -> SchaukelringeResultat[@[Resultat]] | JW3: {=INDEX(INDIRECT(JW$1),JW$4)} -> SprungResultat[@[Resultat]] | KP3: {=INDEX(INDIRECT(KP$1),KP$2)} -> ReckResultat[@[Eingabe]] | KQ3: {=INDEX(INDIRECT(KQ$1),KQ$2)} -> BodenResultat[@[Eingabe]] | KR3: {=INDEX(INDIRECT(KR$1),KR$2)} -> StufenbarrenResultat[@[Eingabe]] | KS3: {=INDEX(INDIRECT(KS$1),KS$2)} -> ParallelbarrenResultat[@[Eingabe]] | KT3: {=INDEX(INDIRECT(KT$1),KT$2)} -> SchaukelringeResultat[@[Eingabe]] | KU3: {=INDEX(INDIRECT(KU$1),KU$2)} -> SprungResultat[@[Eingabe]] | KV3: {=INDEX(INDIRECT(KV$1),KV$2)} -> ReckResultat[@[Resultat]] | KW3: {=INDEX(INDIRECT(KW$1),KW$2)} -> BodenResultat[@[Resultat]] | ... LA3: {=INDEX(INDIRECT(LA$1),LA$2)} -> SprungResultat[@[Resultat]] | MW3: =Stammdaten!$L$41 -> 36 | MY3: {=INDEX(INDIRECT(Stammdaten!$Z$4),MW$3)} -> GeräteturnenGerundet[@[Rundung]] | NG3: 16 | NL3: {=INDEX(INDIRECT(Stammdaten!$Z$4),NG$3)} -> ParkourGerundet[@[Rundung]] | NR3: {=INDEX(INDIRECT($B$3),NG$3)} -> _Stufe_Park | PC3: 17 | PG3: {=INDEX(INDIRECT(Stammdaten!$Z$4),PC$3)} -> TanzenGerundet[@[Rundung]] | PM3: {=INDEX(INDIRECT($B$3),PC$3)} -> _Stufe_Tanz | PO3: 18 | PT3: {=INDEX(INDIRECT(Stammdaten!$Z$4),PO$3)} -> RopeSkippingGerundet[@[Rundung]] | PZ3: {=INDEX(INDIRECT($B$3),PO$3)} -> _Stufe_Rope | QB3: 19 | QF3: {=INDEX(INDIRECT(Stammdaten!$Z$4),QB$3)} -> AerobicGerundet[@[Rundung]] | QL3: {=INDEX(INDIRECT($B$3),QB$3)} -> _Stufe_Aero | RN3: 20 | RR3: {=INDEX(INDIRECT(Stammdaten!$Z$4),RN$3)} -> BasketballGerundet[@[Rundung]] | RX3: {=INDEX(INDIRECT($B$3),RN$3)} -> _Stufe_Bask | RZ3: 21 | SD3: {=INDEX(INDIRECT(Stammdaten!$Z$4),RZ$3)} -> FussballGerundet[@[Rundung]] | SJ3: {=INDEX(INDIRECT($B$3),RZ$3)} -> _Stufe_Fuss | SL3: 22 | SP3: {=INDEX(INDIRECT(Stammdaten!$Z$4),SL$3)} -> HandballGerundet[@[Rundung]] | SV3: {=INDEX(INDIRECT($B$3),SL$3)} -> _Stufe_Hand | SX3: 23 | TB3: {=INDEX(INDIRECT(Stammdaten!$Z$4),SX$3)} -> UnihockeyGerundet[@[Rundung]] | TH3: {=INDEX(INDIRECT($B$3),SX$3)} -> _Stufe_Unih | TJ3: 24 | TO3: {=INDEX(INDIRECT(Stammdaten!$Z$4),TJ$3)} -> VolleyballGerundet[@[Rundung]] | TU3: {=INDEX(INDIRECT($B$3),TJ$3)} -> _Stufe_Voll | TW3: {=INDEX(INDIRECT(TW$1),TW$4)} -> BasketballNote[@[Note]] | TX3: {=INDEX(INDIRECT(TX$1),TX$4)} -> FussballNote[@[Note]] | TY3: {=INDEX(INDIRECT(TY$1),TY$4)} -> HandballNote[@[Note]] | TZ3: {=INDEX(INDIRECT(TZ$1),TZ$4)} -> UnihockeyNote[@[Note]] | UA3: {=INDEX(INDIRECT(UA$1),UA$4)} -> VolleyballNote[@[Note]] | UT3: {=INDEX(INDIRECT(UT$1),UT$2)} -> BasketballResultat[@[Eingabe]] | UU3: {=INDEX(INDIRECT(UU$1),UU$2)} -> FussballResultat[@[Eingabe]] | UV3: {=INDEX(INDIRECT(UV$1),UV$2)} -> HandballResultat[@[Eingabe]] | UW3: {=INDEX(INDIRECT(UW$1),UW$2)} -> UnihockeyResultat[@[Eingabe]] | UX3: {=INDEX(INDIRECT(UX$1),UX$2)} -> VolleyballResultat[@[Eingabe]] | UY3: {=INDEX(INDIRECT(UY$1),UY$2)} -> BasketballResultat[@[Resultat]] | UZ3: {=INDEX(INDIRECT(UZ$1),UZ$2)} -> FussballResultat[@[Resultat]] | VA3: {=INDEX(INDIRECT(VA$1),VA$2)} -> HandballResultat[@[Resultat]] | ... VC3: {=INDEX(INDIRECT(VC$1),VC$2)} -> VolleyballResultat[@[Resultat]] | ZH3: 25 | ZM3: 26 | ZW3: {=INDEX(INDIRECT(Stammdaten!$Z$4),ZM$3)} -> SchwimmenUmgerechnet[@[Umrechnung]] | AAF3: 3 | AAL3: 4 | AAR3: =AAR2 -> 27 | AAW3: {=INDEX(INDIRECT(Stammdaten!$Z$4),AAR$3)} -> BeweglichkeitGerundet[@[Rundung]] | ABB3: {=INDEX(INDIRECT($B$3),AAR$3)} -> _Stufe_Bewe | ABD3: 28 | ABI3: {=INDEX(INDIRECT(Stammdaten!$Z$4),ABD$3)} -> RumpfkraftGerundet[@[Rundung]] | ABP3: 1 | ABV3: 2 | ACB3: 29 | ACG3: {=INDEX(INDIRECT(Stammdaten!$Z$4),ACB$3)} -> KonditionsparcoursGerundet[@[Rundung]] | ACM3: {=INDEX(INDIRECT($B$3),ACB$3)} -> _Stufe_Kond | ACN3: =ACB3+1 -> 30
B4: =Stammdaten!$R$4 -> StdDisziplinen[StdDisziplin] | C4: =Stammdaten!$AD$4 -> StdDisziplinen[TabÜberschriftDurchschnitt] | E4: =Stammdaten!$W$4 -> StdDisziplinen[StdTabResEin] | K4: {=INDEX(INDIRECT(Stammdaten!$AA$4),G$3)} -> SechzigmLauf_X[Resultat] | Q4: {=LEFT(INDIRECT(Q$3),1)} -> 2 | W4: {=INDEX(INDIRECT(Stammdaten!$AA$4),S$3)} -> AchtzigmLauf_X[Resultat] | AC4: {=LEFT(INDIRECT(AC$3),1)} -> 2 | AI4: {=INDEX(INDIRECT(Stammdaten!$AA$4),AE$3)} -> ZwölfMinLaufHalle_X[Resultat] | AO4: {=LEFT(INDIRECT(AO$3),1)} -> 2 | AU4: {=INDEX(INDIRECT(Stammdaten!$AA$4),AQ$3)} -> ZwölfMinLaufimFreien_X[Resultat] | BA4: {=LEFT(INDIRECT(BA$3),1)} -> 2 | BG4: {=INDEX(INDIRECT(Stammdaten!$AA$4),BC$3)} -> Hochsprung_X[Resultat] | BM4: {=LEFT(INDIRECT(BM$3),1)} -> 2 | BS4: {=INDEX(INDIRECT(Stammdaten!$AA$4),BO$3)} -> Weitsprung_X[Resultat] | BY4: {=LEFT(INDIRECT(BY$3),1)} -> 2 | CE4: {=INDEX(INDIRECT(Stammdaten!$AA$4),CA$3)} -> Ballwurf_X[Resultat] | CK4: {=LEFT(INDIRECT(CK$3),1)} -> 2 | CQ4: {=INDEX(INDIRECT(Stammdaten!$AA$4),CM$3)} -> Kugelstossen_X[Resultat] | CW4: {=LEFT(INDIRECT(CW$3),1)} -> 2 | DC4: {=INDEX(INDIRECT(Stammdaten!$AA$4),CY$3)} -> Speerwurf_X[Resultat] | DI4: {=LEFT(INDIRECT(DI$3),1)} -> 2 | DK4: =G$3 -> 1 | DL4: =S$3 -> 2 | DM4: =DK$4 -> 1 | DN4: =DL$4 -> 2 | DO4: =DK$17&Stammdaten!$BZ$4 -> Sprintdisziplinen nicht durchgeführt | DU4: =$B$4 -> StdDisziplinen[StdDisziplin] | DV4: =$B$4 -> StdDisziplinen[StdDisziplin] | DW4: =$B$4 -> StdDisziplinen[StdDisziplin] | DZ4: =$B$4 -> StdDisziplinen[StdDisziplin] | EB4: =$B$4 -> StdDisziplinen[StdDisziplin] | EF4: =AE$3 -> 3 | EG4: =AQ$3 -> 4 | EH4: =EF$4 -> 3 | EI4: =EG$4 -> 4 | EJ4: =EF$17&Stammdaten!$BZ$4 -> Ausdauerdisziplinen nicht durchgeführt | EP4: =$B$4 -> StdDisziplinen[StdDisziplin] | EQ4: =$B$4 -> StdDisziplinen[StdDisziplin] | ER4: =$B$4 -> StdDisziplinen[StdDisziplin] | EU4: =$B$4 -> StdDisziplinen[StdDisziplin] | EW4: =$B$4 -> StdDisziplinen[StdDisziplin] | FA4: =BC$3 -> 5 | FB4: =BO$3 -> 6 | FC4: =FA$4 -> 5 | FD4: =FB$4 -> 6 | FE4: =FA$17&Stammdaten!$BZ$4 -> Sprungdisziplinen nicht durchgeführt | FK4: =$B$4 -> StdDisziplinen[StdDisziplin] | FL4: =$B$4 -> StdDisziplinen[StdDisziplin] | FM4: =$B$4 -> StdDisziplinen[StdDisziplin] | FP4: =$B$4 -> StdDisziplinen[StdDisziplin] | FR4: =$B$4 -> StdDisziplinen[StdDisziplin] | FV4: =CA$3 -> 7 | FW4: =CM$3 -> 8 | FX4: =CY$3 -> 9 | FY4: =FV$4 -> 7 | FZ4: =FW$4 -> 8 | GA4: =FX$4 -> 9 | GB4: =FV$17&Stammdaten!$BZ$4 -> Wurfdisziplinen nicht durchgeführt | GH4: =$B$4 -> StdDisziplinen[StdDisziplin] | GI4: =$B$4 -> StdDisziplinen[StdDisziplin] | GJ4: =$B$4 -> StdDisziplinen[StdDisziplin] | GM4: =$B$4 -> StdDisziplinen[StdDisziplin] | GO4: =$B$4 -> StdDisziplinen[StdDisziplin] | HW4: {=LEFT(INDIRECT(HW$3),1)} -> 2 | IF4: {=LEFT(INDIRECT(IF$3),1)} -> 2 | IO4: {=LEFT(INDIRECT(IO$3),1)} -> 2 | IX4: {=LEFT(INDIRECT(IX$3),1)} -> 2 | JG4: {=LEFT(INDIRECT(JG$3),1)} -> 2 | JP4: {=LEFT(INDIRECT(JP$3),1)} -> 2 | JR4: =$HP$3 -> 10 | JS4: =$HY$3 -> 11 | JT4: =$IH$3 -> 12 | JU4: =$IQ$3 -> 13 | JV4: =$IZ$3 -> 14 | JW4: =$JI$3 -> 15 | KP4: =Stammdaten!$R$4 -> StdDisziplinen[StdDisziplin] | KQ4: =Stammdaten!$R$4 -> StdDisziplinen[StdDisziplin] | KR4: =Stammdaten!$R$4 -> StdDisziplinen[StdDisziplin] | KS4: =Stammdaten!$R$4 -> StdDisziplinen[StdDisziplin] | KT4: =Stammdaten!$R$4 -> StdDisziplinen[StdDisziplin] | KU4: =Stammdaten!$R$4 -> StdDisziplinen[StdDisziplin] | KV4: =Stammdaten!$R$4 -> StdDisziplinen[StdDisziplin] | KW4: =Stammdaten!$R$4 -> StdDisziplinen[StdDisziplin] | ... LA4: =Stammdaten!$R$4 -> StdDisziplinen[StdDisziplin] | LI4: =$B$4 -> StdDisziplinen[StdDisziplin] | LJ4: =$B$4 -> StdDisziplinen[StdDisziplin] | LK4: =$B$4 -> StdDisziplinen[StdDisziplin] | LN4: =$B$4 -> StdDisziplinen[StdDisziplin] | LP4: =$B$4 -> StdDisziplinen[StdDisziplin] | LU4: =$B$4 -> StdDisziplinen[StdDisziplin] | LV4: =$B$4 -> StdDisziplinen[StdDisziplin] | LW4: =$B$4 -> StdDisziplinen[StdDisziplin] | LZ4: =$B$4 -> StdDisziplinen[StdDisziplin] | MB4: =$B$4 -> StdDisziplinen[StdDisziplin] | MG4: =$B$4 -> StdDisziplinen[StdDisziplin] | MH4: =$B$4 -> StdDisziplinen[StdDisziplin] | MI4: =$B$4 -> StdDisziplinen[StdDisziplin] | ML4: =$B$4 -> StdDisziplinen[StdDisziplin] | MN4: =$B$4 -> StdDisziplinen[StdDisziplin] | MY4: {=INDEX(INDIRECT(Stammdaten!$AA$4),MW$3)} -> Geräteturnen_X[Resultat] | NL4: {=INDEX(INDIRECT(Stammdaten!$AA$4),NG$3)} -> Parkour_X[Resultat] | NR4: {=LEFT(INDIRECT(NR$3),1)} -> 2 | NT4: =MW$3 -> 36 | NU4: =NG$3 -> 16 | NV4: =NT$4 -> 36 | NW4: =NU$4 -> 16 | NX4: =$NX$17&Stammdaten!$BZ$4 -> Parkour nicht durchgeführt | NY4: =$B$4 -> StdDisziplinen[StdDisziplin] | NZ4: =$B$4 -> StdDisziplinen[StdDisziplin] | OA4: =$B$4 -> StdDisziplinen[StdDisziplin] | OD4: =$B$4 -> StdDisziplinen[StdDisziplin] | OF4: =$B$4 -> StdDisziplinen[StdDisziplin] | PG4: {=INDEX(INDIRECT(Stammdaten!$AA$4),PC$3)} -> Tanzen_X[Resultat] | PM4: {=LEFT(INDIRECT(PM$3),1)} -> 2 | PT4: {=INDEX(INDIRECT(Stammdaten!$AA$4),PO$3)} -> RopeSkipping_X[Resultat] | PZ4: {=LEFT(INDIRECT(PZ$3),1)} -> 2 | QF4: {=INDEX(INDIRECT(Stammdaten!$AA$4),QB$3)} -> Aerobic_X[Resultat] | QL4: {=LEFT(INDIRECT(QL$3),1)} -> 2 | QN4: =PC$3 -> 17 | QO4: =PO$3 -> 18 | QP4: =QB$3 -> 19 | QQ4: =QN$4 -> 17 | QR4: =QO$4 -> 18 | QS4: =QP$4 -> 19 | QT4: =QN$17&Stammdaten!$BZ$4 -> Darstellen und Tanzen nicht durchgeführt | QY4: =$B$4 -> StdDisziplinen[StdDisziplin] | QZ4: =$B$4 -> StdDisziplinen[StdDisziplin] | RA4: =$B$4 -> StdDisziplinen[StdDisziplin] | RD4: =$B$4 -> StdDisziplinen[StdDisziplin] | RF4: =$B$4 -> StdDisziplinen[StdDisziplin] | RR4: {=INDEX(INDIRECT(Stammdaten!$AA$4),RN$3)} -> Basketball_X[Resultat] | RX4: {=LEFT(INDIRECT(RX$3),1)} -> 2 | SD4: {=INDEX(INDIRECT(Stammdaten!$AA$4),RZ$3)} -> Fussball_X[Resultat] | SJ4: {=LEFT(INDIRECT(SJ$3),1)} -> 2 | SP4: {=INDEX(INDIRECT(Stammdaten!$AA$4),SL$3)} -> Handball_X[Resultat] | SV4: {=LEFT(INDIRECT(SV$3),1)} -> 2 | TB4: {=INDEX(INDIRECT(Stammdaten!$AA$4),SX$3)} -> Unihockey_X[Resultat] | TH4: {=LEFT(INDIRECT(TH$3),1)} -> 2 | TO4: {=INDEX(INDIRECT(Stammdaten!$AA$4),TJ$3)} -> Volleyball_X[Resultat] | TU4: {=LEFT(INDIRECT(TU$3),1)} -> 2 | TW4: =$RN$3 -> 20 | TX4: =$RZ$3 -> 21 | TY4: =$SL$3 -> 22 | TZ4: =$SX$3 -> 23 | UA4: =$TJ$3 -> 24 | UT4: =Stammdaten!$R$4 -> StdDisziplinen[StdDisziplin] | UU4: =Stammdaten!$R$4 -> StdDisziplinen[StdDisziplin] | UV4: =Stammdaten!$R$4 -> StdDisziplinen[StdDisziplin] | UW4: =Stammdaten!$R$4 -> StdDisziplinen[StdDisziplin] | UX4: =Stammdaten!$R$4 -> StdDisziplinen[StdDisziplin] | UY4: =Stammdaten!$R$4 -> StdDisziplinen[StdDisziplin] | UZ4: =Stammdaten!$R$4 -> StdDisziplinen[StdDisziplin] | VA4: =Stammdaten!$R$4 -> StdDisziplinen[StdDisziplin] | ... VC4: =Stammdaten!$R$4 -> StdDisziplinen[StdDisziplin] | VK4: =$B$4 -> StdDisziplinen[StdDisziplin] | VL4: =$B$4 -> StdDisziplinen[StdDisziplin] | VM4: =$B$4 -> StdDisziplinen[StdDisziplin] | VP4: =$B$4 -> StdDisziplinen[StdDisziplin] | VR4: =$B$4 -> StdDisziplinen[StdDisziplin] | VW4: =$B$4 -> StdDisziplinen[StdDisziplin] | VX4: =$B$4 -> StdDisziplinen[StdDisziplin] | VY4: =$B$4 -> StdDisziplinen[StdDisziplin] | WB4: =$B$4 -> StdDisziplinen[StdDisziplin] | WD4: =$B$4 -> StdDisziplinen[StdDisziplin] | WI4: =$B$4 -> StdDisziplinen[StdDisziplin] | WJ4: =$B$4 -> StdDisziplinen[StdDisziplin] | WK4: =$B$4 -> StdDisziplinen[StdDisziplin] | WN4: =$B$4 -> StdDisziplinen[StdDisziplin] | WP4: =$B$4 -> StdDisziplinen[StdDisziplin] | WT4: =RN$3 -> 20 | WU4: =RZ$3 -> 21 | WV4: =SL$3 -> 22 | WW4: =SX$3 -> 23 | WX4: =TJ$3 -> 24 | WY4: =WT$4 -> 20 | WZ4: =WU$4 -> 21 | XA4: =WV$4 -> 22 | XB4: =WW$4 -> 23 | XC4: =WX$4 -> 24 | ZJ4: =$ZH$27 -> Disziplin | ZW4: {=INDEX(INDIRECT(Stammdaten!$AA$4),ZM$3)} -> Schwimmen_X[Resultat] | AAW4: {=INDEX(INDIRECT(Stammdaten!$AA$4),AAR$3)} -> Beweglichkeit_X[Resultat] | ABB4: {=LEFT(INDIRECT(ABB$3),1)} -> 2 | ABI4: {=INDEX(INDIRECT(Stammdaten!$AA$4),ABD$3)} -> Rumpfkraft_X[Resultat] | ACG4: {=INDEX(INDIRECT(Stammdaten!$AA$4),ACB$3)} -> Konditionsparcours_X[Resultat] | ACM4: {=LEFT(INDIRECT(ACM$3),1)} -> 2
B5: =Stammdaten!$AZ$4 -> StdDisziplinen[R-A_Code] | C5: =Stammdaten!$AH$4 -> StdDisziplinen[Bewertung2] | E5: =Stammdaten!$X$4 -> StdDisziplinen[StdTabResRes] | K5: {=INDEX(INDIRECT($E$6),G$3)} -> SechzigmLaufSkalawert[@[Skala-Wert]] | W5: {=INDEX(INDIRECT($E$6),S$3)} -> AchtzigmLaufSkalawert[@[Skala-Wert]] | AI5: {=INDEX(INDIRECT($E$6),AE$3)} -> ZwölfMinLaufHalleSkalawert[@[Skala-Wert]] | AU5: {=INDEX(INDIRECT($E$6),AQ$3)} -> ZwölfMinLaufimFreienSkalawert[@[Skala-Wert]] | BG5: {=INDEX(INDIRECT($E$6),BC$3)} -> HochsprungSkalawert[@[Skala-Wert]] | BS5: {=INDEX(INDIRECT($E$6),BO$3)} -> WeitsprungSkalawert[@[Skala-Wert]] | CE5: {=INDEX(INDIRECT($E$6),CA$3)} -> BallwurfSkalawert[@[Skala-Wert]] | CQ5: {=INDEX(INDIRECT($E$6),CM$3)} -> KugelstossenSkalawert[@[Skala-Wert]] | DC5: {=INDEX(INDIRECT($E$6),CY$3)} -> SpeerwurfSkalawert[@[Skala-Wert]] | DK5: {=INDEX(INDIRECT($E$6),DK$4)} -> SechzigmLaufSkalawert[@[Skala-Wert]] | DL5: {=INDEX(INDIRECT($E$6),DL$4)} -> AchtzigmLaufSkalawert[@[Skala-Wert]] | DM5: {=INDEX(INDIRECT($C$4),DK$4)} -> SechzigmLaufNote[@[Note]] | DN5: {=INDEX(INDIRECT($C$4),DL$4)} -> AchtzigmLaufNote[@[Note]] | DO5: =DK$17&Stammdaten!$CB$3 -> Sprintdisziplinen dispensiert | DU5: =$C$5 -> StdDisziplinen[Bewertung2] | DV5: =$C$6 -> StdDisziplinen[StdTabGerRun] | DW5: =$B$5 -> StdDisziplinen[R-A_Code] | DZ5: =Stammdaten!$AR$4 -> StdDisziplinen[StufeMax] | EB5: =Stammdaten!$AS$4 -> StdDisziplinen[MaxTextSt1] | EF5: {=INDEX(INDIRECT($E$6),EF$4)} -> ZwölfMinLaufHalleSkalawert[@[Skala-Wert]] | EG5: {=INDEX(INDIRECT($E$6),EG$4)} -> ZwölfMinLaufimFreienSkalawert[@[Skala-Wert]] | EH5: {=INDEX(INDIRECT($C$4),EF$4)} -> ZwölfMinLaufHalleNote[@[Note]] | EI5: {=INDEX(INDIRECT($C$4),EG$4)} -> ZwölfMinLaufimFreienNote[@[Note]] | EJ5: =EF$17&Stammdaten!$CB$3 -> Ausdauerdisziplinen dispensiert | EP5: =$C$5 -> StdDisziplinen[Bewertung2] | EQ5: =$C$6 -> StdDisziplinen[StdTabGerRun] | ER5: =$B$5 -> StdDisziplinen[R-A_Code] | EU5: =Stammdaten!$AR$4 -> StdDisziplinen[StufeMax] | EW5: =Stammdaten!$AS$4 -> StdDisziplinen[MaxTextSt1] | FA5: {=INDEX(INDIRECT($E$6),FA$4)} -> HochsprungSkalawert[@[Skala-Wert]] | FB5: {=INDEX(INDIRECT($E$6),FB$4)} -> WeitsprungSkalawert[@[Skala-Wert]] | FC5: {=INDEX(INDIRECT($C$4),FA$4)} -> HochsprungNote[@[Note]] | FD5: {=INDEX(INDIRECT($C$4),FB$4)} -> WeitsprungNote[@[Note]] | FE5: =FA$17&Stammdaten!$CB$3 -> Sprungdisziplinen dispensiert | FK5: =$C$5 -> StdDisziplinen[Bewertung2] | FL5: =$C$6 -> StdDisziplinen[StdTabGerRun] | FM5: =$B$5 -> StdDisziplinen[R-A_Code] | FP5: =Stammdaten!$AR$4 -> StdDisziplinen[StufeMax] | FR5: =Stammdaten!$AS$4 -> StdDisziplinen[MaxTextSt1] | FV5: {=INDEX(INDIRECT($E$6),FV$4)} -> BallwurfSkalawert[@[Skala-Wert]] | FW5: {=INDEX(INDIRECT($E$6),FW$4)} -> KugelstossenSkalawert[@[Skala-Wert]] | FX5: {=INDEX(INDIRECT($E$6),FX$4)} -> SpeerwurfSkalawert[@[Skala-Wert]] | FY5: {=INDEX(INDIRECT($C$4),FV$4)} -> BallwurfNote[@[Note]] | FZ5: {=INDEX(INDIRECT($C$4),FW$4)} -> KugelstossenNote[@[Note]] | GA5: {=INDEX(INDIRECT($C$4),FX$4)} -> SpeerwurfNote[@[Note]] | GB5: =FV$17&Stammdaten!$CB$3 -> Wurfdisziplinen dispensiert | GH5: =$C$5 -> StdDisziplinen[Bewertung2] | GI5: =$C$6 -> StdDisziplinen[StdTabGerRun] | GJ5: =$B$5 -> StdDisziplinen[R-A_Code] | GM5: =Stammdaten!$AR$4 -> StdDisziplinen[StufeMax] | GO5: =Stammdaten!$AS$4 -> StdDisziplinen[MaxTextSt1] | HW5: =LEFT($E$3,LEN($E$3)-2)&HW$4&"]" -> StdDisziplinen[Maximalwert_OS2] | IF5: =LEFT($E$3,LEN($E$3)-2)&IF$4&"]" -> StdDisziplinen[Maximalwert_OS2] | IO5: =LEFT($E$3,LEN($E$3)-2)&IO$4&"]" -> StdDisziplinen[Maximalwert_OS2] | IX5: =LEFT($E$3,LEN($E$3)-2)&IX$4&"]" -> StdDisziplinen[Maximalwert_OS2] | JG5: =LEFT($E$3,LEN($E$3)-2)&JG$4&"]" -> StdDisziplinen[Maximalwert_OS2] | JP5: =LEFT($E$3,LEN($E$3)-2)&JP$4&"]" -> StdDisziplinen[Maximalwert_OS2] | JR5: {=INDEX(INDIRECT(JR$2),JR$4)} -> Reck | JS5: {=INDEX(INDIRECT(JS$2),JS$4)} -> Boden | JT5: {=INDEX(INDIRECT(JT$2),JT$4)} -> Stufenbarren | JU5: {=INDEX(INDIRECT(JU$2),JU$4)} -> Parallelbarren | JV5: {=INDEX(INDIRECT(JV$2),JV$4)} -> Schaukelringe | JW5: {=INDEX(INDIRECT(JW$2),JW$4)} -> Sprung | KP5: {=INDEX(INDIRECT(KP$4),KP$2)} -> Reck | KQ5: {=INDEX(INDIRECT(KQ$4),KQ$2)} -> Boden | KR5: {=INDEX(INDIRECT(KR$4),KR$2)} -> Stufenbarren | KS5: {=INDEX(INDIRECT(KS$4),KS$2)} -> Parallelbarren | KT5: {=INDEX(INDIRECT(KT$4),KT$2)} -> Schaukelringe | KU5: {=INDEX(INDIRECT(KU$4),KU$2)} -> Sprung | KV5: {=INDEX(INDIRECT(KV$4),KV$2)} -> Reck | KW5: {=INDEX(INDIRECT(KW$4),KW$2)} -> Boden | ... LA5: {=INDEX(INDIRECT(LA$4),LA$2)} -> Sprung | LI5: =$C$5 -> StdDisziplinen[Bewertung2] | LJ5: =$E$5 -> StdDisziplinen[StdTabResRes] | LK5: =$B$5 -> StdDisziplinen[R-A_Code] | LN5: =Stammdaten!$AR$4 -> StdDisziplinen[StufeMax] | LP5: =Stammdaten!$AS$4 -> StdDisziplinen[MaxTextSt1] | LU5: =$C$5 -> StdDisziplinen[Bewertung2] | LV5: =$E$5 -> StdDisziplinen[StdTabResRes] | LW5: =$B$5 -> StdDisziplinen[R-A_Code] | LZ5: =Stammdaten!$AR$4 -> StdDisziplinen[StufeMax] | MB5: =Stammdaten!$AS$4 -> StdDisziplinen[MaxTextSt1] | MG5: =$C$5 -> StdDisziplinen[Bewertung2] | MH5: =$E$5 -> StdDisziplinen[StdTabResRes] | MI5: =$B$5 -> StdDisziplinen[R-A_Code] | ML5: =Stammdaten!$AR$4 -> StdDisziplinen[StufeMax] | MN5: =Stammdaten!$AS$4 -> StdDisziplinen[MaxTextSt1] | MY5: {=INDEX(INDIRECT($E$6),MW$3)} -> GeräteturnenSkalawert[@[Skala-Wert]] | NL5: {=INDEX(INDIRECT($E$6),NG$3)} -> ParkourSkalawert[@[Skala-Wert]] | NR5: =LEFT($E$3,LEN($E$3)-2)&NR$4&"]" -> StdDisziplinen[Maximalwert_OS2] | NT5: {=INDEX(INDIRECT($E$6),NT$4)} -> GeräteturnenSkalawert[@[Skala-Wert]] | NU5: {=INDEX(INDIRECT($E$6),NU$4)} -> ParkourSkalawert[@[Skala-Wert]] | NV5: {=INDEX(INDIRECT($C$4),NT$4)} -> GeräteturnenNote[@[Note]] | NW5: {=INDEX(INDIRECT($C$4),NU$4)} -> ParkourNote[@[Note]] | NX5: =$NX$17&Stammdaten!$CB$3 -> Parkour dispensiert | NY5: =$C$5 -> StdDisziplinen[Bewertung2] | NZ5: =$C$6 -> StdDisziplinen[StdTabGerRun] | OA5: =$ER$5 -> StdDisziplinen[R-A_Code] | OD5: =Stammdaten!$AR$4 -> StdDisziplinen[StufeMax] | OF5: =Stammdaten!$AS$4 -> StdDisziplinen[MaxTextSt1] | PG5: {=INDEX(INDIRECT($E$6),PC$3)} -> TanzenSkalawert[@[Skala-Wert]] | PM5: =LEFT($E$3,LEN($E$3)-2)&PM$4&"]" -> StdDisziplinen[Maximalwert_OS2] | PT5: {=INDEX(INDIRECT($E$6),PO$3)} -> RopeSkippingSkalawert[@[Skala-Wert]] | PZ5: =LEFT($E$3,LEN($E$3)-2)&PZ$4&"]" -> StdDisziplinen[Maximalwert_OS2] | QF5: {=INDEX(INDIRECT($E$6),QB$3)} -> AerobicSkalawert[@[Skala-Wert]] | QL5: =LEFT($E$3,LEN($E$3)-2)&QL$4&"]" -> StdDisziplinen[Maximalwert_OS2] | QN5: {=INDEX(INDIRECT($E$6),QN$4)} -> TanzenSkalawert[@[Skala-Wert]] | QO5: {=INDEX(INDIRECT($E$6),QO$4)} -> RopeSkippingSkalawert[@[Skala-Wert]] | QP5: {=INDEX(INDIRECT($E$6),QP$4)} -> AerobicSkalawert[@[Skala-Wert]] | QQ5: {=INDEX(INDIRECT($C$4),QN$4)} -> TanzenNote[@[Note]] | QR5: {=INDEX(INDIRECT($C$4),QO$4)} -> RopeSkippingNote[@[Note]] | QS5: {=INDEX(INDIRECT($C$4),QP$4)} -> AerobicNote[@[Note]] | QT5: =QN$17&Stammdaten!$CB$3 -> Darstellen und Tanzen dispensiert | QY5: =$C$5 -> StdDisziplinen[Bewertung2] | QZ5: =$C$6 -> StdDisziplinen[StdTabGerRun] | RA5: =$B$5 -> StdDisziplinen[R-A_Code] | RD5: =Stammdaten!$AR$4 -> StdDisziplinen[StufeMax] | RF5: =Stammdaten!$AS$4 -> StdDisziplinen[MaxTextSt1] | RR5: {=INDEX(INDIRECT($E$6),RN$3)} -> BasketballSkalawert[@[Skala-Wert]] | SD5: {=INDEX(INDIRECT($E$6),RZ$3)} -> FussballSkalawert[@[Skala-Wert]] | SP5: {=INDEX(INDIRECT($E$6),SL$3)} -> HandballSkalawert[@[Skala-Wert]] | TB5: {=INDEX(INDIRECT($E$6),SX$3)} -> UnihockeySkalawert[@[Skala-Wert]] | TO5: {=INDEX(INDIRECT($E$6),TJ$3)} -> VolleyballSkalawert[@[Skala-Wert]] | TU5: =LEFT($E$3,LEN($E$3)-2)&TU$4&"]" -> StdDisziplinen[Maximalwert_OS2] | TW5: {=INDEX(INDIRECT(TW$2),TW$4)} -> Basketball | TX5: {=INDEX(INDIRECT(TX$2),TX$4)} -> Fussball | TY5: {=INDEX(INDIRECT(TY$2),TY$4)} -> Handball | TZ5: {=INDEX(INDIRECT(TZ$2),TZ$4)} -> Unihockey | UA5: {=INDEX(INDIRECT(UA$2),UA$4)} -> Volleyball | UT5: {=INDEX(INDIRECT(UT$4),UT$2)} -> Basketball | UU5: {=INDEX(INDIRECT(UU$4),UU$2)} -> Fussball | UV5: {=INDEX(INDIRECT(UV$4),UV$2)} -> Handball | UW5: {=INDEX(INDIRECT(UW$4),UW$2)} -> Unihockey | UX5: {=INDEX(INDIRECT(UX$4),UX$2)} -> Volleyball | UY5: {=INDEX(INDIRECT(UY$4),UY$2)} -> Basketball | UZ5: {=INDEX(INDIRECT(UZ$4),UZ$2)} -> Fussball | VA5: {=INDEX(INDIRECT(VA$4),VA$2)} -> Handball | ... VC5: {=INDEX(INDIRECT(VC$4),VC$2)} -> Volleyball | VK5: =$C$5 -> StdDisziplinen[Bewertung2] | VL5: =$C$6 -> StdDisziplinen[StdTabGerRun] | VM5: =$B$5 -> StdDisziplinen[R-A_Code] | VP5: =Stammdaten!$AR$4 -> StdDisziplinen[StufeMax] | VR5: =Stammdaten!$AS$4 -> StdDisziplinen[MaxTextSt1] | VW5: =$C$5 -> StdDisziplinen[Bewertung2] | VX5: =$C$6 -> StdDisziplinen[StdTabGerRun] | VY5: =$B$5 -> StdDisziplinen[R-A_Code] | WB5: =Stammdaten!$AR$4 -> StdDisziplinen[StufeMax] | WD5: =Stammdaten!$AS$4 -> StdDisziplinen[MaxTextSt1] | WI5: =$C$5 -> StdDisziplinen[Bewertung2] | WJ5: =$C$6 -> StdDisziplinen[StdTabGerRun] | WK5: =$B$5 -> StdDisziplinen[R-A_Code] | WN5: =Stammdaten!$AR$4 -> StdDisziplinen[StufeMax] | WP5: =Stammdaten!$AS$4 -> StdDisziplinen[MaxTextSt1] | WT5: {=INDEX(INDIRECT($E$6),WT$4)} -> BasketballSkalawert[@[Skala-Wert]] | WU5: {=INDEX(INDIRECT($E$6),WU$4)} -> FussballSkalawert[@[Skala-Wert]] | WV5: {=INDEX(INDIRECT($E$6),WV$4)} -> HandballSkalawert[@[Skala-Wert]] | WW5: {=INDEX(INDIRECT($E$6),WW$4)} -> UnihockeySkalawert[@[Skala-Wert]] | WX5: {=INDEX(INDIRECT($E$6),WX$4)} -> VolleyballSkalawert[@[Skala-Wert]] | WY5: {=INDEX(INDIRECT($C$4),WY$4)} -> BasketballNote[@[Note]] | WZ5: {=INDEX(INDIRECT($C$4),WZ$4)} -> FussballNote[@[Note]] | XA5: {=INDEX(INDIRECT($C$4),XA$4)} -> HandballNote[@[Note]] | XB5: {=INDEX(INDIRECT($C$4),XB$4)} -> UnihockeyNote[@[Note]] | XC5: {=INDEX(INDIRECT($C$4),XC$4)} -> VolleyballNote[@[Note]] | ZW5: {=INDEX(INDIRECT($E$6),ZM$3)} -> SchwimmenSkalawert[@[Skala-Wert]] | ZX5: =REPLACE($ZW$5,FIND("]",$ZW$5,1),0,"0") -> SchwimmenSkalawert[@[Skala-Wert0]] | AAW5: {=INDEX(INDIRECT($E$6),AAR$3)} -> BeweglichkeitSkalawert[@[Skala-Wert]] | ABB5: =LEFT($E$3,LEN($E$3)-2)&ABB$4&"]" -> StdDisziplinen[Maximalwert_OS2] | ABI5: {=INDEX(INDIRECT($E$6),ABD$3)} -> RumpfkraftSkalawert[@[Skala-Wert]] | ACG5: {=INDEX(INDIRECT($E$6),ACB$3)} -> KonditionsparcoursSkalawert[@[Skala-Wert]]
B6: =Stammdaten!$AN$4 -> StdDisziplinen[Vergleichstyp] | C6: =Stammdaten!$Z$4 -> StdDisziplinen[StdTabGerRun] | E6: =Stammdaten!$AB$4 -> StdDisziplinen[TabÜberschriftSkala] | K6: {=INDEX(INDIRECT(Stammdaten!$AC$4),G$3)} -> SechzigmLauf_X[Note] | L6: {=INDEX(INDIRECT(Stammdaten!$U$4),G$3)} -> 14 | W6: {=INDEX(INDIRECT(Stammdaten!$AC$4),S$3)} -> AchtzigmLauf_X[Note] | X6: {=INDEX(INDIRECT(Stammdaten!$U$4),S$3)} -> 14 | AI6: {=INDEX(INDIRECT(Stammdaten!$AC$4),AE$3)} -> ZwölfMinLaufHalle_X[Note] | AJ6: {=INDEX(INDIRECT(Stammdaten!$U$4),AE$3)} -> 19 | AU6: {=INDEX(INDIRECT(Stammdaten!$AC$4),AQ$3)} -> ZwölfMinLaufimFreien_X[Note] | AV6: {=INDEX(INDIRECT(Stammdaten!$U$4),AQ$3)} -> 22 | BG6: {=INDEX(INDIRECT(Stammdaten!$AC$4),BC$3)} -> Hochsprung_X[Note] | BH6: {=INDEX(INDIRECT(Stammdaten!$U$4),BC$3)} -> 12 | BS6: {=INDEX(INDIRECT(Stammdaten!$AC$4),BO$3)} -> Weitsprung_X[Note] | BT6: {=INDEX(INDIRECT(Stammdaten!$U$4),BO$3)} -> 12 | CE6: {=INDEX(INDIRECT(Stammdaten!$AC$4),CA$3)} -> Ballwurf_X[Note] | CF6: {=INDEX(INDIRECT(Stammdaten!$U$4),CA$3)} -> 10 | CQ6: {=INDEX(INDIRECT(Stammdaten!$AC$4),CM$3)} -> Kugelstossen_X[Note] | CR6: {=INDEX(INDIRECT(Stammdaten!$U$4),CM$3)} -> 14 | DC6: {=INDEX(INDIRECT(Stammdaten!$AC$4),CY$3)} -> Speerwurf_X[Note] | DD6: {=INDEX(INDIRECT(Stammdaten!$U$4),CY$3)} -> 11 | DV6: =$E$4 -> StdDisziplinen[StdTabResEin] | EQ6: =$E$4 -> StdDisziplinen[StdTabResEin] | FL6: =$E$4 -> StdDisziplinen[StdTabResEin] | GI6: =$E$4 -> StdDisziplinen[StdTabResEin] | LJ6: =$E$4 -> StdDisziplinen[StdTabResEin] | LV6: =$E$4 -> StdDisziplinen[StdTabResEin] | MH6: =$E$4 -> StdDisziplinen[StdTabResEin] | MY6: {=INDEX(INDIRECT(Stammdaten!$AC$4),MW$3)} -> Geräteturnen_X[Note] | MZ6: {=INDEX(INDIRECT(Stammdaten!$U$4),MW$3)} -> 14 | NL6: {=INDEX(INDIRECT(Stammdaten!$AC$4),NG$3)} -> Parkour_X[Note] | NM6: {=INDEX(INDIRECT(Stammdaten!$U$4),NG$3)} -> 9 | NZ6: =$E$4 -> StdDisziplinen[StdTabResEin] | PG6: {=INDEX(INDIRECT(Stammdaten!$AC$4),PC$3)} -> Tanzen_X[Note] | PH6: {=INDEX(INDIRECT(Stammdaten!$U$4),PC$3)} -> 8 | PT6: {=INDEX(INDIRECT(Stammdaten!$AC$4),PO$3)} -> RopeSkipping_X[Note] | PU6: {=INDEX(INDIRECT(Stammdaten!$U$4),PO$3)} -> 14 | QF6: {=INDEX(INDIRECT(Stammdaten!$AC$4),QB$3)} -> Aerobic_X[Note] | QG6: {=INDEX(INDIRECT(Stammdaten!$U$4),QB$3)} -> 9 | QZ6: =$E$4 -> StdDisziplinen[StdTabResEin] | RR6: {=INDEX(INDIRECT(Stammdaten!$AC$4),RN$3)} -> Basketball_X[Note] | RS6: {=INDEX(INDIRECT(Stammdaten!$U$4),RN$3)} -> 12 | SD6: {=INDEX(INDIRECT(Stammdaten!$AC$4),RZ$3)} -> Fussball_X[Note] | SE6: {=INDEX(INDIRECT(Stammdaten!$U$4),RZ$3)} -> 10 | SP6: {=INDEX(INDIRECT(Stammdaten!$AC$4),SL$3)} -> Handball_X[Note] | SQ6: {=INDEX(INDIRECT(Stammdaten!$U$4),SL$3)} -> 10 | TB6: {=INDEX(INDIRECT(Stammdaten!$AC$4),SX$3)} -> Unihockey_X[Note] | TC6: {=INDEX(INDIRECT(Stammdaten!$U$4),SX$3)} -> 11 | TO6: {=INDEX(INDIRECT(Stammdaten!$AC$4),TJ$3)} -> Volleyball_X[Note] | TP6: {=INDEX(INDIRECT(Stammdaten!$U$4),TJ$3)} -> 12 | VL6: =$E$4 -> StdDisziplinen[StdTabResEin] | VX6: =$E$4 -> StdDisziplinen[StdTabResEin] | WJ6: =$E$4 -> StdDisziplinen[StdTabResEin] | ZW6: {=INDEX(INDIRECT(Stammdaten!$AC$4),ZM$3)} -> Schwimmen_X[Note] | ZX6: {=INDEX(INDIRECT(Stammdaten!$U$4),ZM$3)} -> 11 | AAW6: {=INDEX(INDIRECT(Stammdaten!$AC$4),AAR$3)} -> Beweglichkeit_X[Note] | AAX6: {=INDEX(INDIRECT(Stammdaten!$U$4),AAR$3)} -> 15 | ABI6: {=INDEX(INDIRECT(Stammdaten!$AC$4),ABD$3)} -> Rumpfkraft_X[Note] | ABJ6: {=INDEX(INDIRECT(Stammdaten!$U$4),ABD$3)} -> 12 | ACG6: {=INDEX(INDIRECT(Stammdaten!$AC$4),ACB$3)} -> Konditionsparcours_X[Note] | ACH6: {=INDEX(INDIRECT(Stammdaten!$U$4),ACB$3)} -> 20
A7: =Stammdaten!$CB$28 -> Bed. F. | B7: Typ Spalte | G7: =LEFT(G$27,3) -> Ein | H7: =LEFT(H$27,3) -> Res | I7: =LEFT(I$27,3) -> Bed | J7: =LEFT(J$27,3) | K7: =LEFT(K$27,3) -> Run | L7: =LEFT(L$27,3) | M7: =LEFT(M$27,3) | N7: =LEFT(N$27,3) -> Ska | ... RK7: =LEFT(RK$27,3) | RL7: Not | RM7: =LEFT(RM$27,3) | RN7: =LEFT(RN$27,3) -> Ein | RO7: =LEFT(RO$27,3) -> Res | RP7: =LEFT(RP$27,3) -> Bed | RQ7: =LEFT(RQ$27,3) | RR7: =LEFT(RR$27,3) -> Run | RS7: =LEFT(RS$27,3) | RT7: =LEFT(RT$27,3) | ... ACM7: =LEFT(ACM$27,3) -> Not
A8: =Stammdaten!$CB$28 -> Bed. F. | B8: =Stammdaten!$BZ$5 -> Disziplin | E8: =Stammdaten!$AU$4 -> StdDisziplinen[Spalte] | G8: =MATCH(VLOOKUP(COLUMN(),INDIRECT($E$8),1,TRUE),INDIRECT($E$8),0) -> 1 | H8: =MATCH(VLOOKUP(COLUMN(),INDIRECT($E$8),1,TRUE),INDIRECT($E$8),0) -> 1 | I8: =MATCH(VLOOKUP(COLUMN(),INDIRECT($E$8),1,TRUE),INDIRECT($E$8),0) -> 1 | J8: =MATCH(VLOOKUP(COLUMN(),INDIRECT($E$8),1,TRUE),INDIRECT($E$8),0) -> 1 | K8: =MATCH(VLOOKUP(COLUMN(),INDIRECT($E$8),1,TRUE),INDIRECT($E$8),0) -> 1 | L8: =MATCH(VLOOKUP(COLUMN(),INDIRECT($E$8),1,TRUE),INDIRECT($E$8),0) -> 1 | M8: =MATCH(VLOOKUP(COLUMN(),INDIRECT($E$8),1,TRUE),INDIRECT($E$8),0) -> 1 | N8: =MATCH(VLOOKUP(COLUMN(),INDIRECT($E$8),1,TRUE),INDIRECT($E$8),0) -> 1 | ... ACM8: =MATCH(VLOOKUP(COLUMN(),INDIRECT($E$8),1,TRUE),INDIRECT($E$8),0) -> 29
A9: =Stammdaten!$CB$28 -> Bed. F. | B9: =Stammdaten!$BZ$5&" +" -> Disziplin + | DK9: =$DK$4 -> 1 | DL9: =$DL$4 -> 2 | DM9: =$DM$4 -> 1 | DN9: =$DN$4 -> 2 | EF9: =$EF$4 -> 3 | EG9: =$EG$4 -> 4 | EH9: =$EH$4 -> 3 | EI9: =$EI$4 -> 4 | FA9: =$FA$4 -> 5 | FB9: =$FB$4 -> 6 | FC9: =$FC$4 -> 5 | FD9: =$FD$4 -> 6 | FV9: =$FV$4 -> 7 | FW9: =$FW$4 -> 8 | FX9: =$FX$4 -> 9 | FY9: =$FY$4 -> 7 | FZ9: =$FZ$4 -> 8 | GA9: =$GA$4 -> 9 | HA9: =Stammdaten!$BR$6 -> 31 | HB9: =Stammdaten!$BR$6 -> 31 | HC9: =Stammdaten!$BR$6 -> 31 | HD9: =Stammdaten!$BR$6 -> 31 | HE9: =Stammdaten!$BR$6 -> 31 | HF9: =Stammdaten!$BR$6 -> 31 | HN9: 31 | JR9: =$JR$4 -> 10 | JS9: =$JS$4 -> 11 | JT9: =$JT$4 -> 12 | JU9: =$JU$4 -> 13 | JV9: =$JV$4 -> 14 | JW9: =$JW$4 -> 15 | MY9: =$MW$3 -> 36 | NB9: =$MW$3 -> 36 | NE9: =$MW$3 -> 36 | NT9: =$NT$4 -> 36 | NU9: =$NU$4 -> 16 | NV9: =$NV$4 -> 36 | NW9: =$NW$4 -> 16 | OP9: =Stammdaten!$BR$7 -> 32 | OQ9: =Stammdaten!$BR$7 -> 32 | OR9: =Stammdaten!$L$41 -> 36 | OS9: =Stammdaten!$BR$7 -> 32 | PA9: 32 | QN9: =$QN$4 -> 17 | QO9: =$QO$4 -> 18 | QP9: =$QP$4 -> 19 | QQ9: =$QQ$4 -> 17 | QR9: =$QR$4 -> 18 | QS9: =$QS$4 -> 19 | RJ9: =Stammdaten!$BR$8 -> 33 | RL9: 33 | TW9: =$TW$4 -> 20 | TX9: =$TX$4 -> 21 | TY9: =$TY$4 -> 22 | TZ9: =$TZ$4 -> 23 | UA9: =$UA$4 -> 24 | WT9: =$WT$4 -> 20 | WU9: =$WU$4 -> 21 | WV9: =$WV$4 -> 22 | WW9: =$WW$4 -> 23 | WX9: =$WX$4 -> 24 | WY9: =$WY$4 -> 20 | WZ9: =$WZ$4 -> 21 | XA9: =$XA$4 -> 22 | XB9: =$XB$4 -> 23 | XC9: =$XC$4 -> 24 | XK9: =Stammdaten!$BR$9 -> 34 | XL9: =Stammdaten!$BR$9 -> 34 | XM9: =Stammdaten!$BR$9 -> 34 | XN9: =Stammdaten!$BR$9 -> 34 | XO9: =Stammdaten!$BR$9 -> 34 | XW9: 34 | YG9: =Stammdaten!$L$40 -> 35 | YH9: =Stammdaten!$BR$6 -> 31 | YI9: =Stammdaten!$BR$7 -> 32 | YJ9: =Stammdaten!$BR$8 -> 33 | YK9: =Stammdaten!$BR$9 -> 34 | AAF9: =$AAF$3 -> 3 | AAH9: =$AAF$3 -> 3 | AAJ9: =$AAF$3 -> 3 | AAL9: =$AAL$3 -> 4 | AAN9: =$AAL$3 -> 4 | AAP9: =$AAL$3 -> 4 | ABP9: =$ABP$3 -> 1 | ABR9: =$ABP$3 -> 1 | ABT9: =$ABP$3 -> 1 | ABV9: =$ABV$3 -> 2 | ABX9: =$ABV$3 -> 2 | ABZ9: =$ABV$3 -> 2
A10: =Stammdaten!$CB$28 -> Bed. F. | B10: =Stammdaten!$BZ$5&" konsolidiert" -> Disziplin konsolidiert | G10: =IF(G$9<>"",G$9,G$8) -> 1 | H10: =IF(H$9<>"",H$9,H$8) -> 1 | I10: =IF(I$9<>"",I$9,I$8) -> 1 | J10: =IF(J$9<>"",J$9,J$8) -> 1 | K10: =IF(K$9<>"",K$9,K$8) -> 1 | L10: =IF(L$9<>"",L$9,L$8) -> 1 | M10: =IF(M$9<>"",M$9,M$8) -> 1 | N10: =IF(N$9<>"",N$9,N$8) -> 1 | ... ACM10: =IF(ACM$9<>"",ACM$9,ACM$8) -> 29
A11: =Stammdaten!$CB$28 -> Bed. F. | B11: =Stammdaten!$BU$17&Stammdaten!$BZ$35 -> Anzahl Stellen | E11: =Stammdaten!$AV$4 -> StdDisziplinen[Res_Code] | G11: {=IFERROR(INDEX(INDIRECT(REPLACE($E$11,FIND("[",$E$11,1)+1,3,G$7)),G$10),"")} | H11: {=IFERROR(INDEX(INDIRECT(REPLACE($E$11,FIND("[",$E$11,1)+1,3,H$7)),H$10),"")} -> 2 | I11: {=IFERROR(INDEX(INDIRECT(REPLACE($E$11,FIND("[",$E$11,1)+1,3,I$7)),I$10),"")} | J11: {=IFERROR(INDEX(INDIRECT(REPLACE($E$11,FIND("[",$E$11,1)+1,3,J$7)),J$10),"")} | K11: {=IFERROR(INDEX(INDIRECT(REPLACE($E$11,FIND("[",$E$11,1)+1,3,K$7)),K$10),"")} -> 2 | L11: {=IFERROR(INDEX(INDIRECT(REPLACE($E$11,FIND("[",$E$11,1)+1,3,L$7)),L$10),"")} | M11: {=IFERROR(INDEX(INDIRECT(REPLACE($E$11,FIND("[",$E$11,1)+1,3,M$7)),M$10),"")} | N11: {=IFERROR(INDEX(INDIRECT(REPLACE($E$11,FIND("[",$E$11,1)+1,3,N$7)),N$10),"")} -> 2 | ... ACM11: {=IFERROR(INDEX(INDIRECT(REPLACE($E$11,FIND("[",$E$11,1)+1,3,ACM$7)),ACM$10),"")} -> 1
A12: =Stammdaten!$CB$28 -> Bed. F. | B12: =Stammdaten!$CA$28&" "&Stammdaten!$W$2&"/"&Stammdaten!$V$2 -> Zusatzformat Eingabe/Resultat | G12: =IF(G$7=Stammdaten!$W$1,LEFT(G$25,1)&G$7,IF(G$7=Stammdaten!$V$1,LEFT(F$25,1)&G$7,"")) -> 2Ein | H12: =IF(H$7=Stammdaten!$W$1,LEFT(H$25,1)&H$7,IF(H$7=Stammdaten!$V$1,LEFT(G$25,1)&H$7,"")) -> 2Res | I12: =IF(I$7=Stammdaten!$W$1,LEFT(I$25,1)&I$7,IF(I$7=Stammdaten!$V$1,LEFT(H$25,1)&I$7,"")) | J12: =IF(J$7=Stammdaten!$W$1,LEFT(J$25,1)&J$7,IF(J$7=Stammdaten!$V$1,LEFT(I$25,1)&J$7,"")) | K12: =IF(K$7=Stammdaten!$W$1,LEFT(K$25,1)&K$7,IF(K$7=Stammdaten!$V$1,LEFT(J$25,1)&K$7,"")) | L12: =IF(L$7=Stammdaten!$W$1,LEFT(L$25,1)&L$7,IF(L$7=Stammdaten!$V$1,LEFT(K$25,1)&L$7,"")) | M12: =IF(M$7=Stammdaten!$W$1,LEFT(M$25,1)&M$7,IF(M$7=Stammdaten!$V$1,LEFT(L$25,1)&M$7,"")) | N12: =IF(N$7=Stammdaten!$W$1,LEFT(N$25,1)&N$7,IF(N$7=Stammdaten!$V$1,LEFT(M$25,1)&N$7,"")) | ... ZJ12: =IF(ZJ$7=Stammdaten!$W$1,LEFT(ZJ$25,1)&ZJ$7,IF(ZJ$7=Stammdaten!$V$1,LEFT(ZI$25,1)&ZJ$7,"")) | ZK12: =LEFT(_Stufe_Glei,1)&"Ein" -> 2Ein | ZL12: =IF(ZL$7=Stammdaten!$W$1,LEFT(ZL$25,1)&ZL$7,IF(ZL$7=Stammdaten!$V$1,LEFT(ZK$25,1)&ZL$7,"")) | ZM12: =LEFT(_Stufe_Schw,1)&"Ein" -> 2Ein | ZN12: =IF(ZN$7=Stammdaten!$W$1,LEFT(ZN$25,1)&ZN$7,IF(ZN$7=Stammdaten!$V$1,LEFT(ZM$25,1)&ZN$7,"")) -> 2Res | ZO12: =IF(ZO$7=Stammdaten!$W$1,LEFT(#REF!,1)&ZO$7,IF(ZO$7=Stammdaten!$V$1,LEFT(ZN$25,1)&ZO$7,"")) | ZP12: =IF(ZP$7=Stammdaten!$W$1,LEFT(ZO$25,1)&ZP$7,IF(ZP$7=Stammdaten!$V$1,LEFT(#REF!,1)&ZP$7,"")) | ZQ12: =IF(ZQ$7=Stammdaten!$W$1,LEFT(ZQ$25,1)&ZQ$7,IF(ZQ$7=Stammdaten!$V$1,LEFT(ZO$25,1)&ZQ$7,"")) | ZR12: =LEFT(_Stufe_Schw,1)&"Ein" -> 2Ein | ZS12: =LEFT(_Stufe_Schw,1)&"Res" -> 2Res | ZT12: =IF(ZT$7=Stammdaten!$W$1,LEFT(ZT$25,1)&ZT$7,IF(ZT$7=Stammdaten!$V$1,LEFT(ZS$25,1)&ZT$7,"")) | ZU12: =IF(ZU$7=Stammdaten!$W$1,LEFT(ZU$25,1)&ZU$7,IF(ZU$7=Stammdaten!$V$1,LEFT(ZT$25,1)&ZU$7,"")) | ZV12: =IF(ZV$7=Stammdaten!$W$1,LEFT(ZV$25,1)&ZV$7,IF(ZV$7=Stammdaten!$V$1,LEFT(ZU$25,1)&ZV$7,"")) | ZW12: =IF(ZW$7=Stammdaten!$W$1,LEFT(ZW$25,1)&ZW$7,IF(ZW$7=Stammdaten!$V$1,LEFT(ZV$25,1)&ZW$7,"")) | ZX12: =IF(ZX$7=Stammdaten!$W$1,LEFT(ZX$25,1)&ZX$7,IF(ZX$7=Stammdaten!$V$1,LEFT(ZW$25,1)&ZX$7,"")) | ZY12: =IF(ZY$7=Stammdaten!$W$1,LEFT(ZY$25,1)&ZY$7,IF(ZY$7=Stammdaten!$V$1,LEFT(ZX$25,1)&ZY$7,"")) | ZZ12: =IF(ZZ$7=Stammdaten!$W$1,LEFT(ZZ$25,1)&ZZ$7,IF(ZZ$7=Stammdaten!$V$1,LEFT(ZY$25,1)&ZZ$7,"")) | AAA12: =IF(AAA$7=Stammdaten!$W$1,LEFT(AAA$25,1)&AAA$7,IF(AAA$7=Stammdaten!$V$1,LEFT(ZZ$25,1)&AAA$7,"")) | ... ACM12: =IF(ACM$7=Stammdaten!$W$1,LEFT(ACM$25,1)&ACM$7,IF(ACM$7=Stammdaten!$V$1,LEFT(ACL$25,1)&ACM$7,""))
A13: =Stammdaten!$CA$16&" (Spaltenindizes)" -> Diplomsteuerung (Spaltenindizes) | G13: =IF(ISERROR(FIND(Stammdaten!$BZ$26,G$20,1)),"",COLUMN()) | H13: =IF(ISERROR(FIND(Stammdaten!$BZ$26,H$20,1)),"",COLUMN()) | I13: =IF(ISERROR(FIND(Stammdaten!$BZ$26,I$20,1)),"",COLUMN()) | J13: =IF(ISERROR(FIND(Stammdaten!$BZ$26,J$20,1)),"",COLUMN()) | K13: =IF(ISERROR(FIND(Stammdaten!$BZ$26,K$20,1)),"",COLUMN()) | L13: =IF(ISERROR(FIND(Stammdaten!$BZ$26,L$20,1)),"",COLUMN()) | M13: =IF(ISERROR(FIND(Stammdaten!$BZ$26,M$20,1)),"",COLUMN()) | N13: =IF(ISERROR(FIND(Stammdaten!$BZ$26,N$20,1)),"",COLUMN()) | ... ACM13: =IF(ISERROR(FIND(Stammdaten!$BZ$26,ACM$20,1)),"",COLUMN())
B15: S C H U L S P O R T P R Ü F U N G NW OW SZ UR | ZH15: F A K U L T A T I V
C16: Name: | E16: Vorname: | G16: {=INDEX(StdBS[Titelanzeige],G$1)} -> BS.1 Laufen, Springen, Werfen | HP16: {=INDEX(StdBS[Titelanzeige],HP$1)} -> BS.2 Bewegen an Geräten | PC16: {=INDEX(StdBS[Titelanzeige],PC$1)} -> BS.3 Darstellen und Tanzen | RN16: {=INDEX(StdBS[Titelanzeige],RN$1)} -> BS.4 Spielen | XY16: =Stammdaten!$BM$6 -> BS.1 | XZ16: =Stammdaten!$BM$7 -> BS.2 | YA16: =Stammdaten!$BM$8 -> BS.3 | YB16: =Stammdaten!$BM$9 -> BS.4 | YC16: =Stammdaten!$CB$27 -> Gesamtauswertung | YV16: =Stammdaten!$CC$27 -> Gesamtnote | ZH16: {=INDEX(StdBS[Titelanzeige],ZH$1)} -> BS.5 Gleiten, Rollen, Fahren | ZM16: {=INDEX(StdBS[Titelanzeige],ZM$1)} -> BS.6 Bewegen im Wasser | AAF16: {=INDEX(StdDisziplinen[Fit0],AAF$1)&" "&INDEX(StdFit[StdFit2],$AAF$1)} -> FIT Allgemeine Fitness
B17: Lehrperson: | G17: {=INDEX(StdGruppe[StdGruppe],G$2)} -> Sprintdisziplinen | AE17: {=INDEX(StdGruppe[StdGruppe],AE$2)} -> Ausdauerdisziplinen | BC17: {=INDEX(StdGruppe[StdGruppe],BC$2)} -> Sprungdisziplinen | CA17: {=INDEX(StdGruppe[StdGruppe],CA$2)} -> Wurfdisziplinen | DK17: {=INDEX(StdGruppe[StdGruppe],DK$2)} -> Sprintdisziplinen | EF17: {=INDEX(StdGruppe[StdGruppe],EF$2)} -> Ausdauerdisziplinen | FA17: {=INDEX(StdGruppe[StdGruppe],FA$2)} -> Sprungdisziplinen | FV17: {=INDEX(StdGruppe[StdGruppe],FV$2)} -> Wurfdisziplinen | GS17: =Stammdaten!$BZ$21 -> Positionen | GW17: ∑ | HA17: =Stammdaten!$BZ$22 -> Durchschnitt | HC17: =Stammdaten!$CA$9 -> Erstellung Textanzeige | HH17: =Stammdaten!$CC$16 -> Durchschnitt-steuerung | HL17: =Stammdaten!$CC$22 -> In den Durchschnitt eingehende Noten | HP17: {=INDEX(StdGruppe[StdGruppe],HP$2)} -> Geräteturnen | NG17: {=INDEX(StdDisziplinen[StdDisziplin],NG$3)} -> Parkour | NT17: {=INDEX(INDIRECT(Stammdaten!$BN$4),NT$2)} -> Bewegen an Geräten | NX17: {=INDEX(INDIRECT(Stammdaten!$R$4),NU$4)} -> Parkour | OJ17: =Stammdaten!$BZ$21 -> Positionen | OL17: ∑ | OP17: =Stammdaten!$BZ$22 -> Durchschnitt | OR17: =Stammdaten!$CA$9 -> Erstellung Textanzeige | OU17: =Stammdaten!$CC$16 -> Durchschnitt-steuerung | OY17: =Stammdaten!$CC$22 -> In den Durchschnitt eingehende Noten | PC17: {=INDEX(StdDisziplinen[StdDisziplin],PC$3)} -> Tanzen | PO17: {=INDEX(StdDisziplinen[StdDisziplin],PO$3)} -> Rope-Skipping | QB17: {=INDEX(StdDisziplinen[StdDisziplin],QB$3)} -> Aerobic | QN17: {=INDEX(INDIRECT(Stammdaten!$BN$4),QN$2)} -> Darstellen und Tanzen | RN17: {=INDEX(StdDisziplinen[StdDisziplin],RN$3)} -> Basketball | RZ17: {=INDEX(StdDisziplinen[StdDisziplin],RZ$3)} -> Fussball | SL17: {=INDEX(StdDisziplinen[StdDisziplin],SL$3)} -> Handball | SX17: {=INDEX(StdDisziplinen[StdDisziplin],SX$3)} -> Unihockey | TJ17: {=INDEX(StdDisziplinen[StdDisziplin],TJ$3)} -> Volleyball | TW17: {=INDEX(INDIRECT(Stammdaten!$BN$4),WT$2)} -> Spielen | XK17: =Stammdaten!$BZ$22 -> Durchschnitt | XM17: =Stammdaten!$CA$9 -> Erstellung Textanzeige | XQ17: =Stammdaten!$CC$16 -> Durchschnitt-steuerung | XU17: =Stammdaten!$CC$22 -> In den Durchschnitt eingehende Noten | XY17: =Stammdaten!$BZ$21 -> Positionen | YC17: ∑ | YG17: =Stammdaten!$BZ$22 -> Durchschnitt | YH17: =Stammdaten!$CA$9 -> Erstellung Textanzeige | YM17: =Stammdaten!$CB$16 -> Ampel-steuerung | YQ17: =Stammdaten!$CC$16 -> Durchschnitt-steuerung | YV17: =Stammdaten!$BM$6 -> BS.1 | YX17: =Stammdaten!$BM$7 -> BS.2 | YZ17: =Stammdaten!$BM$8 -> BS.3 | ZB17: =Stammdaten!$BM$9 -> BS.4 | ZD17: =Stammdaten!$CC$22 -> In den Durchschnitt eingehende Noten | ZH17: – Wenn die ganze Klasse dieselbe Disziplin absolviert hat, Disziplin im obersten Feld eintragen: leere Zeile auswählen und Disziplin eintragen – Zeile je Schüler/-in: Disziplin auswählen oder leere Zeile auswählen und individuelle Disziplin eintragen | ZM17: {=INDEX(StdDisziplinen[StdDisziplin],ZM$3)} -> Schwimmen | AAF17: {=INDEX(StdDisziplinen[Fit1],$AAF$1)} -> Fit-Check | ACB17: {=INDEX(StdDisziplinen[StdDisziplin],ACB$3)} -> Konditionsparcours
B18: Schulgemeinde: | C18: Beckenried | E18: Bitte diese Resultatmappe | G18: {=INDEX(StdDisziplinen[StdDisziplin],G$3)} -> 60-m-Lauf | S18: {=INDEX(StdDisziplinen[StdDisziplin],S$3)} -> 80-m-Lauf | AE18: {=INDEX(StdDisziplinen[StdDisziplin],AE$3)} -> 12-Min.-Lauf (Halle) | AQ18: {=INDEX(StdDisziplinen[StdDisziplin],AQ$3)} -> 12-Min.-Lauf (im Freien) | BC18: {=INDEX(StdDisziplinen[StdDisziplin],BC$3)} -> Hochsprung | BO18: {=INDEX(StdDisziplinen[StdDisziplin],BO$3)} -> Weitsprung | CA18: {=INDEX(StdDisziplinen[StdDisziplin],CA$3)} -> Ballwurf | CM18: {=INDEX(StdDisziplinen[StdDisziplin],CM$3)} -> Kugelstossen | CY18: {=INDEX(StdDisziplinen[StdDisziplin],CY$3)} -> Speerwurf | DK18: =Stammdaten!$AB$2 -> Skalawert | DM18: =Stammdaten!$CA$13 -> Zwischenergebnis | DO18: =Stammdaten!$BZ$13&CHAR(10)&Stammdaten!$CA$14 -> Ergebnis (beste Note) | DQ18: =Stammdaten!$BZ$11 -> Anz. | DR18: =Stammdaten!$BZ$11 -> Anz. | DS18: =Stammdaten!$CA$11 -> Anz. ok | DT18: =Stammdaten!$CA$16 -> Diplomsteuerung | EF18: =Stammdaten!$AB$2 -> Skalawert | EH18: =Stammdaten!$CA$13 -> Zwischenergebnis | EJ18: =Stammdaten!$BZ$13&CHAR(10)&Stammdaten!$CA$14 -> Ergebnis (beste Note) | EL18: =Stammdaten!$BZ$11 -> Anz. | EM18: =Stammdaten!$BZ$11 -> Anz. | EN18: =Stammdaten!$CA$11 -> Anz. ok | EO18: =Stammdaten!$CA$16 -> Diplomsteuerung | FA18: =Stammdaten!$AB$2 -> Skalawert | FC18: =Stammdaten!$CA$13 -> Zwischenergebnis | FE18: =Stammdaten!$BZ$13&CHAR(10)&Stammdaten!$CA$14 -> Ergebnis (beste Note) | FG18: =Stammdaten!$BZ$11 -> Anz. | FH18: =Stammdaten!$BZ$11 -> Anz. | FI18: =Stammdaten!$CA$11 -> Anz. ok | FJ18: =Stammdaten!$CA$16 -> Diplomsteuerung | FV18: =Stammdaten!$AB$2 -> Skalawert | FY18: =Stammdaten!$CA$13 -> Zwischenergebnis | GB18: =Stammdaten!$BZ$13&CHAR(10)&Stammdaten!$CA$14 -> Ergebnis (beste Note) | GD18: =Stammdaten!$BZ$11 -> Anz. | GE18: =Stammdaten!$BZ$11 -> Anz. | GF18: =Stammdaten!$CA$11 -> Anz. ok | GG18: =Stammdaten!$CA$16 -> Diplomsteuerung | GX18: =Stammdaten!$BZ$11 -> Anz. | GY18: =Stammdaten!$BZ$11 -> Anz. | GZ18: =Stammdaten!$CA$11 -> Anz. ok | HB18: =Stammdaten!$BZ$22 -> Durchschnitt | HN18: Ø | HP18: {=INDEX(StdDisziplinen[StdDisziplin],HP$3)} -> Reck | HY18: {=INDEX(StdDisziplinen[StdDisziplin],HY$3)} -> Boden | IH18: {=INDEX(StdDisziplinen[StdDisziplin],IH$3)} -> Stufenbarren | IQ18: {=INDEX(StdDisziplinen[StdDisziplin],IQ$3)} -> Parallelbarren | IZ18: {=INDEX(StdDisziplinen[StdDisziplin],IZ$3)} -> Schaukelringe | JI18: {=INDEX(StdDisziplinen[StdDisziplin],JI$3)} -> Sprung | JR18: =Stammdaten!$CA$25 -> Punktwerte | JX18: =Stammdaten!$CB$23 -> Max. | KA18: =Stammdaten!$BZ$8 -> Bei Gleichheit | KM18: =Stammdaten!$CA$21 -> Fehlpositionen | KP18: =Stammdaten!$CA$3 -> Dispensationen | KV18: =Stammdaten!$CC$25 -> Nullwerte | LB18: =Stammdaten!$CB$24 -> Auswertung | LH18: =Stammdaten!$CA$16 -> Diplomsteuerung | LT18: =Stammdaten!$CA$16 -> Diplomsteuerung | MF18: =Stammdaten!$CA$16 -> Diplomsteuerung | MR18: =Stammdaten!$CB$23 -> Max. | MS18: =Stammdaten!$BZ$11 -> Anz. | MT18: =Stammdaten!$BZ$11 -> Anz. | MU18: =Stammdaten!$BZ$11 -> Anz. | MV18: =Stammdaten!$CA$11 -> Anz. ok | MW18: =Stammdaten!$CA$27&CHAR(10)&Stammdaten!$O$41&CHAR(10)&Stammdaten!$BZ$6 -> Gesamtpunkte Geräteturnen (gerundet) | MY18: =Stammdaten!$CB$24&CHAR(10)&Stammdaten!$O$41 -> Auswertung Geräteturnen | NT18: =Stammdaten!$AB$2 -> Skalawert | NV18: =Stammdaten!$CA$13 -> Zwischenergebnis | NX18: =Stammdaten!$CA$16 -> Diplomsteuerung | OM18: =Stammdaten!$BZ$11 -> Anz. | ON18: =Stammdaten!$BZ$11 -> Anz. | OO18: =Stammdaten!$CA$11 -> Anz. ok | OQ18: =Stammdaten!$BZ$22 -> Durchschnitt | PA18: Ø | QN18: =Stammdaten!$AB$2 -> Skalawert | QQ18: =Stammdaten!$CA$13 -> Zwischenergebnis | QT18: =Stammdaten!$BZ$13&CHAR(10)&Stammdaten!$CA$14 -> Ergebnis (beste Note) | QU18: =Stammdaten!$BZ$11 -> Anz. | QV18: =Stammdaten!$BZ$11 -> Anz. | QW18: =Stammdaten!$CA$11 -> Anz. ok | QX18: =Stammdaten!$CA$16 -> Diplomsteuerung | RJ18: =Stammdaten!$BZ$22 -> Durchschnitt | RL18: =Stammdaten!$CB$14 -> Beste Note | TW18: =Stammdaten!$CB$25 -> Notenwerte | UB18: =Stammdaten!$CB$23 -> Max. | UE18: =Stammdaten!$BZ$8 -> Bei Gleichheit | UQ18: =Stammdaten!$CA$21 -> Fehlpositionen | UT18: =Stammdaten!$CA$3 -> Dispensationen | UY18: =Stammdaten!$CC$25 -> Nullwerte | VD18: =Stammdaten!$CB$24 -> Auswertung | VJ18: =Stammdaten!$CA$16 -> Diplomsteuerung | VV18: =Stammdaten!$CA$16 -> Diplomsteuerung | WH18: =Stammdaten!$CA$16 -> Diplomsteuerung | WT18: =Stammdaten!$AB$2 -> Skalawert | WY18: =Stammdaten!$CA$13 -> Zwischenergebnis | XD18: 1 | XE18: 2 | XF18: 3 | XG18: =Stammdaten!$CB$23 -> Max. | XH18: =Stammdaten!$BZ$11 -> Anz. | XI18: =Stammdaten!$BZ$11 -> Anz. | XJ18: =Stammdaten!$CA$11 -> Anz. ok | XL18: =Stammdaten!$BZ$22 -> Durchschnitt | XW18: Ø | YD18: =Stammdaten!$BZ$11 -> Anz. | YE18: =Stammdaten!$BZ$11 -> Anz. | YF18: =Stammdaten!$CA$11 -> Anz. ok | ZF18: =Stammdaten!$BZ$22 -> Durchschnitt | AAF18: {=INDEX(StdDisziplinen[Fähigkeit],AAF$2)} -> Ausdauer | AAR18: {=INDEX(StdDisziplinen[Fähigkeit],AAR$2)} -> Beweglichkeit | ABD18: {=INDEX(StdDisziplinen[Fähigkeit],ABD$2)} -> Rumpfkraft | ABP18: {=INDEX(StdDisziplinen[Fähigkeit],ABP$2)} -> Schnelligkeit
